BEGIN:VCALENDAR
VERSION:2.0
PRODID:-//Covenant Presbyterian Church - ECPv6.15.17//NONSGML v1.0//EN
CALSCALE:GREGORIAN
METHOD:PUBLISH
X-WR-CALNAME:Covenant Presbyterian Church
X-ORIGINAL-URL:https://mycovenantpc.com
X-WR-CALDESC:Events for Covenant Presbyterian Church
REFRESH-INTERVAL;VALUE=DURATION:PT1H
X-Robots-Tag:noindex
X-PUBLISHED-TTL:PT1H
BEGIN:VTIMEZONE
TZID:America/New_York
BEGIN:DAYLIGHT
TZOFFSETFROM:-0500
TZOFFSETTO:-0400
TZNAME:EDT
DTSTART:20240310T070000
END:DAYLIGHT
BEGIN:STANDARD
TZOFFSETFROM:-0400
TZOFFSETTO:-0500
TZNAME:EST
DTSTART:20241103T060000
END:STANDARD
BEGIN:DAYLIGHT
TZOFFSETFROM:-0500
TZOFFSETTO:-0400
TZNAME:EDT
DTSTART:20250309T070000
END:DAYLIGHT
BEGIN:STANDARD
TZOFFSETFROM:-0400
TZOFFSETTO:-0500
TZNAME:EST
DTSTART:20251102T060000
END:STANDARD
BEGIN:DAYLIGHT
TZOFFSETFROM:-0500
TZOFFSETTO:-0400
TZNAME:EDT
DTSTART:20260308T070000
END:DAYLIGHT
BEGIN:STANDARD
TZOFFSETFROM:-0400
TZOFFSETTO:-0500
TZNAME:EST
DTSTART:20261101T060000
END:STANDARD
END:VTIMEZONE
BEGIN:VEVENT
DTSTART;TZID=America/New_York:20251003T160000
DTEND;TZID=America/New_York:20251004T170000
DTSTAMP:20260424T021019
CREATED:20250907T225849Z
LAST-MODIFIED:20250907T225913Z
UID:10002842-1759507200-1759597200@mycovenantpc.com
SUMMARY:High School Fall Retreat
DESCRIPTION:The weather this week has me very excited for our upcoming High School Fall Retreat! I hope the students are excited to be in the mountains in the fall! Here are the details for the retreat…\n\nDetails\n\n\nWhen: October 3rd-4th\, 2026\nWhere: Bonclarken Conference Center\, 500 Pine Dr\, Flat Rock\, NC 28731\nWho: the youth group of Redeemer Presbyterian and Eastside Presbyterian\nSpeaker: Joe Nichols\, Director of Student Ministries at Eastern Shore PCA in Alabama. He will be talking about righteous relationships with the high schoolers!\nCost: $100\, this includes housing\, transportation\, meals\, snacks\, and a retreat shirt!\nDeadline to register: September 18th \nFor fun this year\, we will be stopping by SkyTop Orchard on the way home!
URL:https://mycovenantpc.com/event/high-school-fall-retreat/
ATTACH;FMTTYPE=image/png:https://mycovenantpc.com/wp-content/uploads/2025/09/HS-Fall-Retreat.png
END:VEVENT
END:VCALENDAR