BEGIN:VCALENDAR
VERSION:2.0
PRODID:-//Covenant Presbyterian Church - ECPv6.15.17//NONSGML v1.0//EN
CALSCALE:GREGORIAN
METHOD:PUBLISH
X-WR-CALNAME:Covenant Presbyterian Church
X-ORIGINAL-URL:https://mycovenantpc.com
X-WR-CALDESC:Events for Covenant Presbyterian Church
REFRESH-INTERVAL;VALUE=DURATION:PT1H
X-Robots-Tag:noindex
X-PUBLISHED-TTL:PT1H
BEGIN:VTIMEZONE
TZID:America/New_York
BEGIN:DAYLIGHT
TZOFFSETFROM:-0500
TZOFFSETTO:-0400
TZNAME:EDT
DTSTART:20250309T070000
END:DAYLIGHT
BEGIN:STANDARD
TZOFFSETFROM:-0400
TZOFFSETTO:-0500
TZNAME:EST
DTSTART:20251102T060000
END:STANDARD
BEGIN:DAYLIGHT
TZOFFSETFROM:-0500
TZOFFSETTO:-0400
TZNAME:EDT
DTSTART:20260308T070000
END:DAYLIGHT
BEGIN:STANDARD
TZOFFSETFROM:-0400
TZOFFSETTO:-0500
TZNAME:EST
DTSTART:20261101T060000
END:STANDARD
BEGIN:DAYLIGHT
TZOFFSETFROM:-0500
TZOFFSETTO:-0400
TZNAME:EDT
DTSTART:20270314T070000
END:DAYLIGHT
BEGIN:STANDARD
TZOFFSETFROM:-0400
TZOFFSETTO:-0500
TZNAME:EST
DTSTART:20271107T060000
END:STANDARD
END:VTIMEZONE
BEGIN:VEVENT
DTSTART;TZID=America/New_York:20260401T073000
DTEND;TZID=America/New_York:20260401T083000
DTSTAMP:20260423T160335
CREATED:20260310T174455Z
LAST-MODIFIED:20260415T162156Z
UID:10003469-1775028600-1775032200@mycovenantpc.com
SUMMARY:R.O.M.E.O- Breakfast at IHOP
DESCRIPTION:Reformed Old Men Eating Out invites you together with them at IHOP in Easley. \nYou don’t have to be “old”\, you can be young at heart\, young in age\, or just a hungry man. See you there for a cup of Joe and good conversation. \nAddress: IHOP 6525 Calhoun Memorial Hwy #6525A\, Easley\, SC 29640
URL:https://mycovenantpc.com/event/r-o-m-e-o-breakfast-at-ihop/2026-04-01/
END:VEVENT
BEGIN:VEVENT
DTSTART;TZID=America/New_York:20260401T093000
DTEND;TZID=America/New_York:20260401T123000
DTSTAMP:20260423T160335
CREATED:20250907T225318Z
LAST-MODIFIED:20260114T182904Z
UID:10002871-1775035800-1775046600@mycovenantpc.com
SUMMARY:Ladies Creative Club
DESCRIPTION:Come as you have time\, bring whatever project you are working on\, and enjoy a group creative space. \nGod made us with so many gifts and talents. \nCovenant Life Center\, Agape Room. \nLed by Kelly Freeman
URL:https://mycovenantpc.com/event/ladies-creative-club-2/2026-04-01/
ATTACH;FMTTYPE=image/png:https://mycovenantpc.com/wp-content/uploads/2025/09/Creative-Club-2025.png
END:VEVENT
BEGIN:VEVENT
DTSTART;TZID=America/New_York:20260401T173000
DTEND;TZID=America/New_York:20260401T190000
DTSTAMP:20260423T160335
CREATED:20260310T172959Z
LAST-MODIFIED:20260310T172959Z
UID:10003467-1775064600-1775070000@mycovenantpc.com
SUMMARY:Spring Picnic
DESCRIPTION:
URL:https://mycovenantpc.com/event/spring-picnic/
ATTACH;FMTTYPE=image/png:https://mycovenantpc.com/wp-content/uploads/2026/03/2026-spring-picnic.png
END:VEVENT
BEGIN:VEVENT
DTSTART;TZID=America/New_York:20260401T183000
DTEND;TZID=America/New_York:20260401T193000
DTSTAMP:20260423T160335
CREATED:20260310T173214Z
LAST-MODIFIED:20260310T173215Z
UID:10003468-1775068200-1775071800@mycovenantpc.com
SUMMARY:Fundraiser for Missions- Cake Auction
DESCRIPTION:Everyone\, please join us for this fun evening! We will have a covered-dish dinner at 6 pm\, followed by a Sweet Treats Bake Auction for Missions. The money raised from auctioning off baked goods supports our summer mission trips to West Virginia and Belize. If you are able to provide baked goods- cookies\, pies\, cakes\, etc.- please register your items using the black button above. Thank you in advance! \nSpring Picnic- Wednesday\, April 1st \n5:30- Bible Story and Egg Hunt for children 0-5th grade \n6:00- Covered Dish Picnic in the LIFE Center and on the grounds \n6:30- Sweet Treats Bake Auction for Missions
URL:https://mycovenantpc.com/event/fundraiser-for-missions-cake-auction/
ATTACH;FMTTYPE=image/png:https://mycovenantpc.com/wp-content/uploads/2026/03/Cake-Auction.png
END:VEVENT
END:VCALENDAR