BEGIN:VCALENDAR
VERSION:2.0
PRODID:-//Covenant Presbyterian Church - ECPv6.15.17//NONSGML v1.0//EN
CALSCALE:GREGORIAN
METHOD:PUBLISH
X-ORIGINAL-URL:https://mycovenantpc.com
X-WR-CALDESC:Events for Covenant Presbyterian Church
REFRESH-INTERVAL;VALUE=DURATION:PT1H
X-Robots-Tag:noindex
X-PUBLISHED-TTL:PT1H
BEGIN:VTIMEZONE
TZID:America/New_York
BEGIN:DAYLIGHT
TZOFFSETFROM:-0500
TZOFFSETTO:-0400
TZNAME:EDT
DTSTART:20250309T070000
END:DAYLIGHT
BEGIN:STANDARD
TZOFFSETFROM:-0400
TZOFFSETTO:-0500
TZNAME:EST
DTSTART:20251102T060000
END:STANDARD
BEGIN:DAYLIGHT
TZOFFSETFROM:-0500
TZOFFSETTO:-0400
TZNAME:EDT
DTSTART:20260308T070000
END:DAYLIGHT
BEGIN:STANDARD
TZOFFSETFROM:-0400
TZOFFSETTO:-0500
TZNAME:EST
DTSTART:20261101T060000
END:STANDARD
BEGIN:DAYLIGHT
TZOFFSETFROM:-0500
TZOFFSETTO:-0400
TZNAME:EDT
DTSTART:20270314T070000
END:DAYLIGHT
BEGIN:STANDARD
TZOFFSETFROM:-0400
TZOFFSETTO:-0500
TZNAME:EST
DTSTART:20271107T060000
END:STANDARD
END:VTIMEZONE
BEGIN:VEVENT
DTSTART;TZID=America/New_York:20260509T100000
DTEND;TZID=America/New_York:20260509T120000
DTSTAMP:20260423T174750
CREATED:20260415T172209Z
LAST-MODIFIED:20260415T172209Z
UID:10003801-1778320800-1778328000@mycovenantpc.com
SUMMARY:Ladies’ Tea Party
DESCRIPTION:You are Cordially Invited To A… Ladies Tea Party \nJoin us for a special Ladies’ Tea as we celebrate God’s abundant blessings and friendship. \nBring your favorite teacup and treats to share.\nRSVP\, and we will set a place for you!
URL:https://mycovenantpc.com/event/ladies-tea-party/
ATTACH;FMTTYPE=image/png:https://mycovenantpc.com/wp-content/uploads/2026/04/2026-Ladies-Tea.png
END:VEVENT
BEGIN:VEVENT
DTSTART;TZID=America/New_York:20260509T170000
DTEND;TZID=America/New_York:20260509T190000
DTSTAMP:20260423T174750
CREATED:20260310T172257Z
LAST-MODIFIED:20260310T172259Z
UID:10003399-1778346000-1778353200@mycovenantpc.com
SUMMARY:Young Professionals  Monthly Dinner
DESCRIPTION:
URL:https://mycovenantpc.com/event/college-career-monthly-dinner-2/2026-05-09/
END:VEVENT
END:VCALENDAR