BEGIN:VCALENDAR
VERSION:2.0
PRODID:-//Covenant Presbyterian Church - ECPv6.15.17//NONSGML v1.0//EN
CALSCALE:GREGORIAN
METHOD:PUBLISH
X-WR-CALNAME:Covenant Presbyterian Church
X-ORIGINAL-URL:https://mycovenantpc.com
X-WR-CALDESC:Events for Covenant Presbyterian Church
REFRESH-INTERVAL;VALUE=DURATION:PT1H
X-Robots-Tag:noindex
X-PUBLISHED-TTL:PT1H
BEGIN:VTIMEZONE
TZID:America/New_York
BEGIN:DAYLIGHT
TZOFFSETFROM:-0500
TZOFFSETTO:-0400
TZNAME:EDT
DTSTART:20250309T070000
END:DAYLIGHT
BEGIN:STANDARD
TZOFFSETFROM:-0400
TZOFFSETTO:-0500
TZNAME:EST
DTSTART:20251102T060000
END:STANDARD
BEGIN:DAYLIGHT
TZOFFSETFROM:-0500
TZOFFSETTO:-0400
TZNAME:EDT
DTSTART:20260308T070000
END:DAYLIGHT
BEGIN:STANDARD
TZOFFSETFROM:-0400
TZOFFSETTO:-0500
TZNAME:EST
DTSTART:20261101T060000
END:STANDARD
BEGIN:DAYLIGHT
TZOFFSETFROM:-0500
TZOFFSETTO:-0400
TZNAME:EDT
DTSTART:20270314T070000
END:DAYLIGHT
BEGIN:STANDARD
TZOFFSETFROM:-0400
TZOFFSETTO:-0500
TZNAME:EST
DTSTART:20271107T060000
END:STANDARD
END:VTIMEZONE
BEGIN:VEVENT
DTSTART;TZID=America/New_York:20260623T090000
DTEND;TZID=America/New_York:20260626T120000
DTSTAMP:20260423T191032
CREATED:20260114T183750Z
LAST-MODIFIED:20260114T183750Z
UID:10003201-1782205200-1782475200@mycovenantpc.com
SUMMARY:VBS
DESCRIPTION:More Info to come. \nRegistration open in May 2026
URL:https://mycovenantpc.com/event/vbs/
ATTACH;FMTTYPE=image/png:https://mycovenantpc.com/wp-content/uploads/2026/01/VBS-2026-STD.png
END:VEVENT
BEGIN:VEVENT
DTSTART;TZID=America/New_York:20260625T183000
DTEND;TZID=America/New_York:20260625T210000
DTSTAMP:20260423T191032
CREATED:20260415T171738Z
LAST-MODIFIED:20260415T171738Z
UID:10003739-1782412200-1782421200@mycovenantpc.com
SUMMARY:Men’s Open Gym
DESCRIPTION:Adult Men\, you are invited to come hang out\, play a game of pick-up basketball\, or whatever sport you’d like.
URL:https://mycovenantpc.com/event/mens-open-gym/2026-06-25/
END:VEVENT
END:VCALENDAR