BEGIN:VCALENDAR
VERSION:2.0
PRODID:-//Covenant Presbyterian Church - ECPv6.15.17//NONSGML v1.0//EN
CALSCALE:GREGORIAN
METHOD:PUBLISH
X-WR-CALNAME:Covenant Presbyterian Church
X-ORIGINAL-URL:https://mycovenantpc.com
X-WR-CALDESC:Events for Covenant Presbyterian Church
REFRESH-INTERVAL;VALUE=DURATION:PT1H
X-Robots-Tag:noindex
X-PUBLISHED-TTL:PT1H
BEGIN:VTIMEZONE
TZID:America/New_York
BEGIN:DAYLIGHT
TZOFFSETFROM:-0500
TZOFFSETTO:-0400
TZNAME:EDT
DTSTART:20250309T070000
END:DAYLIGHT
BEGIN:STANDARD
TZOFFSETFROM:-0400
TZOFFSETTO:-0500
TZNAME:EST
DTSTART:20251102T060000
END:STANDARD
BEGIN:DAYLIGHT
TZOFFSETFROM:-0500
TZOFFSETTO:-0400
TZNAME:EDT
DTSTART:20260308T070000
END:DAYLIGHT
BEGIN:STANDARD
TZOFFSETFROM:-0400
TZOFFSETTO:-0500
TZNAME:EST
DTSTART:20261101T060000
END:STANDARD
BEGIN:DAYLIGHT
TZOFFSETFROM:-0500
TZOFFSETTO:-0400
TZNAME:EDT
DTSTART:20270314T070000
END:DAYLIGHT
BEGIN:STANDARD
TZOFFSETFROM:-0400
TZOFFSETTO:-0500
TZNAME:EST
DTSTART:20271107T060000
END:STANDARD
END:VTIMEZONE
BEGIN:VEVENT
DTSTART;TZID=America/New_York:20260329T163000
DTEND;TZID=America/New_York:20260329T183000
DTSTAMP:20260423T193354
CREATED:20260114T181115Z
LAST-MODIFIED:20260415T162413Z
UID:10002858-1774801800-1774809000@mycovenantpc.com
SUMMARY:153 Untorn Nights
DESCRIPTION:4:30 p.m. 153 Untorn Middle & High School Youth Night  \n Drop off at the youth room\, main building. Pick up from the Life Center.
URL:https://mycovenantpc.com/event/153-untorn-nights/2026-03-29/
ATTACH;FMTTYPE=image/png:https://mycovenantpc.com/wp-content/uploads/2025/08/153Untorn-Nights-2025.png
END:VEVENT
BEGIN:VEVENT
DTSTART;TZID=America/New_York:20260329T093000
DTEND;TZID=America/New_York:20260329T110000
DTSTAMP:20260423T193354
CREATED:20250819T031730Z
LAST-MODIFIED:20260310T172531Z
UID:10002468-1774776600-1774782000@mycovenantpc.com
SUMMARY:Sunday Morning
DESCRIPTION:Sunday Morning: \n9:30 a.m.-Worship \n10:45 a.m.- Refuel Coffee \n11:00 a.m.-Sunday Studies for All Ages
URL:https://mycovenantpc.com/event/sunday-morning-evening/2026-03-29/
ATTACH;FMTTYPE=image/webp:https://mycovenantpc.com/wp-content/uploads/2025/08/Sunday-Mornings.webp
END:VEVENT
BEGIN:VEVENT
DTSTART;TZID=America/New_York:20260323T190000
DTEND;TZID=America/New_York:20260323T200000
DTSTAMP:20260423T193354
CREATED:20260114T184717Z
LAST-MODIFIED:20260114T184717Z
UID:10003243-1774292400-1774296000@mycovenantpc.com
SUMMARY:Men’s Bible Study
DESCRIPTION:
URL:https://mycovenantpc.com/event/mens-bible-study-2/2026-03-23/
ATTACH;FMTTYPE=image/png:https://mycovenantpc.com/wp-content/uploads/2025/09/Men-IHOP.png
END:VEVENT
BEGIN:VEVENT
DTSTART;TZID=America/New_York:20260322T163000
DTEND;TZID=America/New_York:20260322T183000
DTSTAMP:20260423T193354
CREATED:20260114T181115Z
LAST-MODIFIED:20260415T162413Z
UID:10002857-1774197000-1774204200@mycovenantpc.com
SUMMARY:153 Untorn Nights
DESCRIPTION:4:30 p.m. 153 Untorn Middle & High School Youth Night  \n Drop off at the youth room\, main building. Pick up from the Life Center.
URL:https://mycovenantpc.com/event/153-untorn-nights/2026-03-22/
ATTACH;FMTTYPE=image/png:https://mycovenantpc.com/wp-content/uploads/2025/08/153Untorn-Nights-2025.png
END:VEVENT
BEGIN:VEVENT
DTSTART;TZID=America/New_York:20260322T093000
DTEND;TZID=America/New_York:20260322T110000
DTSTAMP:20260423T193354
CREATED:20250819T031730Z
LAST-MODIFIED:20260310T172531Z
UID:10002467-1774171800-1774177200@mycovenantpc.com
SUMMARY:Sunday Morning
DESCRIPTION:Sunday Morning: \n9:30 a.m.-Worship \n10:45 a.m.- Refuel Coffee \n11:00 a.m.-Sunday Studies for All Ages
URL:https://mycovenantpc.com/event/sunday-morning-evening/2026-03-22/
ATTACH;FMTTYPE=image/webp:https://mycovenantpc.com/wp-content/uploads/2025/08/Sunday-Mornings.webp
END:VEVENT
BEGIN:VEVENT
DTSTART;TZID=America/New_York:20260321T080000
DTEND;TZID=America/New_York:20260321T170000
DTSTAMP:20260423T193354
CREATED:20260219T171556Z
LAST-MODIFIED:20260219T171556Z
UID:10003397-1774080000-1774112400@mycovenantpc.com
SUMMARY:Word & Deed Meeting
DESCRIPTION:
URL:https://mycovenantpc.com/event/word-deed-meeting/
END:VEVENT
BEGIN:VEVENT
DTSTART;TZID=America/New_York:20260321T080000
DTEND;TZID=America/New_York:20260321T120000
DTSTAMP:20260423T193354
CREATED:20260114T184940Z
LAST-MODIFIED:20260219T171710Z
UID:10003365-1774080000-1774094400@mycovenantpc.com
SUMMARY:Church Work Day
DESCRIPTION:
URL:https://mycovenantpc.com/event/church-work-day/
END:VEVENT
BEGIN:VEVENT
DTSTART;TZID=America/New_York:20260316T190000
DTEND;TZID=America/New_York:20260316T200000
DTSTAMP:20260423T193354
CREATED:20260114T184717Z
LAST-MODIFIED:20260114T184717Z
UID:10003242-1773687600-1773691200@mycovenantpc.com
SUMMARY:Men’s Bible Study
DESCRIPTION:
URL:https://mycovenantpc.com/event/mens-bible-study-2/2026-03-16/
ATTACH;FMTTYPE=image/png:https://mycovenantpc.com/wp-content/uploads/2025/09/Men-IHOP.png
END:VEVENT
BEGIN:VEVENT
DTSTART;TZID=America/New_York:20260315T163000
DTEND;TZID=America/New_York:20260315T183000
DTSTAMP:20260423T193354
CREATED:20260114T181115Z
LAST-MODIFIED:20260415T162413Z
UID:10002856-1773592200-1773599400@mycovenantpc.com
SUMMARY:153 Untorn Nights
DESCRIPTION:4:30 p.m. 153 Untorn Middle & High School Youth Night  \n Drop off at the youth room\, main building. Pick up from the Life Center.
URL:https://mycovenantpc.com/event/153-untorn-nights/2026-03-15/
ATTACH;FMTTYPE=image/png:https://mycovenantpc.com/wp-content/uploads/2025/08/153Untorn-Nights-2025.png
END:VEVENT
BEGIN:VEVENT
DTSTART;TZID=America/New_York:20260315T093000
DTEND;TZID=America/New_York:20260315T110000
DTSTAMP:20260423T193354
CREATED:20250819T031730Z
LAST-MODIFIED:20260310T172531Z
UID:10002466-1773567000-1773572400@mycovenantpc.com
SUMMARY:Sunday Morning
DESCRIPTION:Sunday Morning: \n9:30 a.m.-Worship \n10:45 a.m.- Refuel Coffee \n11:00 a.m.-Sunday Studies for All Ages
URL:https://mycovenantpc.com/event/sunday-morning-evening/2026-03-15/
ATTACH;FMTTYPE=image/webp:https://mycovenantpc.com/wp-content/uploads/2025/08/Sunday-Mornings.webp
END:VEVENT
BEGIN:VEVENT
DTSTART;TZID=America/New_York:20260314T170000
DTEND;TZID=America/New_York:20260314T190000
DTSTAMP:20260423T193354
CREATED:20260310T172257Z
LAST-MODIFIED:20260310T172259Z
UID:10003307-1773507600-1773514800@mycovenantpc.com
SUMMARY:Young Professionals  Monthly Dinner
DESCRIPTION:
URL:https://mycovenantpc.com/event/college-career-monthly-dinner-2/2026-03-14/
END:VEVENT
BEGIN:VEVENT
DTSTART;TZID=America/New_York:20260312T180000
DTEND;TZID=America/New_York:20260312T200000
DTSTAMP:20260423T193354
CREATED:20260219T171523Z
LAST-MODIFIED:20260219T171523Z
UID:10003396-1773338400-1773345600@mycovenantpc.com
SUMMARY:Ladies Craft Night
DESCRIPTION:Come create a Sea Glass work of art on Thursday\, March 12th. We will provide all the materials; the cost is $5.00. \nLife Center\, Konoinia Room \nBring dinner and dessert options to share! \n 
URL:https://mycovenantpc.com/event/ladies-craft-night/
ATTACH;FMTTYPE=image/png:https://mycovenantpc.com/wp-content/uploads/2026/02/Ladies-March-12th-Crafts.png
END:VEVENT
BEGIN:VEVENT
DTSTART;TZID=America/New_York:20260310T093000
DTEND;TZID=America/New_York:20260310T110000
DTSTAMP:20260423T193354
CREATED:20260114T183947Z
LAST-MODIFIED:20260114T183947Z
UID:10003218-1773135000-1773140400@mycovenantpc.com
SUMMARY:Ladies Bible Study
DESCRIPTION:Experiencing the Promise of the Book of Acts \nIn Saved\, Nancy Guthrie provides an accessible\, theologically guide to the book of Acts. She invites us to peer into the lives of the apostles in the days following the resurrection and ascension of Jesus as they experienced new power from the indwelling Holy Spirit and a new understanding of the Old Testament scriptures. \nTwo Study Times to Choose from. On the next page\, choose 9:30 AM or 7:00 PM \nCOST: $15.00 includes personal study with video access \nOPTIONAL BOOK: $10.00 The Saved book by Nancy Guthrie \nTwo Study Times and Locations: \n9:30AM- CPC LIFE CENTER LED BY CHERYL BEACH AND RUTH RAE \n4500 Highway 86\, Easley SC 29642 \n7:00 PM- GWYN OATES HOME LED BY SUSAN JOHNSON AND CAROLE WALTERS \n198 Haverhill Circle\, Easley SC 29642
URL:https://mycovenantpc.com/event/ladies-bible-study-2/2026-03-10/
ATTACH;FMTTYPE=image/png:https://mycovenantpc.com/wp-content/uploads/2025/09/Ladies-SAVED-Study-2025-1.png
END:VEVENT
BEGIN:VEVENT
DTSTART;TZID=America/New_York:20260309T190000
DTEND;TZID=America/New_York:20260309T200000
DTSTAMP:20260423T193354
CREATED:20260114T184717Z
LAST-MODIFIED:20260114T184717Z
UID:10003241-1773082800-1773086400@mycovenantpc.com
SUMMARY:Men’s Bible Study
DESCRIPTION:
URL:https://mycovenantpc.com/event/mens-bible-study-2/2026-03-09/
ATTACH;FMTTYPE=image/png:https://mycovenantpc.com/wp-content/uploads/2025/09/Men-IHOP.png
END:VEVENT
BEGIN:VEVENT
DTSTART;TZID=America/New_York:20260308T163000
DTEND;TZID=America/New_York:20260308T183000
DTSTAMP:20260423T193354
CREATED:20260114T181115Z
LAST-MODIFIED:20260415T162413Z
UID:10002855-1772987400-1772994600@mycovenantpc.com
SUMMARY:153 Untorn Nights
DESCRIPTION:4:30 p.m. 153 Untorn Middle & High School Youth Night  \n Drop off at the youth room\, main building. Pick up from the Life Center.
URL:https://mycovenantpc.com/event/153-untorn-nights/2026-03-08/
ATTACH;FMTTYPE=image/png:https://mycovenantpc.com/wp-content/uploads/2025/08/153Untorn-Nights-2025.png
END:VEVENT
BEGIN:VEVENT
DTSTART;TZID=America/New_York:20260308T093000
DTEND;TZID=America/New_York:20260308T110000
DTSTAMP:20260423T193354
CREATED:20250819T031730Z
LAST-MODIFIED:20260310T172531Z
UID:10002465-1772962200-1772967600@mycovenantpc.com
SUMMARY:Sunday Morning
DESCRIPTION:Sunday Morning: \n9:30 a.m.-Worship \n10:45 a.m.- Refuel Coffee \n11:00 a.m.-Sunday Studies for All Ages
URL:https://mycovenantpc.com/event/sunday-morning-evening/2026-03-08/
ATTACH;FMTTYPE=image/webp:https://mycovenantpc.com/wp-content/uploads/2025/08/Sunday-Mornings.webp
END:VEVENT
BEGIN:VEVENT
DTSTART;TZID=America/New_York:20260304T093000
DTEND;TZID=America/New_York:20260304T123000
DTSTAMP:20260423T193354
CREATED:20250907T225318Z
LAST-MODIFIED:20260114T182904Z
UID:10002870-1772616600-1772627400@mycovenantpc.com
SUMMARY:Ladies Creative Club
DESCRIPTION:Come as you have time\, bring whatever project you are working on\, and enjoy a group creative space. \nGod made us with so many gifts and talents. \nCovenant Life Center\, Agape Room. \nLed by Kelly Freeman
URL:https://mycovenantpc.com/event/ladies-creative-club-2/2026-03-04/
ATTACH;FMTTYPE=image/png:https://mycovenantpc.com/wp-content/uploads/2025/09/Creative-Club-2025.png
END:VEVENT
BEGIN:VEVENT
DTSTART;TZID=America/New_York:20260303T093000
DTEND;TZID=America/New_York:20260303T110000
DTSTAMP:20260423T193354
CREATED:20260114T183947Z
LAST-MODIFIED:20260114T183947Z
UID:10003217-1772530200-1772535600@mycovenantpc.com
SUMMARY:Ladies Bible Study
DESCRIPTION:Experiencing the Promise of the Book of Acts \nIn Saved\, Nancy Guthrie provides an accessible\, theologically guide to the book of Acts. She invites us to peer into the lives of the apostles in the days following the resurrection and ascension of Jesus as they experienced new power from the indwelling Holy Spirit and a new understanding of the Old Testament scriptures. \nTwo Study Times to Choose from. On the next page\, choose 9:30 AM or 7:00 PM \nCOST: $15.00 includes personal study with video access \nOPTIONAL BOOK: $10.00 The Saved book by Nancy Guthrie \nTwo Study Times and Locations: \n9:30AM- CPC LIFE CENTER LED BY CHERYL BEACH AND RUTH RAE \n4500 Highway 86\, Easley SC 29642 \n7:00 PM- GWYN OATES HOME LED BY SUSAN JOHNSON AND CAROLE WALTERS \n198 Haverhill Circle\, Easley SC 29642
URL:https://mycovenantpc.com/event/ladies-bible-study-2/2026-03-03/
ATTACH;FMTTYPE=image/png:https://mycovenantpc.com/wp-content/uploads/2025/09/Ladies-SAVED-Study-2025-1.png
END:VEVENT
BEGIN:VEVENT
DTSTART;TZID=America/New_York:20260302T190000
DTEND;TZID=America/New_York:20260302T200000
DTSTAMP:20260423T193354
CREATED:20260114T184717Z
LAST-MODIFIED:20260114T184717Z
UID:10003240-1772478000-1772481600@mycovenantpc.com
SUMMARY:Men’s Bible Study
DESCRIPTION:
URL:https://mycovenantpc.com/event/mens-bible-study-2/2026-03-02/
ATTACH;FMTTYPE=image/png:https://mycovenantpc.com/wp-content/uploads/2025/09/Men-IHOP.png
END:VEVENT
BEGIN:VEVENT
DTSTART;TZID=America/New_York:20260301T163000
DTEND;TZID=America/New_York:20260301T183000
DTSTAMP:20260423T193354
CREATED:20260114T181115Z
LAST-MODIFIED:20260415T162413Z
UID:10002854-1772382600-1772389800@mycovenantpc.com
SUMMARY:153 Untorn Nights
DESCRIPTION:4:30 p.m. 153 Untorn Middle & High School Youth Night  \n Drop off at the youth room\, main building. Pick up from the Life Center.
URL:https://mycovenantpc.com/event/153-untorn-nights/2026-03-01/
ATTACH;FMTTYPE=image/png:https://mycovenantpc.com/wp-content/uploads/2025/08/153Untorn-Nights-2025.png
END:VEVENT
BEGIN:VEVENT
DTSTART;TZID=America/New_York:20260301T093000
DTEND;TZID=America/New_York:20260301T110000
DTSTAMP:20260423T193354
CREATED:20250819T031730Z
LAST-MODIFIED:20260310T172531Z
UID:10002464-1772357400-1772362800@mycovenantpc.com
SUMMARY:Sunday Morning
DESCRIPTION:Sunday Morning: \n9:30 a.m.-Worship \n10:45 a.m.- Refuel Coffee \n11:00 a.m.-Sunday Studies for All Ages
URL:https://mycovenantpc.com/event/sunday-morning-evening/2026-03-01/
ATTACH;FMTTYPE=image/webp:https://mycovenantpc.com/wp-content/uploads/2025/08/Sunday-Mornings.webp
END:VEVENT
BEGIN:VEVENT
DTSTART;TZID=America/New_York:20260227T160000
DTEND;TZID=America/New_York:20260228T170000
DTSTAMP:20260423T193354
CREATED:20260219T171017Z
LAST-MODIFIED:20260219T171017Z
UID:10003395-1772208000-1772298000@mycovenantpc.com
SUMMARY:Middle School Winter Retreat
DESCRIPTION:
URL:https://mycovenantpc.com/event/middle-school-winter-retreat/
END:VEVENT
BEGIN:VEVENT
DTSTART;TZID=America/New_York:20260224T093000
DTEND;TZID=America/New_York:20260224T110000
DTSTAMP:20260423T193354
CREATED:20260114T183947Z
LAST-MODIFIED:20260114T183947Z
UID:10003216-1771925400-1771930800@mycovenantpc.com
SUMMARY:Ladies Bible Study
DESCRIPTION:Experiencing the Promise of the Book of Acts \nIn Saved\, Nancy Guthrie provides an accessible\, theologically guide to the book of Acts. She invites us to peer into the lives of the apostles in the days following the resurrection and ascension of Jesus as they experienced new power from the indwelling Holy Spirit and a new understanding of the Old Testament scriptures. \nTwo Study Times to Choose from. On the next page\, choose 9:30 AM or 7:00 PM \nCOST: $15.00 includes personal study with video access \nOPTIONAL BOOK: $10.00 The Saved book by Nancy Guthrie \nTwo Study Times and Locations: \n9:30AM- CPC LIFE CENTER LED BY CHERYL BEACH AND RUTH RAE \n4500 Highway 86\, Easley SC 29642 \n7:00 PM- GWYN OATES HOME LED BY SUSAN JOHNSON AND CAROLE WALTERS \n198 Haverhill Circle\, Easley SC 29642
URL:https://mycovenantpc.com/event/ladies-bible-study-2/2026-02-24/
ATTACH;FMTTYPE=image/png:https://mycovenantpc.com/wp-content/uploads/2025/09/Ladies-SAVED-Study-2025-1.png
END:VEVENT
BEGIN:VEVENT
DTSTART;TZID=America/New_York:20260223T190000
DTEND;TZID=America/New_York:20260223T200000
DTSTAMP:20260423T193354
CREATED:20260114T184717Z
LAST-MODIFIED:20260114T184717Z
UID:10003239-1771873200-1771876800@mycovenantpc.com
SUMMARY:Men’s Bible Study
DESCRIPTION:
URL:https://mycovenantpc.com/event/mens-bible-study-2/2026-02-23/
ATTACH;FMTTYPE=image/png:https://mycovenantpc.com/wp-content/uploads/2025/09/Men-IHOP.png
END:VEVENT
BEGIN:VEVENT
DTSTART;TZID=America/New_York:20260222T163000
DTEND;TZID=America/New_York:20260222T183000
DTSTAMP:20260423T193354
CREATED:20260114T181115Z
LAST-MODIFIED:20260415T162413Z
UID:10002853-1771777800-1771785000@mycovenantpc.com
SUMMARY:153 Untorn Nights
DESCRIPTION:4:30 p.m. 153 Untorn Middle & High School Youth Night  \n Drop off at the youth room\, main building. Pick up from the Life Center.
URL:https://mycovenantpc.com/event/153-untorn-nights/2026-02-22/
ATTACH;FMTTYPE=image/png:https://mycovenantpc.com/wp-content/uploads/2025/08/153Untorn-Nights-2025.png
END:VEVENT
BEGIN:VEVENT
DTSTART;TZID=America/New_York:20260222T093000
DTEND;TZID=America/New_York:20260222T110000
DTSTAMP:20260423T193354
CREATED:20250819T031730Z
LAST-MODIFIED:20260310T172531Z
UID:10002463-1771752600-1771758000@mycovenantpc.com
SUMMARY:Sunday Morning
DESCRIPTION:Sunday Morning: \n9:30 a.m.-Worship \n10:45 a.m.- Refuel Coffee \n11:00 a.m.-Sunday Studies for All Ages
URL:https://mycovenantpc.com/event/sunday-morning-evening/2026-02-22/
ATTACH;FMTTYPE=image/webp:https://mycovenantpc.com/wp-content/uploads/2025/08/Sunday-Mornings.webp
END:VEVENT
BEGIN:VEVENT
DTSTART;TZID=America/New_York:20260221T170000
DTEND;TZID=America/New_York:20260221T190000
DTSTAMP:20260423T193354
CREATED:20260114T184859Z
LAST-MODIFIED:20260114T184859Z
UID:10003306-1771693200-1771700400@mycovenantpc.com
SUMMARY:College & Career Monthly Dinner
DESCRIPTION:https://docs.google.com/spreadsheets/d/12HzhV9KUXFLbSHHfLsApMm6wNjZ-MMsbsYZ0pyPeuwg/edit?usp=drivesdk
URL:https://mycovenantpc.com/event/college-career-monthly-dinner/2026-02-21/
END:VEVENT
BEGIN:VEVENT
DTSTART;TZID=America/New_York:20260217T093000
DTEND;TZID=America/New_York:20260217T110000
DTSTAMP:20260423T193354
CREATED:20260114T183947Z
LAST-MODIFIED:20260114T183947Z
UID:10003215-1771320600-1771326000@mycovenantpc.com
SUMMARY:Ladies Bible Study
DESCRIPTION:Experiencing the Promise of the Book of Acts \nIn Saved\, Nancy Guthrie provides an accessible\, theologically guide to the book of Acts. She invites us to peer into the lives of the apostles in the days following the resurrection and ascension of Jesus as they experienced new power from the indwelling Holy Spirit and a new understanding of the Old Testament scriptures. \nTwo Study Times to Choose from. On the next page\, choose 9:30 AM or 7:00 PM \nCOST: $15.00 includes personal study with video access \nOPTIONAL BOOK: $10.00 The Saved book by Nancy Guthrie \nTwo Study Times and Locations: \n9:30AM- CPC LIFE CENTER LED BY CHERYL BEACH AND RUTH RAE \n4500 Highway 86\, Easley SC 29642 \n7:00 PM- GWYN OATES HOME LED BY SUSAN JOHNSON AND CAROLE WALTERS \n198 Haverhill Circle\, Easley SC 29642
URL:https://mycovenantpc.com/event/ladies-bible-study-2/2026-02-17/
ATTACH;FMTTYPE=image/png:https://mycovenantpc.com/wp-content/uploads/2025/09/Ladies-SAVED-Study-2025-1.png
END:VEVENT
BEGIN:VEVENT
DTSTART;TZID=America/New_York:20260216T190000
DTEND;TZID=America/New_York:20260216T200000
DTSTAMP:20260423T193354
CREATED:20260114T184717Z
LAST-MODIFIED:20260114T184717Z
UID:10003238-1771268400-1771272000@mycovenantpc.com
SUMMARY:Men’s Bible Study
DESCRIPTION:
URL:https://mycovenantpc.com/event/mens-bible-study-2/2026-02-16/
ATTACH;FMTTYPE=image/png:https://mycovenantpc.com/wp-content/uploads/2025/09/Men-IHOP.png
END:VEVENT
BEGIN:VEVENT
DTSTART;TZID=America/New_York:20260215T170000
DTEND;TZID=America/New_York:20260215T180000
DTSTAMP:20260423T193354
CREATED:20260114T183431Z
LAST-MODIFIED:20260114T183431Z
UID:10002937-1771174800-1771178400@mycovenantpc.com
SUMMARY:Assistant Pastor Installation Service
DESCRIPTION:Please join us for the Assistant Pastor Installation Service for Seth Gesin\, with a reception to follow. \nThe service and reception will be in the Life Center.
URL:https://mycovenantpc.com/event/assistant-pastor-installation-service/
END:VEVENT
END:VCALENDAR