BEGIN:VCALENDAR
VERSION:2.0
PRODID:-//Covenant Presbyterian Church - ECPv6.15.17//NONSGML v1.0//EN
CALSCALE:GREGORIAN
METHOD:PUBLISH
X-ORIGINAL-URL:https://mycovenantpc.com
X-WR-CALDESC:Events for Covenant Presbyterian Church
REFRESH-INTERVAL;VALUE=DURATION:PT1H
X-Robots-Tag:noindex
X-PUBLISHED-TTL:PT1H
BEGIN:VTIMEZONE
TZID:America/New_York
BEGIN:DAYLIGHT
TZOFFSETFROM:-0500
TZOFFSETTO:-0400
TZNAME:EDT
DTSTART:20240310T070000
END:DAYLIGHT
BEGIN:STANDARD
TZOFFSETFROM:-0400
TZOFFSETTO:-0500
TZNAME:EST
DTSTART:20241103T060000
END:STANDARD
BEGIN:DAYLIGHT
TZOFFSETFROM:-0500
TZOFFSETTO:-0400
TZNAME:EDT
DTSTART:20250309T070000
END:DAYLIGHT
BEGIN:STANDARD
TZOFFSETFROM:-0400
TZOFFSETTO:-0500
TZNAME:EST
DTSTART:20251102T060000
END:STANDARD
BEGIN:DAYLIGHT
TZOFFSETFROM:-0500
TZOFFSETTO:-0400
TZNAME:EDT
DTSTART:20260308T070000
END:DAYLIGHT
BEGIN:STANDARD
TZOFFSETFROM:-0400
TZOFFSETTO:-0500
TZNAME:EST
DTSTART:20261101T060000
END:STANDARD
END:VTIMEZONE
BEGIN:VEVENT
DTSTART;TZID=America/New_York:20250930T093000
DTEND;TZID=America/New_York:20250930T110000
DTSTAMP:20260424T051116
CREATED:20250907T223815Z
LAST-MODIFIED:20251103T202553Z
UID:10002702-1759224600-1759230000@mycovenantpc.com
SUMMARY:Ladies Bible Study
DESCRIPTION:Experiencing the Promise of the Book of Acts \nIn Saved\, Nancy Guthrie provides an accessible\, theologically guide to the book of Acts. She invites us to peer into the lives of the apostles in the days following the resurrection and ascension of Jesus as they experienced new power from the indwelling Holy Spirit and a new understanding of the Old Testament scriptures. \nTwo Study Times to Choose from. On the next page\, choose 9:30 AM or 7:00 PM \nCOST: $15.00 includes personal study with video access \nOPTIONAL BOOK: $10.00 The Saved book by Nancy Guthrie \nTwo Study Times and Locations: \n9:30AM- CPC LIFE CENTER LED BY CHERYL BEACH AND RUTH RAE \n4500 Highway 86\, Easley SC 29642 \n7:00 PM- GWYN OATES HOME LED BY SUSAN JOHNSON AND CAROLE WALTERS \n198 Haverhill Circle\, Easley SC 29642
URL:https://mycovenantpc.com/event/ladies-bible-study/2025-09-30/
ATTACH;FMTTYPE=image/png:https://mycovenantpc.com/wp-content/uploads/2025/09/Ladies-SAVED-Study-2025-1.png
END:VEVENT
BEGIN:VEVENT
DTSTART;TZID=America/New_York:20251003T160000
DTEND;TZID=America/New_York:20251004T170000
DTSTAMP:20260424T051116
CREATED:20250907T225849Z
LAST-MODIFIED:20250907T225913Z
UID:10002842-1759507200-1759597200@mycovenantpc.com
SUMMARY:High School Fall Retreat
DESCRIPTION:The weather this week has me very excited for our upcoming High School Fall Retreat! I hope the students are excited to be in the mountains in the fall! Here are the details for the retreat…\n\nDetails\n\n\nWhen: October 3rd-4th\, 2026\nWhere: Bonclarken Conference Center\, 500 Pine Dr\, Flat Rock\, NC 28731\nWho: the youth group of Redeemer Presbyterian and Eastside Presbyterian\nSpeaker: Joe Nichols\, Director of Student Ministries at Eastern Shore PCA in Alabama. He will be talking about righteous relationships with the high schoolers!\nCost: $100\, this includes housing\, transportation\, meals\, snacks\, and a retreat shirt!\nDeadline to register: September 18th \nFor fun this year\, we will be stopping by SkyTop Orchard on the way home!
URL:https://mycovenantpc.com/event/high-school-fall-retreat/
ATTACH;FMTTYPE=image/png:https://mycovenantpc.com/wp-content/uploads/2025/09/HS-Fall-Retreat.png
END:VEVENT
BEGIN:VEVENT
DTSTART;TZID=America/New_York:20251005T093000
DTEND;TZID=America/New_York:20251005T110000
DTSTAMP:20260424T051116
CREATED:20250819T031730Z
LAST-MODIFIED:20260310T172531Z
UID:10002443-1759656600-1759662000@mycovenantpc.com
SUMMARY:Sunday Morning
DESCRIPTION:Sunday Morning: \n9:30 a.m.-Worship \n10:45 a.m.- Refuel Coffee \n11:00 a.m.-Sunday Studies for All Ages
URL:https://mycovenantpc.com/event/sunday-morning-evening/2025-10-05/
ATTACH;FMTTYPE=image/webp:https://mycovenantpc.com/wp-content/uploads/2025/08/Sunday-Mornings.webp
END:VEVENT
BEGIN:VEVENT
DTSTART;TZID=America/New_York:20251005T173000
DTEND;TZID=America/New_York:20251005T183000
DTSTAMP:20260424T051116
CREATED:20250626T160346Z
LAST-MODIFIED:20250819T025359Z
UID:10001589-1759685400-1759689000@mycovenantpc.com
SUMMARY:153 Untorn Youth Nights
DESCRIPTION:Middle School and High School Students: \nGather in the Youth Room\, Main building\, for a time of worship\, and we will then break out into small groups to discuss God’s word. Games and Snacks to wrap up the evening. Pick up from the Life Center building. \n 
URL:https://mycovenantpc.com/event/153-untorn-youth-nights/2025-10-05/
ATTACH;FMTTYPE=image/png:https://mycovenantpc.com/wp-content/uploads/2023/12/153-Untorn-New-Blue.png
END:VEVENT
BEGIN:VEVENT
DTSTART;TZID=America/New_York:20251006T190000
DTEND;TZID=America/New_York:20251006T200000
DTSTAMP:20260424T051116
CREATED:20250907T224458Z
LAST-MODIFIED:20251120T210347Z
UID:10002766-1759777200-1759780800@mycovenantpc.com
SUMMARY:Men’s Bible Study
DESCRIPTION:
URL:https://mycovenantpc.com/event/mens-bible-study/2025-10-06/
ATTACH;FMTTYPE=image/png:https://mycovenantpc.com/wp-content/uploads/2025/09/Men-IHOP.png
END:VEVENT
BEGIN:VEVENT
DTSTART;TZID=America/New_York:20251007T093000
DTEND;TZID=America/New_York:20251007T110000
DTSTAMP:20260424T051116
CREATED:20250907T223815Z
LAST-MODIFIED:20251103T202553Z
UID:10002703-1759829400-1759834800@mycovenantpc.com
SUMMARY:Ladies Bible Study
DESCRIPTION:Experiencing the Promise of the Book of Acts \nIn Saved\, Nancy Guthrie provides an accessible\, theologically guide to the book of Acts. She invites us to peer into the lives of the apostles in the days following the resurrection and ascension of Jesus as they experienced new power from the indwelling Holy Spirit and a new understanding of the Old Testament scriptures. \nTwo Study Times to Choose from. On the next page\, choose 9:30 AM or 7:00 PM \nCOST: $15.00 includes personal study with video access \nOPTIONAL BOOK: $10.00 The Saved book by Nancy Guthrie \nTwo Study Times and Locations: \n9:30AM- CPC LIFE CENTER LED BY CHERYL BEACH AND RUTH RAE \n4500 Highway 86\, Easley SC 29642 \n7:00 PM- GWYN OATES HOME LED BY SUSAN JOHNSON AND CAROLE WALTERS \n198 Haverhill Circle\, Easley SC 29642
URL:https://mycovenantpc.com/event/ladies-bible-study/2025-10-07/
ATTACH;FMTTYPE=image/png:https://mycovenantpc.com/wp-content/uploads/2025/09/Ladies-SAVED-Study-2025-1.png
END:VEVENT
BEGIN:VEVENT
DTSTART;TZID=America/New_York:20251012T093000
DTEND;TZID=America/New_York:20251012T110000
DTSTAMP:20260424T051116
CREATED:20250819T031730Z
LAST-MODIFIED:20260310T172531Z
UID:10002444-1760261400-1760266800@mycovenantpc.com
SUMMARY:Sunday Morning
DESCRIPTION:Sunday Morning: \n9:30 a.m.-Worship \n10:45 a.m.- Refuel Coffee \n11:00 a.m.-Sunday Studies for All Ages
URL:https://mycovenantpc.com/event/sunday-morning-evening/2025-10-12/
ATTACH;FMTTYPE=image/webp:https://mycovenantpc.com/wp-content/uploads/2025/08/Sunday-Mornings.webp
END:VEVENT
BEGIN:VEVENT
DTSTART;TZID=America/New_York:20251012T173000
DTEND;TZID=America/New_York:20251012T183000
DTSTAMP:20260424T051116
CREATED:20250626T160346Z
LAST-MODIFIED:20250819T025359Z
UID:10001590-1760290200-1760293800@mycovenantpc.com
SUMMARY:153 Untorn Youth Nights
DESCRIPTION:Middle School and High School Students: \nGather in the Youth Room\, Main building\, for a time of worship\, and we will then break out into small groups to discuss God’s word. Games and Snacks to wrap up the evening. Pick up from the Life Center building. \n 
URL:https://mycovenantpc.com/event/153-untorn-youth-nights/2025-10-12/
ATTACH;FMTTYPE=image/png:https://mycovenantpc.com/wp-content/uploads/2023/12/153-Untorn-New-Blue.png
END:VEVENT
BEGIN:VEVENT
DTSTART;TZID=America/New_York:20251013T190000
DTEND;TZID=America/New_York:20251013T200000
DTSTAMP:20260424T051116
CREATED:20250907T224458Z
LAST-MODIFIED:20251120T210347Z
UID:10002767-1760382000-1760385600@mycovenantpc.com
SUMMARY:Men’s Bible Study
DESCRIPTION:
URL:https://mycovenantpc.com/event/mens-bible-study/2025-10-13/
ATTACH;FMTTYPE=image/png:https://mycovenantpc.com/wp-content/uploads/2025/09/Men-IHOP.png
END:VEVENT
BEGIN:VEVENT
DTSTART;TZID=America/New_York:20251014T093000
DTEND;TZID=America/New_York:20251014T110000
DTSTAMP:20260424T051116
CREATED:20250907T223815Z
LAST-MODIFIED:20251103T202553Z
UID:10002704-1760434200-1760439600@mycovenantpc.com
SUMMARY:Ladies Bible Study
DESCRIPTION:Experiencing the Promise of the Book of Acts \nIn Saved\, Nancy Guthrie provides an accessible\, theologically guide to the book of Acts. She invites us to peer into the lives of the apostles in the days following the resurrection and ascension of Jesus as they experienced new power from the indwelling Holy Spirit and a new understanding of the Old Testament scriptures. \nTwo Study Times to Choose from. On the next page\, choose 9:30 AM or 7:00 PM \nCOST: $15.00 includes personal study with video access \nOPTIONAL BOOK: $10.00 The Saved book by Nancy Guthrie \nTwo Study Times and Locations: \n9:30AM- CPC LIFE CENTER LED BY CHERYL BEACH AND RUTH RAE \n4500 Highway 86\, Easley SC 29642 \n7:00 PM- GWYN OATES HOME LED BY SUSAN JOHNSON AND CAROLE WALTERS \n198 Haverhill Circle\, Easley SC 29642
URL:https://mycovenantpc.com/event/ladies-bible-study/2025-10-14/
ATTACH;FMTTYPE=image/png:https://mycovenantpc.com/wp-content/uploads/2025/09/Ladies-SAVED-Study-2025-1.png
END:VEVENT
BEGIN:VEVENT
DTSTART;TZID=America/New_York:20251017T160000
DTEND;TZID=America/New_York:20251018T150000
DTSTAMP:20260424T051116
CREATED:20250907T225547Z
LAST-MODIFIED:20250907T225609Z
UID:10002841-1760716800-1760799600@mycovenantpc.com
SUMMARY:Ladies Fall Retreat
DESCRIPTION:Our ladies retreat is October 17 and 18 at Bonclarken in Flat Rock\, NC.  Redeeming Friendship is the topic\, and we will have a series of video lessons from Winfree Brisley.  She will use Proverbs 17:17 to prompt us to consider why our friendships need to be redeemed; she will encourage us to cultivate Christ-centered friendships\, and we will learn how to be a friend in times of rejoicing\, suffering\, disappointment\, and conflict. \nThis retreat is a joyful invitation to talk with one another and listen without distraction\, enjoy meals together that we don’t have to cook or clean up\, and cultivate friendships with others. Cost is $150.00. Register HERE
URL:https://mycovenantpc.com/event/ladies-fall-retreat/
END:VEVENT
BEGIN:VEVENT
DTSTART;TZID=America/New_York:20251019T093000
DTEND;TZID=America/New_York:20251019T110000
DTSTAMP:20260424T051116
CREATED:20250819T031730Z
LAST-MODIFIED:20260310T172531Z
UID:10002445-1760866200-1760871600@mycovenantpc.com
SUMMARY:Sunday Morning
DESCRIPTION:Sunday Morning: \n9:30 a.m.-Worship \n10:45 a.m.- Refuel Coffee \n11:00 a.m.-Sunday Studies for All Ages
URL:https://mycovenantpc.com/event/sunday-morning-evening/2025-10-19/
ATTACH;FMTTYPE=image/webp:https://mycovenantpc.com/wp-content/uploads/2025/08/Sunday-Mornings.webp
END:VEVENT
BEGIN:VEVENT
DTSTART;TZID=America/New_York:20251019T173000
DTEND;TZID=America/New_York:20251019T183000
DTSTAMP:20260424T051116
CREATED:20250626T160346Z
LAST-MODIFIED:20250819T025359Z
UID:10001591-1760895000-1760898600@mycovenantpc.com
SUMMARY:153 Untorn Youth Nights
DESCRIPTION:Middle School and High School Students: \nGather in the Youth Room\, Main building\, for a time of worship\, and we will then break out into small groups to discuss God’s word. Games and Snacks to wrap up the evening. Pick up from the Life Center building. \n 
URL:https://mycovenantpc.com/event/153-untorn-youth-nights/2025-10-19/
ATTACH;FMTTYPE=image/png:https://mycovenantpc.com/wp-content/uploads/2023/12/153-Untorn-New-Blue.png
END:VEVENT
BEGIN:VEVENT
DTSTART;TZID=America/New_York:20251020T190000
DTEND;TZID=America/New_York:20251020T200000
DTSTAMP:20260424T051116
CREATED:20250907T224458Z
LAST-MODIFIED:20251120T210347Z
UID:10002768-1760986800-1760990400@mycovenantpc.com
SUMMARY:Men’s Bible Study
DESCRIPTION:
URL:https://mycovenantpc.com/event/mens-bible-study/2025-10-20/
ATTACH;FMTTYPE=image/png:https://mycovenantpc.com/wp-content/uploads/2025/09/Men-IHOP.png
END:VEVENT
BEGIN:VEVENT
DTSTART;TZID=America/New_York:20251021T093000
DTEND;TZID=America/New_York:20251021T110000
DTSTAMP:20260424T051116
CREATED:20250907T223815Z
LAST-MODIFIED:20251103T202553Z
UID:10002705-1761039000-1761044400@mycovenantpc.com
SUMMARY:Ladies Bible Study
DESCRIPTION:Experiencing the Promise of the Book of Acts \nIn Saved\, Nancy Guthrie provides an accessible\, theologically guide to the book of Acts. She invites us to peer into the lives of the apostles in the days following the resurrection and ascension of Jesus as they experienced new power from the indwelling Holy Spirit and a new understanding of the Old Testament scriptures. \nTwo Study Times to Choose from. On the next page\, choose 9:30 AM or 7:00 PM \nCOST: $15.00 includes personal study with video access \nOPTIONAL BOOK: $10.00 The Saved book by Nancy Guthrie \nTwo Study Times and Locations: \n9:30AM- CPC LIFE CENTER LED BY CHERYL BEACH AND RUTH RAE \n4500 Highway 86\, Easley SC 29642 \n7:00 PM- GWYN OATES HOME LED BY SUSAN JOHNSON AND CAROLE WALTERS \n198 Haverhill Circle\, Easley SC 29642
URL:https://mycovenantpc.com/event/ladies-bible-study/2025-10-21/
ATTACH;FMTTYPE=image/png:https://mycovenantpc.com/wp-content/uploads/2025/09/Ladies-SAVED-Study-2025-1.png
END:VEVENT
BEGIN:VEVENT
DTSTART;TZID=America/New_York:20251026T093000
DTEND;TZID=America/New_York:20251026T110000
DTSTAMP:20260424T051116
CREATED:20250819T031730Z
LAST-MODIFIED:20260310T172531Z
UID:10002446-1761471000-1761476400@mycovenantpc.com
SUMMARY:Sunday Morning
DESCRIPTION:Sunday Morning: \n9:30 a.m.-Worship \n10:45 a.m.- Refuel Coffee \n11:00 a.m.-Sunday Studies for All Ages
URL:https://mycovenantpc.com/event/sunday-morning-evening/2025-10-26/
ATTACH;FMTTYPE=image/webp:https://mycovenantpc.com/wp-content/uploads/2025/08/Sunday-Mornings.webp
END:VEVENT
BEGIN:VEVENT
DTSTART;TZID=America/New_York:20251026T173000
DTEND;TZID=America/New_York:20251026T183000
DTSTAMP:20260424T051116
CREATED:20250626T160346Z
LAST-MODIFIED:20250819T025359Z
UID:10001592-1761499800-1761503400@mycovenantpc.com
SUMMARY:153 Untorn Youth Nights
DESCRIPTION:Middle School and High School Students: \nGather in the Youth Room\, Main building\, for a time of worship\, and we will then break out into small groups to discuss God’s word. Games and Snacks to wrap up the evening. Pick up from the Life Center building. \n 
URL:https://mycovenantpc.com/event/153-untorn-youth-nights/2025-10-26/
ATTACH;FMTTYPE=image/png:https://mycovenantpc.com/wp-content/uploads/2023/12/153-Untorn-New-Blue.png
END:VEVENT
BEGIN:VEVENT
DTSTART;TZID=America/New_York:20251027T190000
DTEND;TZID=America/New_York:20251027T200000
DTSTAMP:20260424T051116
CREATED:20250907T224458Z
LAST-MODIFIED:20251120T210347Z
UID:10002769-1761591600-1761595200@mycovenantpc.com
SUMMARY:Men’s Bible Study
DESCRIPTION:
URL:https://mycovenantpc.com/event/mens-bible-study/2025-10-27/
ATTACH;FMTTYPE=image/png:https://mycovenantpc.com/wp-content/uploads/2025/09/Men-IHOP.png
END:VEVENT
BEGIN:VEVENT
DTSTART;TZID=America/New_York:20251028T093000
DTEND;TZID=America/New_York:20251028T110000
DTSTAMP:20260424T051116
CREATED:20250907T223815Z
LAST-MODIFIED:20251103T202553Z
UID:10002706-1761643800-1761649200@mycovenantpc.com
SUMMARY:Ladies Bible Study
DESCRIPTION:Experiencing the Promise of the Book of Acts \nIn Saved\, Nancy Guthrie provides an accessible\, theologically guide to the book of Acts. She invites us to peer into the lives of the apostles in the days following the resurrection and ascension of Jesus as they experienced new power from the indwelling Holy Spirit and a new understanding of the Old Testament scriptures. \nTwo Study Times to Choose from. On the next page\, choose 9:30 AM or 7:00 PM \nCOST: $15.00 includes personal study with video access \nOPTIONAL BOOK: $10.00 The Saved book by Nancy Guthrie \nTwo Study Times and Locations: \n9:30AM- CPC LIFE CENTER LED BY CHERYL BEACH AND RUTH RAE \n4500 Highway 86\, Easley SC 29642 \n7:00 PM- GWYN OATES HOME LED BY SUSAN JOHNSON AND CAROLE WALTERS \n198 Haverhill Circle\, Easley SC 29642
URL:https://mycovenantpc.com/event/ladies-bible-study/2025-10-28/
ATTACH;FMTTYPE=image/png:https://mycovenantpc.com/wp-content/uploads/2025/09/Ladies-SAVED-Study-2025-1.png
END:VEVENT
BEGIN:VEVENT
DTSTART;TZID=America/New_York:20251102T093000
DTEND;TZID=America/New_York:20251102T110000
DTSTAMP:20260424T051116
CREATED:20250819T031730Z
LAST-MODIFIED:20260310T172531Z
UID:10002447-1762075800-1762081200@mycovenantpc.com
SUMMARY:Sunday Morning
DESCRIPTION:Sunday Morning: \n9:30 a.m.-Worship \n10:45 a.m.- Refuel Coffee \n11:00 a.m.-Sunday Studies for All Ages
URL:https://mycovenantpc.com/event/sunday-morning-evening/2025-11-02/
ATTACH;FMTTYPE=image/webp:https://mycovenantpc.com/wp-content/uploads/2025/08/Sunday-Mornings.webp
END:VEVENT
BEGIN:VEVENT
DTSTART;TZID=America/New_York:20251102T173000
DTEND;TZID=America/New_York:20251102T183000
DTSTAMP:20260424T051116
CREATED:20250626T160346Z
LAST-MODIFIED:20250819T025359Z
UID:10001593-1762104600-1762108200@mycovenantpc.com
SUMMARY:153 Untorn Youth Nights
DESCRIPTION:Middle School and High School Students: \nGather in the Youth Room\, Main building\, for a time of worship\, and we will then break out into small groups to discuss God’s word. Games and Snacks to wrap up the evening. Pick up from the Life Center building. \n 
URL:https://mycovenantpc.com/event/153-untorn-youth-nights/2025-11-02/
ATTACH;FMTTYPE=image/png:https://mycovenantpc.com/wp-content/uploads/2023/12/153-Untorn-New-Blue.png
END:VEVENT
BEGIN:VEVENT
DTSTART;TZID=America/New_York:20251103T190000
DTEND;TZID=America/New_York:20251103T200000
DTSTAMP:20260424T051116
CREATED:20250907T224458Z
LAST-MODIFIED:20251120T210347Z
UID:10002770-1762196400-1762200000@mycovenantpc.com
SUMMARY:Men’s Bible Study
DESCRIPTION:
URL:https://mycovenantpc.com/event/mens-bible-study/2025-11-03/
ATTACH;FMTTYPE=image/png:https://mycovenantpc.com/wp-content/uploads/2025/09/Men-IHOP.png
END:VEVENT
BEGIN:VEVENT
DTSTART;TZID=America/New_York:20251109T093000
DTEND;TZID=America/New_York:20251109T110000
DTSTAMP:20260424T051116
CREATED:20250819T031730Z
LAST-MODIFIED:20260310T172531Z
UID:10002448-1762680600-1762686000@mycovenantpc.com
SUMMARY:Sunday Morning
DESCRIPTION:Sunday Morning: \n9:30 a.m.-Worship \n10:45 a.m.- Refuel Coffee \n11:00 a.m.-Sunday Studies for All Ages
URL:https://mycovenantpc.com/event/sunday-morning-evening/2025-11-09/
ATTACH;FMTTYPE=image/webp:https://mycovenantpc.com/wp-content/uploads/2025/08/Sunday-Mornings.webp
END:VEVENT
BEGIN:VEVENT
DTSTART;TZID=America/New_York:20251109T173000
DTEND;TZID=America/New_York:20251109T183000
DTSTAMP:20260424T051116
CREATED:20250626T160346Z
LAST-MODIFIED:20250819T025359Z
UID:10001594-1762709400-1762713000@mycovenantpc.com
SUMMARY:153 Untorn Youth Nights
DESCRIPTION:Middle School and High School Students: \nGather in the Youth Room\, Main building\, for a time of worship\, and we will then break out into small groups to discuss God’s word. Games and Snacks to wrap up the evening. Pick up from the Life Center building. \n 
URL:https://mycovenantpc.com/event/153-untorn-youth-nights/2025-11-09/
ATTACH;FMTTYPE=image/png:https://mycovenantpc.com/wp-content/uploads/2023/12/153-Untorn-New-Blue.png
END:VEVENT
BEGIN:VEVENT
DTSTART;TZID=America/New_York:20251110T190000
DTEND;TZID=America/New_York:20251110T200000
DTSTAMP:20260424T051116
CREATED:20250907T224458Z
LAST-MODIFIED:20251120T210347Z
UID:10002771-1762801200-1762804800@mycovenantpc.com
SUMMARY:Men’s Bible Study
DESCRIPTION:
URL:https://mycovenantpc.com/event/mens-bible-study/2025-11-10/
ATTACH;FMTTYPE=image/png:https://mycovenantpc.com/wp-content/uploads/2025/09/Men-IHOP.png
END:VEVENT
BEGIN:VEVENT
DTSTART;TZID=America/New_York:20251116T093000
DTEND;TZID=America/New_York:20251116T110000
DTSTAMP:20260424T051116
CREATED:20250819T031730Z
LAST-MODIFIED:20260310T172531Z
UID:10002449-1763285400-1763290800@mycovenantpc.com
SUMMARY:Sunday Morning
DESCRIPTION:Sunday Morning: \n9:30 a.m.-Worship \n10:45 a.m.- Refuel Coffee \n11:00 a.m.-Sunday Studies for All Ages
URL:https://mycovenantpc.com/event/sunday-morning-evening/2025-11-16/
ATTACH;FMTTYPE=image/webp:https://mycovenantpc.com/wp-content/uploads/2025/08/Sunday-Mornings.webp
END:VEVENT
BEGIN:VEVENT
DTSTART;TZID=America/New_York:20251116T173000
DTEND;TZID=America/New_York:20251116T183000
DTSTAMP:20260424T051116
CREATED:20250626T160346Z
LAST-MODIFIED:20250819T025359Z
UID:10001595-1763314200-1763317800@mycovenantpc.com
SUMMARY:153 Untorn Youth Nights
DESCRIPTION:Middle School and High School Students: \nGather in the Youth Room\, Main building\, for a time of worship\, and we will then break out into small groups to discuss God’s word. Games and Snacks to wrap up the evening. Pick up from the Life Center building. \n 
URL:https://mycovenantpc.com/event/153-untorn-youth-nights/2025-11-16/
ATTACH;FMTTYPE=image/png:https://mycovenantpc.com/wp-content/uploads/2023/12/153-Untorn-New-Blue.png
END:VEVENT
BEGIN:VEVENT
DTSTART;TZID=America/New_York:20251117T190000
DTEND;TZID=America/New_York:20251117T200000
DTSTAMP:20260424T051116
CREATED:20250907T224458Z
LAST-MODIFIED:20251120T210347Z
UID:10002772-1763406000-1763409600@mycovenantpc.com
SUMMARY:Men’s Bible Study
DESCRIPTION:
URL:https://mycovenantpc.com/event/mens-bible-study/2025-11-17/
ATTACH;FMTTYPE=image/png:https://mycovenantpc.com/wp-content/uploads/2025/09/Men-IHOP.png
END:VEVENT
BEGIN:VEVENT
DTSTART;TZID=America/New_York:20251119T180000
DTEND;TZID=America/New_York:20251119T193000
DTSTAMP:20260424T051116
CREATED:20251103T202732Z
LAST-MODIFIED:20251103T202732Z
UID:10002843-1763575200-1763580600@mycovenantpc.com
SUMMARY:CPC Thanksgiving Dinner
DESCRIPTION:Please bring food to share- don’t forget the Pie!
URL:https://mycovenantpc.com/event/cpc-thanksgiving-dinner/
END:VEVENT
BEGIN:VEVENT
DTSTART;TZID=America/New_York:20251123T093000
DTEND;TZID=America/New_York:20251123T110000
DTSTAMP:20260424T051116
CREATED:20250819T031730Z
LAST-MODIFIED:20260310T172531Z
UID:10002450-1763890200-1763895600@mycovenantpc.com
SUMMARY:Sunday Morning
DESCRIPTION:Sunday Morning: \n9:30 a.m.-Worship \n10:45 a.m.- Refuel Coffee \n11:00 a.m.-Sunday Studies for All Ages
URL:https://mycovenantpc.com/event/sunday-morning-evening/2025-11-23/
ATTACH;FMTTYPE=image/webp:https://mycovenantpc.com/wp-content/uploads/2025/08/Sunday-Mornings.webp
END:VEVENT
END:VCALENDAR