BEGIN:VCALENDAR
VERSION:2.0
PRODID:-//Covenant Presbyterian Church - ECPv6.15.17//NONSGML v1.0//EN
CALSCALE:GREGORIAN
METHOD:PUBLISH
X-WR-CALNAME:Covenant Presbyterian Church
X-ORIGINAL-URL:https://mycovenantpc.com
X-WR-CALDESC:Events for Covenant Presbyterian Church
REFRESH-INTERVAL;VALUE=DURATION:PT1H
X-Robots-Tag:noindex
X-PUBLISHED-TTL:PT1H
BEGIN:VTIMEZONE
TZID:America/New_York
BEGIN:DAYLIGHT
TZOFFSETFROM:-0500
TZOFFSETTO:-0400
TZNAME:EDT
DTSTART:20260308T070000
END:DAYLIGHT
BEGIN:STANDARD
TZOFFSETFROM:-0400
TZOFFSETTO:-0500
TZNAME:EST
DTSTART:20261101T060000
END:STANDARD
BEGIN:DAYLIGHT
TZOFFSETFROM:-0500
TZOFFSETTO:-0400
TZNAME:EDT
DTSTART:20270314T070000
END:DAYLIGHT
BEGIN:STANDARD
TZOFFSETFROM:-0400
TZOFFSETTO:-0500
TZNAME:EST
DTSTART:20271107T060000
END:STANDARD
BEGIN:DAYLIGHT
TZOFFSETFROM:-0500
TZOFFSETTO:-0400
TZNAME:EDT
DTSTART:20280312T070000
END:DAYLIGHT
BEGIN:STANDARD
TZOFFSETFROM:-0400
TZOFFSETTO:-0500
TZNAME:EST
DTSTART:20281105T060000
END:STANDARD
END:VTIMEZONE
BEGIN:VEVENT
DTSTART;TZID=America/New_York:20270425T093000
DTEND;TZID=America/New_York:20270425T110000
DTSTAMP:20260425T063743
CREATED:20250819T031730Z
LAST-MODIFIED:20260310T172531Z
UID:10002524-1808645400-1808650800@mycovenantpc.com
SUMMARY:Sunday Morning
DESCRIPTION:Sunday Morning: \n9:30 a.m.-Worship \n10:45 a.m.- Refuel Coffee \n11:00 a.m.-Sunday Studies for All Ages
URL:https://mycovenantpc.com/event/sunday-morning-evening/2027-04-25/
ATTACH;FMTTYPE=image/webp:https://mycovenantpc.com/wp-content/uploads/2025/08/Sunday-Mornings.webp
END:VEVENT
BEGIN:VEVENT
DTSTART;TZID=America/New_York:20270426T190000
DTEND;TZID=America/New_York:20270426T200000
DTSTAMP:20260425T063743
CREATED:20260114T184717Z
LAST-MODIFIED:20260114T184717Z
UID:10003300-1808766000-1808769600@mycovenantpc.com
SUMMARY:Men’s Bible Study
DESCRIPTION:
URL:https://mycovenantpc.com/event/mens-bible-study-2/2027-04-26/
ATTACH;FMTTYPE=image/png:https://mycovenantpc.com/wp-content/uploads/2025/09/Men-IHOP.png
END:VEVENT
BEGIN:VEVENT
DTSTART;TZID=America/New_York:20270428T073000
DTEND;TZID=America/New_York:20270428T083000
DTSTAMP:20260425T063743
CREATED:20260310T174455Z
LAST-MODIFIED:20260415T162156Z
UID:10003526-1808897400-1808901000@mycovenantpc.com
SUMMARY:R.O.M.E.O- Breakfast at IHOP
DESCRIPTION:Reformed Old Men Eating Out invites you together with them at IHOP in Easley. \nYou don’t have to be “old”\, you can be young at heart\, young in age\, or just a hungry man. See you there for a cup of Joe and good conversation. \nAddress: IHOP 6525 Calhoun Memorial Hwy #6525A\, Easley\, SC 29640
URL:https://mycovenantpc.com/event/r-o-m-e-o-breakfast-at-ihop/2027-04-28/
END:VEVENT
BEGIN:VEVENT
DTSTART;TZID=America/New_York:20270429T183000
DTEND;TZID=America/New_York:20270429T210000
DTSTAMP:20260425T063743
CREATED:20260415T171738Z
LAST-MODIFIED:20260415T171738Z
UID:10003783-1809023400-1809032400@mycovenantpc.com
SUMMARY:Men’s Open Gym
DESCRIPTION:Adult Men\, you are invited to come hang out\, play a game of pick-up basketball\, or whatever sport you’d like.
URL:https://mycovenantpc.com/event/mens-open-gym/2027-04-29/
END:VEVENT
BEGIN:VEVENT
DTSTART;TZID=America/New_York:20270502T093000
DTEND;TZID=America/New_York:20270502T110000
DTSTAMP:20260425T063743
CREATED:20250819T031730Z
LAST-MODIFIED:20260310T172531Z
UID:10002525-1809250200-1809255600@mycovenantpc.com
SUMMARY:Sunday Morning
DESCRIPTION:Sunday Morning: \n9:30 a.m.-Worship \n10:45 a.m.- Refuel Coffee \n11:00 a.m.-Sunday Studies for All Ages
URL:https://mycovenantpc.com/event/sunday-morning-evening/2027-05-02/
ATTACH;FMTTYPE=image/webp:https://mycovenantpc.com/wp-content/uploads/2025/08/Sunday-Mornings.webp
END:VEVENT
BEGIN:VEVENT
DTSTART;TZID=America/New_York:20270503T190000
DTEND;TZID=America/New_York:20270503T200000
DTSTAMP:20260425T063743
CREATED:20260114T184717Z
LAST-MODIFIED:20260114T184717Z
UID:10003301-1809370800-1809374400@mycovenantpc.com
SUMMARY:Men’s Bible Study
DESCRIPTION:
URL:https://mycovenantpc.com/event/mens-bible-study-2/2027-05-03/
ATTACH;FMTTYPE=image/png:https://mycovenantpc.com/wp-content/uploads/2025/09/Men-IHOP.png
END:VEVENT
BEGIN:VEVENT
DTSTART;TZID=America/New_York:20270505T073000
DTEND;TZID=America/New_York:20270505T083000
DTSTAMP:20260425T063743
CREATED:20260310T174455Z
LAST-MODIFIED:20260415T162156Z
UID:10003527-1809502200-1809505800@mycovenantpc.com
SUMMARY:R.O.M.E.O- Breakfast at IHOP
DESCRIPTION:Reformed Old Men Eating Out invites you together with them at IHOP in Easley. \nYou don’t have to be “old”\, you can be young at heart\, young in age\, or just a hungry man. See you there for a cup of Joe and good conversation. \nAddress: IHOP 6525 Calhoun Memorial Hwy #6525A\, Easley\, SC 29640
URL:https://mycovenantpc.com/event/r-o-m-e-o-breakfast-at-ihop/2027-05-05/
END:VEVENT
BEGIN:VEVENT
DTSTART;TZID=America/New_York:20270505T093000
DTEND;TZID=America/New_York:20270505T123000
DTSTAMP:20260425T063743
CREATED:20250907T225318Z
LAST-MODIFIED:20260114T182904Z
UID:10002884-1809509400-1809520200@mycovenantpc.com
SUMMARY:Ladies Creative Club
DESCRIPTION:Come as you have time\, bring whatever project you are working on\, and enjoy a group creative space. \nGod made us with so many gifts and talents. \nCovenant Life Center\, Agape Room. \nLed by Kelly Freeman
URL:https://mycovenantpc.com/event/ladies-creative-club-2/2027-05-05/
ATTACH;FMTTYPE=image/png:https://mycovenantpc.com/wp-content/uploads/2025/09/Creative-Club-2025.png
END:VEVENT
BEGIN:VEVENT
DTSTART;TZID=America/New_York:20270506T183000
DTEND;TZID=America/New_York:20270506T210000
DTSTAMP:20260425T063743
CREATED:20260415T171738Z
LAST-MODIFIED:20260415T171738Z
UID:10003784-1809628200-1809637200@mycovenantpc.com
SUMMARY:Men’s Open Gym
DESCRIPTION:Adult Men\, you are invited to come hang out\, play a game of pick-up basketball\, or whatever sport you’d like.
URL:https://mycovenantpc.com/event/mens-open-gym/2027-05-06/
END:VEVENT
BEGIN:VEVENT
DTSTART;TZID=America/New_York:20270508T170000
DTEND;TZID=America/New_York:20270508T190000
DTSTAMP:20260425T063743
CREATED:20260310T172257Z
LAST-MODIFIED:20260310T172259Z
UID:10003411-1809795600-1809802800@mycovenantpc.com
SUMMARY:Young Professionals  Monthly Dinner
DESCRIPTION:
URL:https://mycovenantpc.com/event/college-career-monthly-dinner-2/2027-05-08/
END:VEVENT
BEGIN:VEVENT
DTSTART;TZID=America/New_York:20270509T093000
DTEND;TZID=America/New_York:20270509T110000
DTSTAMP:20260425T063743
CREATED:20250819T031730Z
LAST-MODIFIED:20260310T172531Z
UID:10002526-1809855000-1809860400@mycovenantpc.com
SUMMARY:Sunday Morning
DESCRIPTION:Sunday Morning: \n9:30 a.m.-Worship \n10:45 a.m.- Refuel Coffee \n11:00 a.m.-Sunday Studies for All Ages
URL:https://mycovenantpc.com/event/sunday-morning-evening/2027-05-09/
ATTACH;FMTTYPE=image/webp:https://mycovenantpc.com/wp-content/uploads/2025/08/Sunday-Mornings.webp
END:VEVENT
BEGIN:VEVENT
DTSTART;TZID=America/New_York:20270510T190000
DTEND;TZID=America/New_York:20270510T200000
DTSTAMP:20260425T063743
CREATED:20260114T184717Z
LAST-MODIFIED:20260114T184717Z
UID:10003302-1809975600-1809979200@mycovenantpc.com
SUMMARY:Men’s Bible Study
DESCRIPTION:
URL:https://mycovenantpc.com/event/mens-bible-study-2/2027-05-10/
ATTACH;FMTTYPE=image/png:https://mycovenantpc.com/wp-content/uploads/2025/09/Men-IHOP.png
END:VEVENT
BEGIN:VEVENT
DTSTART;TZID=America/New_York:20270512T073000
DTEND;TZID=America/New_York:20270512T083000
DTSTAMP:20260425T063743
CREATED:20260310T174455Z
LAST-MODIFIED:20260415T162156Z
UID:10003528-1810107000-1810110600@mycovenantpc.com
SUMMARY:R.O.M.E.O- Breakfast at IHOP
DESCRIPTION:Reformed Old Men Eating Out invites you together with them at IHOP in Easley. \nYou don’t have to be “old”\, you can be young at heart\, young in age\, or just a hungry man. See you there for a cup of Joe and good conversation. \nAddress: IHOP 6525 Calhoun Memorial Hwy #6525A\, Easley\, SC 29640
URL:https://mycovenantpc.com/event/r-o-m-e-o-breakfast-at-ihop/2027-05-12/
END:VEVENT
BEGIN:VEVENT
DTSTART;TZID=America/New_York:20270513T183000
DTEND;TZID=America/New_York:20270513T210000
DTSTAMP:20260425T063743
CREATED:20260415T171738Z
LAST-MODIFIED:20260415T171738Z
UID:10003785-1810233000-1810242000@mycovenantpc.com
SUMMARY:Men’s Open Gym
DESCRIPTION:Adult Men\, you are invited to come hang out\, play a game of pick-up basketball\, or whatever sport you’d like.
URL:https://mycovenantpc.com/event/mens-open-gym/2027-05-13/
END:VEVENT
BEGIN:VEVENT
DTSTART;TZID=America/New_York:20270516T093000
DTEND;TZID=America/New_York:20270516T110000
DTSTAMP:20260425T063743
CREATED:20250819T031730Z
LAST-MODIFIED:20260310T172531Z
UID:10002527-1810459800-1810465200@mycovenantpc.com
SUMMARY:Sunday Morning
DESCRIPTION:Sunday Morning: \n9:30 a.m.-Worship \n10:45 a.m.- Refuel Coffee \n11:00 a.m.-Sunday Studies for All Ages
URL:https://mycovenantpc.com/event/sunday-morning-evening/2027-05-16/
ATTACH;FMTTYPE=image/webp:https://mycovenantpc.com/wp-content/uploads/2025/08/Sunday-Mornings.webp
END:VEVENT
BEGIN:VEVENT
DTSTART;TZID=America/New_York:20270517T190000
DTEND;TZID=America/New_York:20270517T200000
DTSTAMP:20260425T063743
CREATED:20260114T184717Z
LAST-MODIFIED:20260114T184717Z
UID:10003303-1810580400-1810584000@mycovenantpc.com
SUMMARY:Men’s Bible Study
DESCRIPTION:
URL:https://mycovenantpc.com/event/mens-bible-study-2/2027-05-17/
ATTACH;FMTTYPE=image/png:https://mycovenantpc.com/wp-content/uploads/2025/09/Men-IHOP.png
END:VEVENT
BEGIN:VEVENT
DTSTART;TZID=America/New_York:20270519T073000
DTEND;TZID=America/New_York:20270519T083000
DTSTAMP:20260425T063743
CREATED:20260310T174455Z
LAST-MODIFIED:20260415T162156Z
UID:10003529-1810711800-1810715400@mycovenantpc.com
SUMMARY:R.O.M.E.O- Breakfast at IHOP
DESCRIPTION:Reformed Old Men Eating Out invites you together with them at IHOP in Easley. \nYou don’t have to be “old”\, you can be young at heart\, young in age\, or just a hungry man. See you there for a cup of Joe and good conversation. \nAddress: IHOP 6525 Calhoun Memorial Hwy #6525A\, Easley\, SC 29640
URL:https://mycovenantpc.com/event/r-o-m-e-o-breakfast-at-ihop/2027-05-19/
END:VEVENT
BEGIN:VEVENT
DTSTART;TZID=America/New_York:20270520T183000
DTEND;TZID=America/New_York:20270520T210000
DTSTAMP:20260425T063743
CREATED:20260415T171738Z
LAST-MODIFIED:20260415T171738Z
UID:10003786-1810837800-1810846800@mycovenantpc.com
SUMMARY:Men’s Open Gym
DESCRIPTION:Adult Men\, you are invited to come hang out\, play a game of pick-up basketball\, or whatever sport you’d like.
URL:https://mycovenantpc.com/event/mens-open-gym/2027-05-20/
END:VEVENT
BEGIN:VEVENT
DTSTART;TZID=America/New_York:20270523T093000
DTEND;TZID=America/New_York:20270523T110000
DTSTAMP:20260425T063743
CREATED:20250819T031730Z
LAST-MODIFIED:20260310T172531Z
UID:10002528-1811064600-1811070000@mycovenantpc.com
SUMMARY:Sunday Morning
DESCRIPTION:Sunday Morning: \n9:30 a.m.-Worship \n10:45 a.m.- Refuel Coffee \n11:00 a.m.-Sunday Studies for All Ages
URL:https://mycovenantpc.com/event/sunday-morning-evening/2027-05-23/
ATTACH;FMTTYPE=image/webp:https://mycovenantpc.com/wp-content/uploads/2025/08/Sunday-Mornings.webp
END:VEVENT
BEGIN:VEVENT
DTSTART;TZID=America/New_York:20270524T190000
DTEND;TZID=America/New_York:20270524T200000
DTSTAMP:20260425T063743
CREATED:20260114T184717Z
LAST-MODIFIED:20260114T184717Z
UID:10003304-1811185200-1811188800@mycovenantpc.com
SUMMARY:Men’s Bible Study
DESCRIPTION:
URL:https://mycovenantpc.com/event/mens-bible-study-2/2027-05-24/
ATTACH;FMTTYPE=image/png:https://mycovenantpc.com/wp-content/uploads/2025/09/Men-IHOP.png
END:VEVENT
BEGIN:VEVENT
DTSTART;TZID=America/New_York:20270526T073000
DTEND;TZID=America/New_York:20270526T083000
DTSTAMP:20260425T063743
CREATED:20260310T174455Z
LAST-MODIFIED:20260415T162156Z
UID:10003530-1811316600-1811320200@mycovenantpc.com
SUMMARY:R.O.M.E.O- Breakfast at IHOP
DESCRIPTION:Reformed Old Men Eating Out invites you together with them at IHOP in Easley. \nYou don’t have to be “old”\, you can be young at heart\, young in age\, or just a hungry man. See you there for a cup of Joe and good conversation. \nAddress: IHOP 6525 Calhoun Memorial Hwy #6525A\, Easley\, SC 29640
URL:https://mycovenantpc.com/event/r-o-m-e-o-breakfast-at-ihop/2027-05-26/
END:VEVENT
BEGIN:VEVENT
DTSTART;TZID=America/New_York:20270527T183000
DTEND;TZID=America/New_York:20270527T210000
DTSTAMP:20260425T063743
CREATED:20260415T171738Z
LAST-MODIFIED:20260415T171738Z
UID:10003787-1811442600-1811451600@mycovenantpc.com
SUMMARY:Men’s Open Gym
DESCRIPTION:Adult Men\, you are invited to come hang out\, play a game of pick-up basketball\, or whatever sport you’d like.
URL:https://mycovenantpc.com/event/mens-open-gym/2027-05-27/
END:VEVENT
BEGIN:VEVENT
DTSTART;TZID=America/New_York:20270530T093000
DTEND;TZID=America/New_York:20270530T110000
DTSTAMP:20260425T063743
CREATED:20250819T031730Z
LAST-MODIFIED:20260310T172531Z
UID:10002529-1811669400-1811674800@mycovenantpc.com
SUMMARY:Sunday Morning
DESCRIPTION:Sunday Morning: \n9:30 a.m.-Worship \n10:45 a.m.- Refuel Coffee \n11:00 a.m.-Sunday Studies for All Ages
URL:https://mycovenantpc.com/event/sunday-morning-evening/2027-05-30/
ATTACH;FMTTYPE=image/webp:https://mycovenantpc.com/wp-content/uploads/2025/08/Sunday-Mornings.webp
END:VEVENT
BEGIN:VEVENT
DTSTART;TZID=America/New_York:20270602T073000
DTEND;TZID=America/New_York:20270602T083000
DTSTAMP:20260425T063743
CREATED:20260310T174455Z
LAST-MODIFIED:20260415T162156Z
UID:10003531-1811921400-1811925000@mycovenantpc.com
SUMMARY:R.O.M.E.O- Breakfast at IHOP
DESCRIPTION:Reformed Old Men Eating Out invites you together with them at IHOP in Easley. \nYou don’t have to be “old”\, you can be young at heart\, young in age\, or just a hungry man. See you there for a cup of Joe and good conversation. \nAddress: IHOP 6525 Calhoun Memorial Hwy #6525A\, Easley\, SC 29640
URL:https://mycovenantpc.com/event/r-o-m-e-o-breakfast-at-ihop/2027-06-02/
END:VEVENT
BEGIN:VEVENT
DTSTART;TZID=America/New_York:20270602T093000
DTEND;TZID=America/New_York:20270602T123000
DTSTAMP:20260425T063743
CREATED:20250907T225318Z
LAST-MODIFIED:20260114T182904Z
UID:10002885-1811928600-1811939400@mycovenantpc.com
SUMMARY:Ladies Creative Club
DESCRIPTION:Come as you have time\, bring whatever project you are working on\, and enjoy a group creative space. \nGod made us with so many gifts and talents. \nCovenant Life Center\, Agape Room. \nLed by Kelly Freeman
URL:https://mycovenantpc.com/event/ladies-creative-club-2/2027-06-02/
ATTACH;FMTTYPE=image/png:https://mycovenantpc.com/wp-content/uploads/2025/09/Creative-Club-2025.png
END:VEVENT
BEGIN:VEVENT
DTSTART;TZID=America/New_York:20270603T183000
DTEND;TZID=America/New_York:20270603T210000
DTSTAMP:20260425T063743
CREATED:20260415T171738Z
LAST-MODIFIED:20260415T171738Z
UID:10003788-1812047400-1812056400@mycovenantpc.com
SUMMARY:Men’s Open Gym
DESCRIPTION:Adult Men\, you are invited to come hang out\, play a game of pick-up basketball\, or whatever sport you’d like.
URL:https://mycovenantpc.com/event/mens-open-gym/2027-06-03/
END:VEVENT
BEGIN:VEVENT
DTSTART;TZID=America/New_York:20270606T093000
DTEND;TZID=America/New_York:20270606T110000
DTSTAMP:20260425T063743
CREATED:20250819T031730Z
LAST-MODIFIED:20260310T172531Z
UID:10002530-1812274200-1812279600@mycovenantpc.com
SUMMARY:Sunday Morning
DESCRIPTION:Sunday Morning: \n9:30 a.m.-Worship \n10:45 a.m.- Refuel Coffee \n11:00 a.m.-Sunday Studies for All Ages
URL:https://mycovenantpc.com/event/sunday-morning-evening/2027-06-06/
ATTACH;FMTTYPE=image/webp:https://mycovenantpc.com/wp-content/uploads/2025/08/Sunday-Mornings.webp
END:VEVENT
BEGIN:VEVENT
DTSTART;TZID=America/New_York:20270609T073000
DTEND;TZID=America/New_York:20270609T083000
DTSTAMP:20260425T063743
CREATED:20260310T174455Z
LAST-MODIFIED:20260415T162156Z
UID:10003532-1812526200-1812529800@mycovenantpc.com
SUMMARY:R.O.M.E.O- Breakfast at IHOP
DESCRIPTION:Reformed Old Men Eating Out invites you together with them at IHOP in Easley. \nYou don’t have to be “old”\, you can be young at heart\, young in age\, or just a hungry man. See you there for a cup of Joe and good conversation. \nAddress: IHOP 6525 Calhoun Memorial Hwy #6525A\, Easley\, SC 29640
URL:https://mycovenantpc.com/event/r-o-m-e-o-breakfast-at-ihop/2027-06-09/
END:VEVENT
BEGIN:VEVENT
DTSTART;TZID=America/New_York:20270610T183000
DTEND;TZID=America/New_York:20270610T210000
DTSTAMP:20260425T063743
CREATED:20260415T171738Z
LAST-MODIFIED:20260415T171738Z
UID:10003789-1812652200-1812661200@mycovenantpc.com
SUMMARY:Men’s Open Gym
DESCRIPTION:Adult Men\, you are invited to come hang out\, play a game of pick-up basketball\, or whatever sport you’d like.
URL:https://mycovenantpc.com/event/mens-open-gym/2027-06-10/
END:VEVENT
BEGIN:VEVENT
DTSTART;TZID=America/New_York:20270612T170000
DTEND;TZID=America/New_York:20270612T190000
DTSTAMP:20260425T063743
CREATED:20260310T172257Z
LAST-MODIFIED:20260310T172259Z
UID:10003412-1812819600-1812826800@mycovenantpc.com
SUMMARY:Young Professionals  Monthly Dinner
DESCRIPTION:
URL:https://mycovenantpc.com/event/college-career-monthly-dinner-2/2027-06-12/
END:VEVENT
END:VCALENDAR