BEGIN:VCALENDAR
VERSION:2.0
PRODID:-//Covenant Presbyterian Church - ECPv6.15.17//NONSGML v1.0//EN
CALSCALE:GREGORIAN
METHOD:PUBLISH
X-WR-CALNAME:Covenant Presbyterian Church
X-ORIGINAL-URL:https://mycovenantpc.com
X-WR-CALDESC:Events for Covenant Presbyterian Church
REFRESH-INTERVAL;VALUE=DURATION:PT1H
X-Robots-Tag:noindex
X-PUBLISHED-TTL:PT1H
BEGIN:VTIMEZONE
TZID:America/New_York
BEGIN:DAYLIGHT
TZOFFSETFROM:-0500
TZOFFSETTO:-0400
TZNAME:EDT
DTSTART:20250309T070000
END:DAYLIGHT
BEGIN:STANDARD
TZOFFSETFROM:-0400
TZOFFSETTO:-0500
TZNAME:EST
DTSTART:20251102T060000
END:STANDARD
BEGIN:DAYLIGHT
TZOFFSETFROM:-0500
TZOFFSETTO:-0400
TZNAME:EDT
DTSTART:20260308T070000
END:DAYLIGHT
BEGIN:STANDARD
TZOFFSETFROM:-0400
TZOFFSETTO:-0500
TZNAME:EST
DTSTART:20261101T060000
END:STANDARD
BEGIN:DAYLIGHT
TZOFFSETFROM:-0500
TZOFFSETTO:-0400
TZNAME:EDT
DTSTART:20270314T070000
END:DAYLIGHT
BEGIN:STANDARD
TZOFFSETFROM:-0400
TZOFFSETTO:-0500
TZNAME:EST
DTSTART:20271107T060000
END:STANDARD
BEGIN:DAYLIGHT
TZOFFSETFROM:-0500
TZOFFSETTO:-0400
TZNAME:EDT
DTSTART:20280312T070000
END:DAYLIGHT
BEGIN:STANDARD
TZOFFSETFROM:-0400
TZOFFSETTO:-0500
TZNAME:EST
DTSTART:20281105T060000
END:STANDARD
END:VTIMEZONE
BEGIN:VEVENT
DTSTART;TZID=America/New_York:20261221T190000
DTEND;TZID=America/New_York:20261221T200000
DTSTAMP:20260424T080916
CREATED:20260114T184717Z
LAST-MODIFIED:20260114T184717Z
UID:10003282-1797879600-1797883200@mycovenantpc.com
SUMMARY:Men’s Bible Study
DESCRIPTION:
URL:https://mycovenantpc.com/event/mens-bible-study-2/2026-12-21/
ATTACH;FMTTYPE=image/png:https://mycovenantpc.com/wp-content/uploads/2025/09/Men-IHOP.png
END:VEVENT
BEGIN:VEVENT
DTSTART;TZID=America/New_York:20261223T073000
DTEND;TZID=America/New_York:20261223T083000
DTSTAMP:20260424T080916
CREATED:20260310T174455Z
LAST-MODIFIED:20260415T162156Z
UID:10003508-1798011000-1798014600@mycovenantpc.com
SUMMARY:R.O.M.E.O- Breakfast at IHOP
DESCRIPTION:Reformed Old Men Eating Out invites you together with them at IHOP in Easley. \nYou don’t have to be “old”\, you can be young at heart\, young in age\, or just a hungry man. See you there for a cup of Joe and good conversation. \nAddress: IHOP 6525 Calhoun Memorial Hwy #6525A\, Easley\, SC 29640
URL:https://mycovenantpc.com/event/r-o-m-e-o-breakfast-at-ihop/2026-12-23/
END:VEVENT
BEGIN:VEVENT
DTSTART;TZID=America/New_York:20261224T183000
DTEND;TZID=America/New_York:20261224T210000
DTSTAMP:20260424T080916
CREATED:20260415T171738Z
LAST-MODIFIED:20260415T171738Z
UID:10003765-1798137000-1798146000@mycovenantpc.com
SUMMARY:Men’s Open Gym
DESCRIPTION:Adult Men\, you are invited to come hang out\, play a game of pick-up basketball\, or whatever sport you’d like.
URL:https://mycovenantpc.com/event/mens-open-gym/2026-12-24/
END:VEVENT
BEGIN:VEVENT
DTSTART;TZID=America/New_York:20261227T093000
DTEND;TZID=America/New_York:20261227T110000
DTSTAMP:20260424T080916
CREATED:20250819T031730Z
LAST-MODIFIED:20260310T172531Z
UID:10002507-1798363800-1798369200@mycovenantpc.com
SUMMARY:Sunday Morning
DESCRIPTION:Sunday Morning: \n9:30 a.m.-Worship \n10:45 a.m.- Refuel Coffee \n11:00 a.m.-Sunday Studies for All Ages
URL:https://mycovenantpc.com/event/sunday-morning-evening/2026-12-27/
ATTACH;FMTTYPE=image/webp:https://mycovenantpc.com/wp-content/uploads/2025/08/Sunday-Mornings.webp
END:VEVENT
BEGIN:VEVENT
DTSTART;TZID=America/New_York:20261228T190000
DTEND;TZID=America/New_York:20261228T200000
DTSTAMP:20260424T080916
CREATED:20260114T184717Z
LAST-MODIFIED:20260114T184717Z
UID:10003283-1798484400-1798488000@mycovenantpc.com
SUMMARY:Men’s Bible Study
DESCRIPTION:
URL:https://mycovenantpc.com/event/mens-bible-study-2/2026-12-28/
ATTACH;FMTTYPE=image/png:https://mycovenantpc.com/wp-content/uploads/2025/09/Men-IHOP.png
END:VEVENT
BEGIN:VEVENT
DTSTART;TZID=America/New_York:20261230T073000
DTEND;TZID=America/New_York:20261230T083000
DTSTAMP:20260424T080916
CREATED:20260310T174455Z
LAST-MODIFIED:20260415T162156Z
UID:10003509-1798615800-1798619400@mycovenantpc.com
SUMMARY:R.O.M.E.O- Breakfast at IHOP
DESCRIPTION:Reformed Old Men Eating Out invites you together with them at IHOP in Easley. \nYou don’t have to be “old”\, you can be young at heart\, young in age\, or just a hungry man. See you there for a cup of Joe and good conversation. \nAddress: IHOP 6525 Calhoun Memorial Hwy #6525A\, Easley\, SC 29640
URL:https://mycovenantpc.com/event/r-o-m-e-o-breakfast-at-ihop/2026-12-30/
END:VEVENT
BEGIN:VEVENT
DTSTART;TZID=America/New_York:20261231T183000
DTEND;TZID=America/New_York:20261231T210000
DTSTAMP:20260424T080916
CREATED:20260415T171738Z
LAST-MODIFIED:20260415T171738Z
UID:10003766-1798741800-1798750800@mycovenantpc.com
SUMMARY:Men’s Open Gym
DESCRIPTION:Adult Men\, you are invited to come hang out\, play a game of pick-up basketball\, or whatever sport you’d like.
URL:https://mycovenantpc.com/event/mens-open-gym/2026-12-31/
END:VEVENT
BEGIN:VEVENT
DTSTART;TZID=America/New_York:20270103T093000
DTEND;TZID=America/New_York:20270103T110000
DTSTAMP:20260424T080916
CREATED:20250819T031730Z
LAST-MODIFIED:20260310T172531Z
UID:10002508-1798968600-1798974000@mycovenantpc.com
SUMMARY:Sunday Morning
DESCRIPTION:Sunday Morning: \n9:30 a.m.-Worship \n10:45 a.m.- Refuel Coffee \n11:00 a.m.-Sunday Studies for All Ages
URL:https://mycovenantpc.com/event/sunday-morning-evening/2027-01-03/
ATTACH;FMTTYPE=image/webp:https://mycovenantpc.com/wp-content/uploads/2025/08/Sunday-Mornings.webp
END:VEVENT
BEGIN:VEVENT
DTSTART;TZID=America/New_York:20270104T190000
DTEND;TZID=America/New_York:20270104T200000
DTSTAMP:20260424T080916
CREATED:20260114T184717Z
LAST-MODIFIED:20260114T184717Z
UID:10003284-1799089200-1799092800@mycovenantpc.com
SUMMARY:Men’s Bible Study
DESCRIPTION:
URL:https://mycovenantpc.com/event/mens-bible-study-2/2027-01-04/
ATTACH;FMTTYPE=image/png:https://mycovenantpc.com/wp-content/uploads/2025/09/Men-IHOP.png
END:VEVENT
BEGIN:VEVENT
DTSTART;TZID=America/New_York:20270106T073000
DTEND;TZID=America/New_York:20270106T083000
DTSTAMP:20260424T080916
CREATED:20260310T174455Z
LAST-MODIFIED:20260415T162156Z
UID:10003510-1799220600-1799224200@mycovenantpc.com
SUMMARY:R.O.M.E.O- Breakfast at IHOP
DESCRIPTION:Reformed Old Men Eating Out invites you together with them at IHOP in Easley. \nYou don’t have to be “old”\, you can be young at heart\, young in age\, or just a hungry man. See you there for a cup of Joe and good conversation. \nAddress: IHOP 6525 Calhoun Memorial Hwy #6525A\, Easley\, SC 29640
URL:https://mycovenantpc.com/event/r-o-m-e-o-breakfast-at-ihop/2027-01-06/
END:VEVENT
BEGIN:VEVENT
DTSTART;TZID=America/New_York:20270106T093000
DTEND;TZID=America/New_York:20270106T123000
DTSTAMP:20260424T080916
CREATED:20250907T225318Z
LAST-MODIFIED:20260114T182904Z
UID:10002880-1799227800-1799238600@mycovenantpc.com
SUMMARY:Ladies Creative Club
DESCRIPTION:Come as you have time\, bring whatever project you are working on\, and enjoy a group creative space. \nGod made us with so many gifts and talents. \nCovenant Life Center\, Agape Room. \nLed by Kelly Freeman
URL:https://mycovenantpc.com/event/ladies-creative-club-2/2027-01-06/
ATTACH;FMTTYPE=image/png:https://mycovenantpc.com/wp-content/uploads/2025/09/Creative-Club-2025.png
END:VEVENT
BEGIN:VEVENT
DTSTART;TZID=America/New_York:20270107T183000
DTEND;TZID=America/New_York:20270107T210000
DTSTAMP:20260424T080916
CREATED:20260415T171738Z
LAST-MODIFIED:20260415T171738Z
UID:10003767-1799346600-1799355600@mycovenantpc.com
SUMMARY:Men’s Open Gym
DESCRIPTION:Adult Men\, you are invited to come hang out\, play a game of pick-up basketball\, or whatever sport you’d like.
URL:https://mycovenantpc.com/event/mens-open-gym/2027-01-07/
END:VEVENT
BEGIN:VEVENT
DTSTART;TZID=America/New_York:20270109T170000
DTEND;TZID=America/New_York:20270109T190000
DTSTAMP:20260424T080916
CREATED:20260310T172257Z
LAST-MODIFIED:20260310T172259Z
UID:10003407-1799514000-1799521200@mycovenantpc.com
SUMMARY:Young Professionals  Monthly Dinner
DESCRIPTION:
URL:https://mycovenantpc.com/event/college-career-monthly-dinner-2/2027-01-09/
END:VEVENT
BEGIN:VEVENT
DTSTART;TZID=America/New_York:20270110T093000
DTEND;TZID=America/New_York:20270110T110000
DTSTAMP:20260424T080916
CREATED:20250819T031730Z
LAST-MODIFIED:20260310T172531Z
UID:10002509-1799573400-1799578800@mycovenantpc.com
SUMMARY:Sunday Morning
DESCRIPTION:Sunday Morning: \n9:30 a.m.-Worship \n10:45 a.m.- Refuel Coffee \n11:00 a.m.-Sunday Studies for All Ages
URL:https://mycovenantpc.com/event/sunday-morning-evening/2027-01-10/
ATTACH;FMTTYPE=image/webp:https://mycovenantpc.com/wp-content/uploads/2025/08/Sunday-Mornings.webp
END:VEVENT
BEGIN:VEVENT
DTSTART;TZID=America/New_York:20270111T190000
DTEND;TZID=America/New_York:20270111T200000
DTSTAMP:20260424T080916
CREATED:20260114T184717Z
LAST-MODIFIED:20260114T184717Z
UID:10003285-1799694000-1799697600@mycovenantpc.com
SUMMARY:Men’s Bible Study
DESCRIPTION:
URL:https://mycovenantpc.com/event/mens-bible-study-2/2027-01-11/
ATTACH;FMTTYPE=image/png:https://mycovenantpc.com/wp-content/uploads/2025/09/Men-IHOP.png
END:VEVENT
BEGIN:VEVENT
DTSTART;TZID=America/New_York:20270113T073000
DTEND;TZID=America/New_York:20270113T083000
DTSTAMP:20260424T080916
CREATED:20260310T174455Z
LAST-MODIFIED:20260415T162156Z
UID:10003511-1799825400-1799829000@mycovenantpc.com
SUMMARY:R.O.M.E.O- Breakfast at IHOP
DESCRIPTION:Reformed Old Men Eating Out invites you together with them at IHOP in Easley. \nYou don’t have to be “old”\, you can be young at heart\, young in age\, or just a hungry man. See you there for a cup of Joe and good conversation. \nAddress: IHOP 6525 Calhoun Memorial Hwy #6525A\, Easley\, SC 29640
URL:https://mycovenantpc.com/event/r-o-m-e-o-breakfast-at-ihop/2027-01-13/
END:VEVENT
BEGIN:VEVENT
DTSTART;TZID=America/New_York:20270114T183000
DTEND;TZID=America/New_York:20270114T210000
DTSTAMP:20260424T080916
CREATED:20260415T171738Z
LAST-MODIFIED:20260415T171738Z
UID:10003768-1799951400-1799960400@mycovenantpc.com
SUMMARY:Men’s Open Gym
DESCRIPTION:Adult Men\, you are invited to come hang out\, play a game of pick-up basketball\, or whatever sport you’d like.
URL:https://mycovenantpc.com/event/mens-open-gym/2027-01-14/
END:VEVENT
BEGIN:VEVENT
DTSTART;TZID=America/New_York:20270117T093000
DTEND;TZID=America/New_York:20270117T110000
DTSTAMP:20260424T080916
CREATED:20250819T031730Z
LAST-MODIFIED:20260310T172531Z
UID:10002510-1800178200-1800183600@mycovenantpc.com
SUMMARY:Sunday Morning
DESCRIPTION:Sunday Morning: \n9:30 a.m.-Worship \n10:45 a.m.- Refuel Coffee \n11:00 a.m.-Sunday Studies for All Ages
URL:https://mycovenantpc.com/event/sunday-morning-evening/2027-01-17/
ATTACH;FMTTYPE=image/webp:https://mycovenantpc.com/wp-content/uploads/2025/08/Sunday-Mornings.webp
END:VEVENT
BEGIN:VEVENT
DTSTART;TZID=America/New_York:20270118T190000
DTEND;TZID=America/New_York:20270118T200000
DTSTAMP:20260424T080916
CREATED:20260114T184717Z
LAST-MODIFIED:20260114T184717Z
UID:10003286-1800298800-1800302400@mycovenantpc.com
SUMMARY:Men’s Bible Study
DESCRIPTION:
URL:https://mycovenantpc.com/event/mens-bible-study-2/2027-01-18/
ATTACH;FMTTYPE=image/png:https://mycovenantpc.com/wp-content/uploads/2025/09/Men-IHOP.png
END:VEVENT
BEGIN:VEVENT
DTSTART;TZID=America/New_York:20270120T073000
DTEND;TZID=America/New_York:20270120T083000
DTSTAMP:20260424T080916
CREATED:20260310T174455Z
LAST-MODIFIED:20260415T162156Z
UID:10003512-1800430200-1800433800@mycovenantpc.com
SUMMARY:R.O.M.E.O- Breakfast at IHOP
DESCRIPTION:Reformed Old Men Eating Out invites you together with them at IHOP in Easley. \nYou don’t have to be “old”\, you can be young at heart\, young in age\, or just a hungry man. See you there for a cup of Joe and good conversation. \nAddress: IHOP 6525 Calhoun Memorial Hwy #6525A\, Easley\, SC 29640
URL:https://mycovenantpc.com/event/r-o-m-e-o-breakfast-at-ihop/2027-01-20/
END:VEVENT
BEGIN:VEVENT
DTSTART;TZID=America/New_York:20270121T183000
DTEND;TZID=America/New_York:20270121T210000
DTSTAMP:20260424T080916
CREATED:20260415T171738Z
LAST-MODIFIED:20260415T171738Z
UID:10003769-1800556200-1800565200@mycovenantpc.com
SUMMARY:Men’s Open Gym
DESCRIPTION:Adult Men\, you are invited to come hang out\, play a game of pick-up basketball\, or whatever sport you’d like.
URL:https://mycovenantpc.com/event/mens-open-gym/2027-01-21/
END:VEVENT
BEGIN:VEVENT
DTSTART;TZID=America/New_York:20270124T093000
DTEND;TZID=America/New_York:20270124T110000
DTSTAMP:20260424T080916
CREATED:20250819T031730Z
LAST-MODIFIED:20260310T172531Z
UID:10002511-1800783000-1800788400@mycovenantpc.com
SUMMARY:Sunday Morning
DESCRIPTION:Sunday Morning: \n9:30 a.m.-Worship \n10:45 a.m.- Refuel Coffee \n11:00 a.m.-Sunday Studies for All Ages
URL:https://mycovenantpc.com/event/sunday-morning-evening/2027-01-24/
ATTACH;FMTTYPE=image/webp:https://mycovenantpc.com/wp-content/uploads/2025/08/Sunday-Mornings.webp
END:VEVENT
BEGIN:VEVENT
DTSTART;TZID=America/New_York:20270125T190000
DTEND;TZID=America/New_York:20270125T200000
DTSTAMP:20260424T080916
CREATED:20260114T184717Z
LAST-MODIFIED:20260114T184717Z
UID:10003287-1800903600-1800907200@mycovenantpc.com
SUMMARY:Men’s Bible Study
DESCRIPTION:
URL:https://mycovenantpc.com/event/mens-bible-study-2/2027-01-25/
ATTACH;FMTTYPE=image/png:https://mycovenantpc.com/wp-content/uploads/2025/09/Men-IHOP.png
END:VEVENT
BEGIN:VEVENT
DTSTART;TZID=America/New_York:20270127T073000
DTEND;TZID=America/New_York:20270127T083000
DTSTAMP:20260424T080916
CREATED:20260310T174455Z
LAST-MODIFIED:20260415T162156Z
UID:10003513-1801035000-1801038600@mycovenantpc.com
SUMMARY:R.O.M.E.O- Breakfast at IHOP
DESCRIPTION:Reformed Old Men Eating Out invites you together with them at IHOP in Easley. \nYou don’t have to be “old”\, you can be young at heart\, young in age\, or just a hungry man. See you there for a cup of Joe and good conversation. \nAddress: IHOP 6525 Calhoun Memorial Hwy #6525A\, Easley\, SC 29640
URL:https://mycovenantpc.com/event/r-o-m-e-o-breakfast-at-ihop/2027-01-27/
END:VEVENT
BEGIN:VEVENT
DTSTART;TZID=America/New_York:20270128T183000
DTEND;TZID=America/New_York:20270128T210000
DTSTAMP:20260424T080916
CREATED:20260415T171738Z
LAST-MODIFIED:20260415T171738Z
UID:10003770-1801161000-1801170000@mycovenantpc.com
SUMMARY:Men’s Open Gym
DESCRIPTION:Adult Men\, you are invited to come hang out\, play a game of pick-up basketball\, or whatever sport you’d like.
URL:https://mycovenantpc.com/event/mens-open-gym/2027-01-28/
END:VEVENT
BEGIN:VEVENT
DTSTART;TZID=America/New_York:20270131T093000
DTEND;TZID=America/New_York:20270131T110000
DTSTAMP:20260424T080916
CREATED:20250819T031730Z
LAST-MODIFIED:20260310T172531Z
UID:10002512-1801387800-1801393200@mycovenantpc.com
SUMMARY:Sunday Morning
DESCRIPTION:Sunday Morning: \n9:30 a.m.-Worship \n10:45 a.m.- Refuel Coffee \n11:00 a.m.-Sunday Studies for All Ages
URL:https://mycovenantpc.com/event/sunday-morning-evening/2027-01-31/
ATTACH;FMTTYPE=image/webp:https://mycovenantpc.com/wp-content/uploads/2025/08/Sunday-Mornings.webp
END:VEVENT
BEGIN:VEVENT
DTSTART;TZID=America/New_York:20270201T190000
DTEND;TZID=America/New_York:20270201T200000
DTSTAMP:20260424T080916
CREATED:20260114T184717Z
LAST-MODIFIED:20260114T184717Z
UID:10003288-1801508400-1801512000@mycovenantpc.com
SUMMARY:Men’s Bible Study
DESCRIPTION:
URL:https://mycovenantpc.com/event/mens-bible-study-2/2027-02-01/
ATTACH;FMTTYPE=image/png:https://mycovenantpc.com/wp-content/uploads/2025/09/Men-IHOP.png
END:VEVENT
BEGIN:VEVENT
DTSTART;TZID=America/New_York:20270203T073000
DTEND;TZID=America/New_York:20270203T083000
DTSTAMP:20260424T080916
CREATED:20260310T174455Z
LAST-MODIFIED:20260415T162156Z
UID:10003514-1801639800-1801643400@mycovenantpc.com
SUMMARY:R.O.M.E.O- Breakfast at IHOP
DESCRIPTION:Reformed Old Men Eating Out invites you together with them at IHOP in Easley. \nYou don’t have to be “old”\, you can be young at heart\, young in age\, or just a hungry man. See you there for a cup of Joe and good conversation. \nAddress: IHOP 6525 Calhoun Memorial Hwy #6525A\, Easley\, SC 29640
URL:https://mycovenantpc.com/event/r-o-m-e-o-breakfast-at-ihop/2027-02-03/
END:VEVENT
BEGIN:VEVENT
DTSTART;TZID=America/New_York:20270203T093000
DTEND;TZID=America/New_York:20270203T123000
DTSTAMP:20260424T080916
CREATED:20250907T225318Z
LAST-MODIFIED:20260114T182904Z
UID:10002881-1801647000-1801657800@mycovenantpc.com
SUMMARY:Ladies Creative Club
DESCRIPTION:Come as you have time\, bring whatever project you are working on\, and enjoy a group creative space. \nGod made us with so many gifts and talents. \nCovenant Life Center\, Agape Room. \nLed by Kelly Freeman
URL:https://mycovenantpc.com/event/ladies-creative-club-2/2027-02-03/
ATTACH;FMTTYPE=image/png:https://mycovenantpc.com/wp-content/uploads/2025/09/Creative-Club-2025.png
END:VEVENT
BEGIN:VEVENT
DTSTART;TZID=America/New_York:20270204T183000
DTEND;TZID=America/New_York:20270204T210000
DTSTAMP:20260424T080916
CREATED:20260415T171738Z
LAST-MODIFIED:20260415T171738Z
UID:10003771-1801765800-1801774800@mycovenantpc.com
SUMMARY:Men’s Open Gym
DESCRIPTION:Adult Men\, you are invited to come hang out\, play a game of pick-up basketball\, or whatever sport you’d like.
URL:https://mycovenantpc.com/event/mens-open-gym/2027-02-04/
END:VEVENT
END:VCALENDAR