BEGIN:VCALENDAR
VERSION:2.0
PRODID:-//Covenant Presbyterian Church - ECPv6.15.17//NONSGML v1.0//EN
CALSCALE:GREGORIAN
METHOD:PUBLISH
X-WR-CALNAME:Covenant Presbyterian Church
X-ORIGINAL-URL:https://mycovenantpc.com
X-WR-CALDESC:Events for Covenant Presbyterian Church
REFRESH-INTERVAL;VALUE=DURATION:PT1H
X-Robots-Tag:noindex
X-PUBLISHED-TTL:PT1H
BEGIN:VTIMEZONE
TZID:America/New_York
BEGIN:DAYLIGHT
TZOFFSETFROM:-0500
TZOFFSETTO:-0400
TZNAME:EDT
DTSTART:20270314T070000
END:DAYLIGHT
BEGIN:STANDARD
TZOFFSETFROM:-0400
TZOFFSETTO:-0500
TZNAME:EST
DTSTART:20271107T060000
END:STANDARD
BEGIN:DAYLIGHT
TZOFFSETFROM:-0500
TZOFFSETTO:-0400
TZNAME:EDT
DTSTART:20280312T070000
END:DAYLIGHT
BEGIN:STANDARD
TZOFFSETFROM:-0400
TZOFFSETTO:-0500
TZNAME:EST
DTSTART:20281105T060000
END:STANDARD
BEGIN:DAYLIGHT
TZOFFSETFROM:-0500
TZOFFSETTO:-0400
TZNAME:EDT
DTSTART:20290311T070000
END:DAYLIGHT
BEGIN:STANDARD
TZOFFSETFROM:-0400
TZOFFSETTO:-0500
TZNAME:EST
DTSTART:20291104T060000
END:STANDARD
BEGIN:DAYLIGHT
TZOFFSETFROM:-0500
TZOFFSETTO:-0400
TZNAME:EDT
DTSTART:20300310T070000
END:DAYLIGHT
BEGIN:STANDARD
TZOFFSETFROM:-0400
TZOFFSETTO:-0500
TZNAME:EST
DTSTART:20301103T060000
END:STANDARD
END:VTIMEZONE
BEGIN:VEVENT
DTSTART;TZID=America/New_York:20281129T073000
DTEND;TZID=America/New_York:20281129T083000
DTSTAMP:20260426T004237
CREATED:20260310T174455Z
LAST-MODIFIED:20260415T162156Z
UID:10003609-1859095800-1859099400@mycovenantpc.com
SUMMARY:R.O.M.E.O- Breakfast at IHOP
DESCRIPTION:Reformed Old Men Eating Out invites you together with them at IHOP in Easley. \nYou don’t have to be “old”\, you can be young at heart\, young in age\, or just a hungry man. See you there for a cup of Joe and good conversation. \nAddress: IHOP 6525 Calhoun Memorial Hwy #6525A\, Easley\, SC 29640
URL:https://mycovenantpc.com/event/r-o-m-e-o-breakfast-at-ihop/2028-11-29/
END:VEVENT
BEGIN:VEVENT
DTSTART;TZID=America/New_York:20281203T093000
DTEND;TZID=America/New_York:20281203T110000
DTSTAMP:20260426T004237
CREATED:20250819T031730Z
LAST-MODIFIED:20260310T172531Z
UID:10002608-1859448600-1859454000@mycovenantpc.com
SUMMARY:Sunday Morning
DESCRIPTION:Sunday Morning: \n9:30 a.m.-Worship \n10:45 a.m.- Refuel Coffee \n11:00 a.m.-Sunday Studies for All Ages
URL:https://mycovenantpc.com/event/sunday-morning-evening/2028-12-03/
ATTACH;FMTTYPE=image/webp:https://mycovenantpc.com/wp-content/uploads/2025/08/Sunday-Mornings.webp
END:VEVENT
BEGIN:VEVENT
DTSTART;TZID=America/New_York:20281206T073000
DTEND;TZID=America/New_York:20281206T083000
DTSTAMP:20260426T004237
CREATED:20260310T174455Z
LAST-MODIFIED:20260415T162156Z
UID:10003610-1859700600-1859704200@mycovenantpc.com
SUMMARY:R.O.M.E.O- Breakfast at IHOP
DESCRIPTION:Reformed Old Men Eating Out invites you together with them at IHOP in Easley. \nYou don’t have to be “old”\, you can be young at heart\, young in age\, or just a hungry man. See you there for a cup of Joe and good conversation. \nAddress: IHOP 6525 Calhoun Memorial Hwy #6525A\, Easley\, SC 29640
URL:https://mycovenantpc.com/event/r-o-m-e-o-breakfast-at-ihop/2028-12-06/
END:VEVENT
BEGIN:VEVENT
DTSTART;TZID=America/New_York:20281206T093000
DTEND;TZID=America/New_York:20281206T123000
DTSTAMP:20260426T004237
CREATED:20250907T225318Z
LAST-MODIFIED:20260114T182904Z
UID:10002903-1859707800-1859718600@mycovenantpc.com
SUMMARY:Ladies Creative Club
DESCRIPTION:Come as you have time\, bring whatever project you are working on\, and enjoy a group creative space. \nGod made us with so many gifts and talents. \nCovenant Life Center\, Agape Room. \nLed by Kelly Freeman
URL:https://mycovenantpc.com/event/ladies-creative-club-2/2028-12-06/
ATTACH;FMTTYPE=image/png:https://mycovenantpc.com/wp-content/uploads/2025/09/Creative-Club-2025.png
END:VEVENT
BEGIN:VEVENT
DTSTART;TZID=America/New_York:20281209T170000
DTEND;TZID=America/New_York:20281209T190000
DTSTAMP:20260426T004237
CREATED:20260310T172257Z
LAST-MODIFIED:20260310T172259Z
UID:10003430-1859994000-1860001200@mycovenantpc.com
SUMMARY:Young Professionals  Monthly Dinner
DESCRIPTION:
URL:https://mycovenantpc.com/event/college-career-monthly-dinner-2/2028-12-09/
END:VEVENT
BEGIN:VEVENT
DTSTART;TZID=America/New_York:20281210T093000
DTEND;TZID=America/New_York:20281210T110000
DTSTAMP:20260426T004237
CREATED:20250819T031730Z
LAST-MODIFIED:20260310T172531Z
UID:10002609-1860053400-1860058800@mycovenantpc.com
SUMMARY:Sunday Morning
DESCRIPTION:Sunday Morning: \n9:30 a.m.-Worship \n10:45 a.m.- Refuel Coffee \n11:00 a.m.-Sunday Studies for All Ages
URL:https://mycovenantpc.com/event/sunday-morning-evening/2028-12-10/
ATTACH;FMTTYPE=image/webp:https://mycovenantpc.com/wp-content/uploads/2025/08/Sunday-Mornings.webp
END:VEVENT
BEGIN:VEVENT
DTSTART;TZID=America/New_York:20281213T073000
DTEND;TZID=America/New_York:20281213T083000
DTSTAMP:20260426T004237
CREATED:20260310T174455Z
LAST-MODIFIED:20260415T162156Z
UID:10003611-1860305400-1860309000@mycovenantpc.com
SUMMARY:R.O.M.E.O- Breakfast at IHOP
DESCRIPTION:Reformed Old Men Eating Out invites you together with them at IHOP in Easley. \nYou don’t have to be “old”\, you can be young at heart\, young in age\, or just a hungry man. See you there for a cup of Joe and good conversation. \nAddress: IHOP 6525 Calhoun Memorial Hwy #6525A\, Easley\, SC 29640
URL:https://mycovenantpc.com/event/r-o-m-e-o-breakfast-at-ihop/2028-12-13/
END:VEVENT
BEGIN:VEVENT
DTSTART;TZID=America/New_York:20281217T093000
DTEND;TZID=America/New_York:20281217T110000
DTSTAMP:20260426T004237
CREATED:20250819T031730Z
LAST-MODIFIED:20260310T172531Z
UID:10002610-1860658200-1860663600@mycovenantpc.com
SUMMARY:Sunday Morning
DESCRIPTION:Sunday Morning: \n9:30 a.m.-Worship \n10:45 a.m.- Refuel Coffee \n11:00 a.m.-Sunday Studies for All Ages
URL:https://mycovenantpc.com/event/sunday-morning-evening/2028-12-17/
ATTACH;FMTTYPE=image/webp:https://mycovenantpc.com/wp-content/uploads/2025/08/Sunday-Mornings.webp
END:VEVENT
BEGIN:VEVENT
DTSTART;TZID=America/New_York:20281220T073000
DTEND;TZID=America/New_York:20281220T083000
DTSTAMP:20260426T004237
CREATED:20260310T174455Z
LAST-MODIFIED:20260415T162156Z
UID:10003612-1860910200-1860913800@mycovenantpc.com
SUMMARY:R.O.M.E.O- Breakfast at IHOP
DESCRIPTION:Reformed Old Men Eating Out invites you together with them at IHOP in Easley. \nYou don’t have to be “old”\, you can be young at heart\, young in age\, or just a hungry man. See you there for a cup of Joe and good conversation. \nAddress: IHOP 6525 Calhoun Memorial Hwy #6525A\, Easley\, SC 29640
URL:https://mycovenantpc.com/event/r-o-m-e-o-breakfast-at-ihop/2028-12-20/
END:VEVENT
BEGIN:VEVENT
DTSTART;TZID=America/New_York:20281224T093000
DTEND;TZID=America/New_York:20281224T110000
DTSTAMP:20260426T004237
CREATED:20250819T031730Z
LAST-MODIFIED:20260310T172531Z
UID:10002611-1861263000-1861268400@mycovenantpc.com
SUMMARY:Sunday Morning
DESCRIPTION:Sunday Morning: \n9:30 a.m.-Worship \n10:45 a.m.- Refuel Coffee \n11:00 a.m.-Sunday Studies for All Ages
URL:https://mycovenantpc.com/event/sunday-morning-evening/2028-12-24/
ATTACH;FMTTYPE=image/webp:https://mycovenantpc.com/wp-content/uploads/2025/08/Sunday-Mornings.webp
END:VEVENT
BEGIN:VEVENT
DTSTART;TZID=America/New_York:20281227T073000
DTEND;TZID=America/New_York:20281227T083000
DTSTAMP:20260426T004237
CREATED:20260310T174455Z
LAST-MODIFIED:20260415T162156Z
UID:10003613-1861515000-1861518600@mycovenantpc.com
SUMMARY:R.O.M.E.O- Breakfast at IHOP
DESCRIPTION:Reformed Old Men Eating Out invites you together with them at IHOP in Easley. \nYou don’t have to be “old”\, you can be young at heart\, young in age\, or just a hungry man. See you there for a cup of Joe and good conversation. \nAddress: IHOP 6525 Calhoun Memorial Hwy #6525A\, Easley\, SC 29640
URL:https://mycovenantpc.com/event/r-o-m-e-o-breakfast-at-ihop/2028-12-27/
END:VEVENT
BEGIN:VEVENT
DTSTART;TZID=America/New_York:20281231T093000
DTEND;TZID=America/New_York:20281231T110000
DTSTAMP:20260426T004237
CREATED:20250819T031730Z
LAST-MODIFIED:20260310T172531Z
UID:10002612-1861867800-1861873200@mycovenantpc.com
SUMMARY:Sunday Morning
DESCRIPTION:Sunday Morning: \n9:30 a.m.-Worship \n10:45 a.m.- Refuel Coffee \n11:00 a.m.-Sunday Studies for All Ages
URL:https://mycovenantpc.com/event/sunday-morning-evening/2028-12-31/
ATTACH;FMTTYPE=image/webp:https://mycovenantpc.com/wp-content/uploads/2025/08/Sunday-Mornings.webp
END:VEVENT
BEGIN:VEVENT
DTSTART;TZID=America/New_York:20290103T073000
DTEND;TZID=America/New_York:20290103T083000
DTSTAMP:20260426T004237
CREATED:20260310T174455Z
LAST-MODIFIED:20260415T162156Z
UID:10003614-1862119800-1862123400@mycovenantpc.com
SUMMARY:R.O.M.E.O- Breakfast at IHOP
DESCRIPTION:Reformed Old Men Eating Out invites you together with them at IHOP in Easley. \nYou don’t have to be “old”\, you can be young at heart\, young in age\, or just a hungry man. See you there for a cup of Joe and good conversation. \nAddress: IHOP 6525 Calhoun Memorial Hwy #6525A\, Easley\, SC 29640
URL:https://mycovenantpc.com/event/r-o-m-e-o-breakfast-at-ihop/2029-01-03/
END:VEVENT
BEGIN:VEVENT
DTSTART;TZID=America/New_York:20290103T093000
DTEND;TZID=America/New_York:20290103T123000
DTSTAMP:20260426T004237
CREATED:20250907T225318Z
LAST-MODIFIED:20260114T182904Z
UID:10002904-1862127000-1862137800@mycovenantpc.com
SUMMARY:Ladies Creative Club
DESCRIPTION:Come as you have time\, bring whatever project you are working on\, and enjoy a group creative space. \nGod made us with so many gifts and talents. \nCovenant Life Center\, Agape Room. \nLed by Kelly Freeman
URL:https://mycovenantpc.com/event/ladies-creative-club-2/2029-01-03/
ATTACH;FMTTYPE=image/png:https://mycovenantpc.com/wp-content/uploads/2025/09/Creative-Club-2025.png
END:VEVENT
BEGIN:VEVENT
DTSTART;TZID=America/New_York:20290107T093000
DTEND;TZID=America/New_York:20290107T110000
DTSTAMP:20260426T004237
CREATED:20250819T031730Z
LAST-MODIFIED:20260310T172531Z
UID:10002613-1862472600-1862478000@mycovenantpc.com
SUMMARY:Sunday Morning
DESCRIPTION:Sunday Morning: \n9:30 a.m.-Worship \n10:45 a.m.- Refuel Coffee \n11:00 a.m.-Sunday Studies for All Ages
URL:https://mycovenantpc.com/event/sunday-morning-evening/2029-01-07/
ATTACH;FMTTYPE=image/webp:https://mycovenantpc.com/wp-content/uploads/2025/08/Sunday-Mornings.webp
END:VEVENT
BEGIN:VEVENT
DTSTART;TZID=America/New_York:20290110T073000
DTEND;TZID=America/New_York:20290110T083000
DTSTAMP:20260426T004237
CREATED:20260310T174455Z
LAST-MODIFIED:20260415T162156Z
UID:10003615-1862724600-1862728200@mycovenantpc.com
SUMMARY:R.O.M.E.O- Breakfast at IHOP
DESCRIPTION:Reformed Old Men Eating Out invites you together with them at IHOP in Easley. \nYou don’t have to be “old”\, you can be young at heart\, young in age\, or just a hungry man. See you there for a cup of Joe and good conversation. \nAddress: IHOP 6525 Calhoun Memorial Hwy #6525A\, Easley\, SC 29640
URL:https://mycovenantpc.com/event/r-o-m-e-o-breakfast-at-ihop/2029-01-10/
END:VEVENT
BEGIN:VEVENT
DTSTART;TZID=America/New_York:20290113T170000
DTEND;TZID=America/New_York:20290113T190000
DTSTAMP:20260426T004237
CREATED:20260310T172257Z
LAST-MODIFIED:20260310T172259Z
UID:10003431-1863018000-1863025200@mycovenantpc.com
SUMMARY:Young Professionals  Monthly Dinner
DESCRIPTION:
URL:https://mycovenantpc.com/event/college-career-monthly-dinner-2/2029-01-13/
END:VEVENT
BEGIN:VEVENT
DTSTART;TZID=America/New_York:20290114T093000
DTEND;TZID=America/New_York:20290114T110000
DTSTAMP:20260426T004237
CREATED:20250819T031730Z
LAST-MODIFIED:20260310T172531Z
UID:10002614-1863077400-1863082800@mycovenantpc.com
SUMMARY:Sunday Morning
DESCRIPTION:Sunday Morning: \n9:30 a.m.-Worship \n10:45 a.m.- Refuel Coffee \n11:00 a.m.-Sunday Studies for All Ages
URL:https://mycovenantpc.com/event/sunday-morning-evening/2029-01-14/
ATTACH;FMTTYPE=image/webp:https://mycovenantpc.com/wp-content/uploads/2025/08/Sunday-Mornings.webp
END:VEVENT
BEGIN:VEVENT
DTSTART;TZID=America/New_York:20290117T073000
DTEND;TZID=America/New_York:20290117T083000
DTSTAMP:20260426T004237
CREATED:20260310T174455Z
LAST-MODIFIED:20260415T162156Z
UID:10003616-1863329400-1863333000@mycovenantpc.com
SUMMARY:R.O.M.E.O- Breakfast at IHOP
DESCRIPTION:Reformed Old Men Eating Out invites you together with them at IHOP in Easley. \nYou don’t have to be “old”\, you can be young at heart\, young in age\, or just a hungry man. See you there for a cup of Joe and good conversation. \nAddress: IHOP 6525 Calhoun Memorial Hwy #6525A\, Easley\, SC 29640
URL:https://mycovenantpc.com/event/r-o-m-e-o-breakfast-at-ihop/2029-01-17/
END:VEVENT
BEGIN:VEVENT
DTSTART;TZID=America/New_York:20290121T093000
DTEND;TZID=America/New_York:20290121T110000
DTSTAMP:20260426T004237
CREATED:20250819T031730Z
LAST-MODIFIED:20260310T172531Z
UID:10002615-1863682200-1863687600@mycovenantpc.com
SUMMARY:Sunday Morning
DESCRIPTION:Sunday Morning: \n9:30 a.m.-Worship \n10:45 a.m.- Refuel Coffee \n11:00 a.m.-Sunday Studies for All Ages
URL:https://mycovenantpc.com/event/sunday-morning-evening/2029-01-21/
ATTACH;FMTTYPE=image/webp:https://mycovenantpc.com/wp-content/uploads/2025/08/Sunday-Mornings.webp
END:VEVENT
BEGIN:VEVENT
DTSTART;TZID=America/New_York:20290124T073000
DTEND;TZID=America/New_York:20290124T083000
DTSTAMP:20260426T004237
CREATED:20260310T174455Z
LAST-MODIFIED:20260415T162156Z
UID:10003617-1863934200-1863937800@mycovenantpc.com
SUMMARY:R.O.M.E.O- Breakfast at IHOP
DESCRIPTION:Reformed Old Men Eating Out invites you together with them at IHOP in Easley. \nYou don’t have to be “old”\, you can be young at heart\, young in age\, or just a hungry man. See you there for a cup of Joe and good conversation. \nAddress: IHOP 6525 Calhoun Memorial Hwy #6525A\, Easley\, SC 29640
URL:https://mycovenantpc.com/event/r-o-m-e-o-breakfast-at-ihop/2029-01-24/
END:VEVENT
BEGIN:VEVENT
DTSTART;TZID=America/New_York:20290128T093000
DTEND;TZID=America/New_York:20290128T110000
DTSTAMP:20260426T004237
CREATED:20250819T031730Z
LAST-MODIFIED:20260310T172531Z
UID:10002616-1864287000-1864292400@mycovenantpc.com
SUMMARY:Sunday Morning
DESCRIPTION:Sunday Morning: \n9:30 a.m.-Worship \n10:45 a.m.- Refuel Coffee \n11:00 a.m.-Sunday Studies for All Ages
URL:https://mycovenantpc.com/event/sunday-morning-evening/2029-01-28/
ATTACH;FMTTYPE=image/webp:https://mycovenantpc.com/wp-content/uploads/2025/08/Sunday-Mornings.webp
END:VEVENT
BEGIN:VEVENT
DTSTART;TZID=America/New_York:20290131T073000
DTEND;TZID=America/New_York:20290131T083000
DTSTAMP:20260426T004237
CREATED:20260310T174455Z
LAST-MODIFIED:20260415T162156Z
UID:10003618-1864539000-1864542600@mycovenantpc.com
SUMMARY:R.O.M.E.O- Breakfast at IHOP
DESCRIPTION:Reformed Old Men Eating Out invites you together with them at IHOP in Easley. \nYou don’t have to be “old”\, you can be young at heart\, young in age\, or just a hungry man. See you there for a cup of Joe and good conversation. \nAddress: IHOP 6525 Calhoun Memorial Hwy #6525A\, Easley\, SC 29640
URL:https://mycovenantpc.com/event/r-o-m-e-o-breakfast-at-ihop/2029-01-31/
END:VEVENT
BEGIN:VEVENT
DTSTART;TZID=America/New_York:20290204T093000
DTEND;TZID=America/New_York:20290204T110000
DTSTAMP:20260426T004237
CREATED:20250819T031730Z
LAST-MODIFIED:20260310T172531Z
UID:10002617-1864891800-1864897200@mycovenantpc.com
SUMMARY:Sunday Morning
DESCRIPTION:Sunday Morning: \n9:30 a.m.-Worship \n10:45 a.m.- Refuel Coffee \n11:00 a.m.-Sunday Studies for All Ages
URL:https://mycovenantpc.com/event/sunday-morning-evening/2029-02-04/
ATTACH;FMTTYPE=image/webp:https://mycovenantpc.com/wp-content/uploads/2025/08/Sunday-Mornings.webp
END:VEVENT
BEGIN:VEVENT
DTSTART;TZID=America/New_York:20290207T073000
DTEND;TZID=America/New_York:20290207T083000
DTSTAMP:20260426T004237
CREATED:20260310T174455Z
LAST-MODIFIED:20260415T162156Z
UID:10003619-1865143800-1865147400@mycovenantpc.com
SUMMARY:R.O.M.E.O- Breakfast at IHOP
DESCRIPTION:Reformed Old Men Eating Out invites you together with them at IHOP in Easley. \nYou don’t have to be “old”\, you can be young at heart\, young in age\, or just a hungry man. See you there for a cup of Joe and good conversation. \nAddress: IHOP 6525 Calhoun Memorial Hwy #6525A\, Easley\, SC 29640
URL:https://mycovenantpc.com/event/r-o-m-e-o-breakfast-at-ihop/2029-02-07/
END:VEVENT
BEGIN:VEVENT
DTSTART;TZID=America/New_York:20290207T093000
DTEND;TZID=America/New_York:20290207T123000
DTSTAMP:20260426T004237
CREATED:20250907T225318Z
LAST-MODIFIED:20260114T182904Z
UID:10002905-1865151000-1865161800@mycovenantpc.com
SUMMARY:Ladies Creative Club
DESCRIPTION:Come as you have time\, bring whatever project you are working on\, and enjoy a group creative space. \nGod made us with so many gifts and talents. \nCovenant Life Center\, Agape Room. \nLed by Kelly Freeman
URL:https://mycovenantpc.com/event/ladies-creative-club-2/2029-02-07/
ATTACH;FMTTYPE=image/png:https://mycovenantpc.com/wp-content/uploads/2025/09/Creative-Club-2025.png
END:VEVENT
BEGIN:VEVENT
DTSTART;TZID=America/New_York:20290210T170000
DTEND;TZID=America/New_York:20290210T190000
DTSTAMP:20260426T004237
CREATED:20260310T172257Z
LAST-MODIFIED:20260310T172259Z
UID:10003432-1865437200-1865444400@mycovenantpc.com
SUMMARY:Young Professionals  Monthly Dinner
DESCRIPTION:
URL:https://mycovenantpc.com/event/college-career-monthly-dinner-2/2029-02-10/
END:VEVENT
BEGIN:VEVENT
DTSTART;TZID=America/New_York:20290211T093000
DTEND;TZID=America/New_York:20290211T110000
DTSTAMP:20260426T004237
CREATED:20250819T031730Z
LAST-MODIFIED:20260310T172531Z
UID:10002618-1865496600-1865502000@mycovenantpc.com
SUMMARY:Sunday Morning
DESCRIPTION:Sunday Morning: \n9:30 a.m.-Worship \n10:45 a.m.- Refuel Coffee \n11:00 a.m.-Sunday Studies for All Ages
URL:https://mycovenantpc.com/event/sunday-morning-evening/2029-02-11/
ATTACH;FMTTYPE=image/webp:https://mycovenantpc.com/wp-content/uploads/2025/08/Sunday-Mornings.webp
END:VEVENT
BEGIN:VEVENT
DTSTART;TZID=America/New_York:20290214T073000
DTEND;TZID=America/New_York:20290214T083000
DTSTAMP:20260426T004237
CREATED:20260310T174455Z
LAST-MODIFIED:20260415T162156Z
UID:10003620-1865748600-1865752200@mycovenantpc.com
SUMMARY:R.O.M.E.O- Breakfast at IHOP
DESCRIPTION:Reformed Old Men Eating Out invites you together with them at IHOP in Easley. \nYou don’t have to be “old”\, you can be young at heart\, young in age\, or just a hungry man. See you there for a cup of Joe and good conversation. \nAddress: IHOP 6525 Calhoun Memorial Hwy #6525A\, Easley\, SC 29640
URL:https://mycovenantpc.com/event/r-o-m-e-o-breakfast-at-ihop/2029-02-14/
END:VEVENT
BEGIN:VEVENT
DTSTART;TZID=America/New_York:20290218T093000
DTEND;TZID=America/New_York:20290218T110000
DTSTAMP:20260426T004237
CREATED:20250819T031730Z
LAST-MODIFIED:20260310T172531Z
UID:10002619-1866101400-1866106800@mycovenantpc.com
SUMMARY:Sunday Morning
DESCRIPTION:Sunday Morning: \n9:30 a.m.-Worship \n10:45 a.m.- Refuel Coffee \n11:00 a.m.-Sunday Studies for All Ages
URL:https://mycovenantpc.com/event/sunday-morning-evening/2029-02-18/
ATTACH;FMTTYPE=image/webp:https://mycovenantpc.com/wp-content/uploads/2025/08/Sunday-Mornings.webp
END:VEVENT
END:VCALENDAR