BEGIN:VCALENDAR
VERSION:2.0
PRODID:-//Covenant Presbyterian Church - ECPv6.15.17//NONSGML v1.0//EN
CALSCALE:GREGORIAN
METHOD:PUBLISH
X-WR-CALNAME:Covenant Presbyterian Church
X-ORIGINAL-URL:https://mycovenantpc.com
X-WR-CALDESC:Events for Covenant Presbyterian Church
REFRESH-INTERVAL;VALUE=DURATION:PT1H
X-Robots-Tag:noindex
X-PUBLISHED-TTL:PT1H
BEGIN:VTIMEZONE
TZID:America/New_York
BEGIN:DAYLIGHT
TZOFFSETFROM:-0500
TZOFFSETTO:-0400
TZNAME:EDT
DTSTART:20260308T070000
END:DAYLIGHT
BEGIN:STANDARD
TZOFFSETFROM:-0400
TZOFFSETTO:-0500
TZNAME:EST
DTSTART:20261101T060000
END:STANDARD
BEGIN:DAYLIGHT
TZOFFSETFROM:-0500
TZOFFSETTO:-0400
TZNAME:EDT
DTSTART:20270314T070000
END:DAYLIGHT
BEGIN:STANDARD
TZOFFSETFROM:-0400
TZOFFSETTO:-0500
TZNAME:EST
DTSTART:20271107T060000
END:STANDARD
BEGIN:DAYLIGHT
TZOFFSETFROM:-0500
TZOFFSETTO:-0400
TZNAME:EDT
DTSTART:20280312T070000
END:DAYLIGHT
BEGIN:STANDARD
TZOFFSETFROM:-0400
TZOFFSETTO:-0500
TZNAME:EST
DTSTART:20281105T060000
END:STANDARD
END:VTIMEZONE
BEGIN:VEVENT
DTSTART;TZID=America/New_York:20270303T073000
DTEND;TZID=America/New_York:20270303T083000
DTSTAMP:20260425T113814
CREATED:20260310T174455Z
LAST-MODIFIED:20260415T162156Z
UID:10003518-1804059000-1804062600@mycovenantpc.com
SUMMARY:R.O.M.E.O- Breakfast at IHOP
DESCRIPTION:Reformed Old Men Eating Out invites you together with them at IHOP in Easley. \nYou don’t have to be “old”\, you can be young at heart\, young in age\, or just a hungry man. See you there for a cup of Joe and good conversation. \nAddress: IHOP 6525 Calhoun Memorial Hwy #6525A\, Easley\, SC 29640
URL:https://mycovenantpc.com/event/r-o-m-e-o-breakfast-at-ihop/2027-03-03/
END:VEVENT
BEGIN:VEVENT
DTSTART;TZID=America/New_York:20270303T093000
DTEND;TZID=America/New_York:20270303T123000
DTSTAMP:20260425T113814
CREATED:20250907T225318Z
LAST-MODIFIED:20260114T182904Z
UID:10002882-1804066200-1804077000@mycovenantpc.com
SUMMARY:Ladies Creative Club
DESCRIPTION:Come as you have time\, bring whatever project you are working on\, and enjoy a group creative space. \nGod made us with so many gifts and talents. \nCovenant Life Center\, Agape Room. \nLed by Kelly Freeman
URL:https://mycovenantpc.com/event/ladies-creative-club-2/2027-03-03/
ATTACH;FMTTYPE=image/png:https://mycovenantpc.com/wp-content/uploads/2025/09/Creative-Club-2025.png
END:VEVENT
BEGIN:VEVENT
DTSTART;TZID=America/New_York:20270304T183000
DTEND;TZID=America/New_York:20270304T210000
DTSTAMP:20260425T113814
CREATED:20260415T171738Z
LAST-MODIFIED:20260415T171738Z
UID:10003775-1804185000-1804194000@mycovenantpc.com
SUMMARY:Men’s Open Gym
DESCRIPTION:Adult Men\, you are invited to come hang out\, play a game of pick-up basketball\, or whatever sport you’d like.
URL:https://mycovenantpc.com/event/mens-open-gym/2027-03-04/
END:VEVENT
BEGIN:VEVENT
DTSTART;TZID=America/New_York:20270307T093000
DTEND;TZID=America/New_York:20270307T110000
DTSTAMP:20260425T113814
CREATED:20250819T031730Z
LAST-MODIFIED:20260310T172531Z
UID:10002517-1804411800-1804417200@mycovenantpc.com
SUMMARY:Sunday Morning
DESCRIPTION:Sunday Morning: \n9:30 a.m.-Worship \n10:45 a.m.- Refuel Coffee \n11:00 a.m.-Sunday Studies for All Ages
URL:https://mycovenantpc.com/event/sunday-morning-evening/2027-03-07/
ATTACH;FMTTYPE=image/webp:https://mycovenantpc.com/wp-content/uploads/2025/08/Sunday-Mornings.webp
END:VEVENT
BEGIN:VEVENT
DTSTART;TZID=America/New_York:20270308T190000
DTEND;TZID=America/New_York:20270308T200000
DTSTAMP:20260425T113814
CREATED:20260114T184717Z
LAST-MODIFIED:20260114T184717Z
UID:10003293-1804532400-1804536000@mycovenantpc.com
SUMMARY:Men’s Bible Study
DESCRIPTION:
URL:https://mycovenantpc.com/event/mens-bible-study-2/2027-03-08/
ATTACH;FMTTYPE=image/png:https://mycovenantpc.com/wp-content/uploads/2025/09/Men-IHOP.png
END:VEVENT
BEGIN:VEVENT
DTSTART;TZID=America/New_York:20270310T073000
DTEND;TZID=America/New_York:20270310T083000
DTSTAMP:20260425T113814
CREATED:20260310T174455Z
LAST-MODIFIED:20260415T162156Z
UID:10003519-1804663800-1804667400@mycovenantpc.com
SUMMARY:R.O.M.E.O- Breakfast at IHOP
DESCRIPTION:Reformed Old Men Eating Out invites you together with them at IHOP in Easley. \nYou don’t have to be “old”\, you can be young at heart\, young in age\, or just a hungry man. See you there for a cup of Joe and good conversation. \nAddress: IHOP 6525 Calhoun Memorial Hwy #6525A\, Easley\, SC 29640
URL:https://mycovenantpc.com/event/r-o-m-e-o-breakfast-at-ihop/2027-03-10/
END:VEVENT
BEGIN:VEVENT
DTSTART;TZID=America/New_York:20270311T183000
DTEND;TZID=America/New_York:20270311T210000
DTSTAMP:20260425T113814
CREATED:20260415T171738Z
LAST-MODIFIED:20260415T171738Z
UID:10003776-1804789800-1804798800@mycovenantpc.com
SUMMARY:Men’s Open Gym
DESCRIPTION:Adult Men\, you are invited to come hang out\, play a game of pick-up basketball\, or whatever sport you’d like.
URL:https://mycovenantpc.com/event/mens-open-gym/2027-03-11/
END:VEVENT
BEGIN:VEVENT
DTSTART;TZID=America/New_York:20270313T170000
DTEND;TZID=America/New_York:20270313T190000
DTSTAMP:20260425T113814
CREATED:20260310T172257Z
LAST-MODIFIED:20260310T172259Z
UID:10003409-1804957200-1804964400@mycovenantpc.com
SUMMARY:Young Professionals  Monthly Dinner
DESCRIPTION:
URL:https://mycovenantpc.com/event/college-career-monthly-dinner-2/2027-03-13/
END:VEVENT
BEGIN:VEVENT
DTSTART;TZID=America/New_York:20270314T093000
DTEND;TZID=America/New_York:20270314T110000
DTSTAMP:20260425T113814
CREATED:20250819T031730Z
LAST-MODIFIED:20260310T172531Z
UID:10002518-1805016600-1805022000@mycovenantpc.com
SUMMARY:Sunday Morning
DESCRIPTION:Sunday Morning: \n9:30 a.m.-Worship \n10:45 a.m.- Refuel Coffee \n11:00 a.m.-Sunday Studies for All Ages
URL:https://mycovenantpc.com/event/sunday-morning-evening/2027-03-14/
ATTACH;FMTTYPE=image/webp:https://mycovenantpc.com/wp-content/uploads/2025/08/Sunday-Mornings.webp
END:VEVENT
BEGIN:VEVENT
DTSTART;TZID=America/New_York:20270315T190000
DTEND;TZID=America/New_York:20270315T200000
DTSTAMP:20260425T113814
CREATED:20260114T184717Z
LAST-MODIFIED:20260114T184717Z
UID:10003294-1805137200-1805140800@mycovenantpc.com
SUMMARY:Men’s Bible Study
DESCRIPTION:
URL:https://mycovenantpc.com/event/mens-bible-study-2/2027-03-15/
ATTACH;FMTTYPE=image/png:https://mycovenantpc.com/wp-content/uploads/2025/09/Men-IHOP.png
END:VEVENT
BEGIN:VEVENT
DTSTART;TZID=America/New_York:20270317T073000
DTEND;TZID=America/New_York:20270317T083000
DTSTAMP:20260425T113814
CREATED:20260310T174455Z
LAST-MODIFIED:20260415T162156Z
UID:10003520-1805268600-1805272200@mycovenantpc.com
SUMMARY:R.O.M.E.O- Breakfast at IHOP
DESCRIPTION:Reformed Old Men Eating Out invites you together with them at IHOP in Easley. \nYou don’t have to be “old”\, you can be young at heart\, young in age\, or just a hungry man. See you there for a cup of Joe and good conversation. \nAddress: IHOP 6525 Calhoun Memorial Hwy #6525A\, Easley\, SC 29640
URL:https://mycovenantpc.com/event/r-o-m-e-o-breakfast-at-ihop/2027-03-17/
END:VEVENT
BEGIN:VEVENT
DTSTART;TZID=America/New_York:20270318T183000
DTEND;TZID=America/New_York:20270318T210000
DTSTAMP:20260425T113814
CREATED:20260415T171738Z
LAST-MODIFIED:20260415T171738Z
UID:10003777-1805394600-1805403600@mycovenantpc.com
SUMMARY:Men’s Open Gym
DESCRIPTION:Adult Men\, you are invited to come hang out\, play a game of pick-up basketball\, or whatever sport you’d like.
URL:https://mycovenantpc.com/event/mens-open-gym/2027-03-18/
END:VEVENT
BEGIN:VEVENT
DTSTART;TZID=America/New_York:20270321T093000
DTEND;TZID=America/New_York:20270321T110000
DTSTAMP:20260425T113814
CREATED:20250819T031730Z
LAST-MODIFIED:20260310T172531Z
UID:10002519-1805621400-1805626800@mycovenantpc.com
SUMMARY:Sunday Morning
DESCRIPTION:Sunday Morning: \n9:30 a.m.-Worship \n10:45 a.m.- Refuel Coffee \n11:00 a.m.-Sunday Studies for All Ages
URL:https://mycovenantpc.com/event/sunday-morning-evening/2027-03-21/
ATTACH;FMTTYPE=image/webp:https://mycovenantpc.com/wp-content/uploads/2025/08/Sunday-Mornings.webp
END:VEVENT
BEGIN:VEVENT
DTSTART;TZID=America/New_York:20270322T190000
DTEND;TZID=America/New_York:20270322T200000
DTSTAMP:20260425T113814
CREATED:20260114T184717Z
LAST-MODIFIED:20260114T184717Z
UID:10003295-1805742000-1805745600@mycovenantpc.com
SUMMARY:Men’s Bible Study
DESCRIPTION:
URL:https://mycovenantpc.com/event/mens-bible-study-2/2027-03-22/
ATTACH;FMTTYPE=image/png:https://mycovenantpc.com/wp-content/uploads/2025/09/Men-IHOP.png
END:VEVENT
BEGIN:VEVENT
DTSTART;TZID=America/New_York:20270324T073000
DTEND;TZID=America/New_York:20270324T083000
DTSTAMP:20260425T113814
CREATED:20260310T174455Z
LAST-MODIFIED:20260415T162156Z
UID:10003521-1805873400-1805877000@mycovenantpc.com
SUMMARY:R.O.M.E.O- Breakfast at IHOP
DESCRIPTION:Reformed Old Men Eating Out invites you together with them at IHOP in Easley. \nYou don’t have to be “old”\, you can be young at heart\, young in age\, or just a hungry man. See you there for a cup of Joe and good conversation. \nAddress: IHOP 6525 Calhoun Memorial Hwy #6525A\, Easley\, SC 29640
URL:https://mycovenantpc.com/event/r-o-m-e-o-breakfast-at-ihop/2027-03-24/
END:VEVENT
BEGIN:VEVENT
DTSTART;TZID=America/New_York:20270325T183000
DTEND;TZID=America/New_York:20270325T210000
DTSTAMP:20260425T113814
CREATED:20260415T171738Z
LAST-MODIFIED:20260415T171738Z
UID:10003778-1805999400-1806008400@mycovenantpc.com
SUMMARY:Men’s Open Gym
DESCRIPTION:Adult Men\, you are invited to come hang out\, play a game of pick-up basketball\, or whatever sport you’d like.
URL:https://mycovenantpc.com/event/mens-open-gym/2027-03-25/
END:VEVENT
BEGIN:VEVENT
DTSTART;TZID=America/New_York:20270328T093000
DTEND;TZID=America/New_York:20270328T110000
DTSTAMP:20260425T113814
CREATED:20250819T031730Z
LAST-MODIFIED:20260310T172531Z
UID:10002520-1806226200-1806231600@mycovenantpc.com
SUMMARY:Sunday Morning
DESCRIPTION:Sunday Morning: \n9:30 a.m.-Worship \n10:45 a.m.- Refuel Coffee \n11:00 a.m.-Sunday Studies for All Ages
URL:https://mycovenantpc.com/event/sunday-morning-evening/2027-03-28/
ATTACH;FMTTYPE=image/webp:https://mycovenantpc.com/wp-content/uploads/2025/08/Sunday-Mornings.webp
END:VEVENT
BEGIN:VEVENT
DTSTART;TZID=America/New_York:20270329T190000
DTEND;TZID=America/New_York:20270329T200000
DTSTAMP:20260425T113814
CREATED:20260114T184717Z
LAST-MODIFIED:20260114T184717Z
UID:10003296-1806346800-1806350400@mycovenantpc.com
SUMMARY:Men’s Bible Study
DESCRIPTION:
URL:https://mycovenantpc.com/event/mens-bible-study-2/2027-03-29/
ATTACH;FMTTYPE=image/png:https://mycovenantpc.com/wp-content/uploads/2025/09/Men-IHOP.png
END:VEVENT
BEGIN:VEVENT
DTSTART;TZID=America/New_York:20270331T073000
DTEND;TZID=America/New_York:20270331T083000
DTSTAMP:20260425T113814
CREATED:20260310T174455Z
LAST-MODIFIED:20260415T162156Z
UID:10003522-1806478200-1806481800@mycovenantpc.com
SUMMARY:R.O.M.E.O- Breakfast at IHOP
DESCRIPTION:Reformed Old Men Eating Out invites you together with them at IHOP in Easley. \nYou don’t have to be “old”\, you can be young at heart\, young in age\, or just a hungry man. See you there for a cup of Joe and good conversation. \nAddress: IHOP 6525 Calhoun Memorial Hwy #6525A\, Easley\, SC 29640
URL:https://mycovenantpc.com/event/r-o-m-e-o-breakfast-at-ihop/2027-03-31/
END:VEVENT
BEGIN:VEVENT
DTSTART;TZID=America/New_York:20270401T183000
DTEND;TZID=America/New_York:20270401T210000
DTSTAMP:20260425T113814
CREATED:20260415T171738Z
LAST-MODIFIED:20260415T171738Z
UID:10003779-1806604200-1806613200@mycovenantpc.com
SUMMARY:Men’s Open Gym
DESCRIPTION:Adult Men\, you are invited to come hang out\, play a game of pick-up basketball\, or whatever sport you’d like.
URL:https://mycovenantpc.com/event/mens-open-gym/2027-04-01/
END:VEVENT
BEGIN:VEVENT
DTSTART;TZID=America/New_York:20270404T093000
DTEND;TZID=America/New_York:20270404T110000
DTSTAMP:20260425T113814
CREATED:20250819T031730Z
LAST-MODIFIED:20260310T172531Z
UID:10002521-1806831000-1806836400@mycovenantpc.com
SUMMARY:Sunday Morning
DESCRIPTION:Sunday Morning: \n9:30 a.m.-Worship \n10:45 a.m.- Refuel Coffee \n11:00 a.m.-Sunday Studies for All Ages
URL:https://mycovenantpc.com/event/sunday-morning-evening/2027-04-04/
ATTACH;FMTTYPE=image/webp:https://mycovenantpc.com/wp-content/uploads/2025/08/Sunday-Mornings.webp
END:VEVENT
BEGIN:VEVENT
DTSTART;TZID=America/New_York:20270405T190000
DTEND;TZID=America/New_York:20270405T200000
DTSTAMP:20260425T113814
CREATED:20260114T184717Z
LAST-MODIFIED:20260114T184717Z
UID:10003297-1806951600-1806955200@mycovenantpc.com
SUMMARY:Men’s Bible Study
DESCRIPTION:
URL:https://mycovenantpc.com/event/mens-bible-study-2/2027-04-05/
ATTACH;FMTTYPE=image/png:https://mycovenantpc.com/wp-content/uploads/2025/09/Men-IHOP.png
END:VEVENT
BEGIN:VEVENT
DTSTART;TZID=America/New_York:20270407T073000
DTEND;TZID=America/New_York:20270407T083000
DTSTAMP:20260425T113814
CREATED:20260310T174455Z
LAST-MODIFIED:20260415T162156Z
UID:10003523-1807083000-1807086600@mycovenantpc.com
SUMMARY:R.O.M.E.O- Breakfast at IHOP
DESCRIPTION:Reformed Old Men Eating Out invites you together with them at IHOP in Easley. \nYou don’t have to be “old”\, you can be young at heart\, young in age\, or just a hungry man. See you there for a cup of Joe and good conversation. \nAddress: IHOP 6525 Calhoun Memorial Hwy #6525A\, Easley\, SC 29640
URL:https://mycovenantpc.com/event/r-o-m-e-o-breakfast-at-ihop/2027-04-07/
END:VEVENT
BEGIN:VEVENT
DTSTART;TZID=America/New_York:20270407T093000
DTEND;TZID=America/New_York:20270407T123000
DTSTAMP:20260425T113814
CREATED:20250907T225318Z
LAST-MODIFIED:20260114T182904Z
UID:10002883-1807090200-1807101000@mycovenantpc.com
SUMMARY:Ladies Creative Club
DESCRIPTION:Come as you have time\, bring whatever project you are working on\, and enjoy a group creative space. \nGod made us with so many gifts and talents. \nCovenant Life Center\, Agape Room. \nLed by Kelly Freeman
URL:https://mycovenantpc.com/event/ladies-creative-club-2/2027-04-07/
ATTACH;FMTTYPE=image/png:https://mycovenantpc.com/wp-content/uploads/2025/09/Creative-Club-2025.png
END:VEVENT
BEGIN:VEVENT
DTSTART;TZID=America/New_York:20270408T183000
DTEND;TZID=America/New_York:20270408T210000
DTSTAMP:20260425T113814
CREATED:20260415T171738Z
LAST-MODIFIED:20260415T171738Z
UID:10003780-1807209000-1807218000@mycovenantpc.com
SUMMARY:Men’s Open Gym
DESCRIPTION:Adult Men\, you are invited to come hang out\, play a game of pick-up basketball\, or whatever sport you’d like.
URL:https://mycovenantpc.com/event/mens-open-gym/2027-04-08/
END:VEVENT
BEGIN:VEVENT
DTSTART;TZID=America/New_York:20270410T170000
DTEND;TZID=America/New_York:20270410T190000
DTSTAMP:20260425T113814
CREATED:20260310T172257Z
LAST-MODIFIED:20260310T172259Z
UID:10003410-1807376400-1807383600@mycovenantpc.com
SUMMARY:Young Professionals  Monthly Dinner
DESCRIPTION:
URL:https://mycovenantpc.com/event/college-career-monthly-dinner-2/2027-04-10/
END:VEVENT
BEGIN:VEVENT
DTSTART;TZID=America/New_York:20270411T093000
DTEND;TZID=America/New_York:20270411T110000
DTSTAMP:20260425T113814
CREATED:20250819T031730Z
LAST-MODIFIED:20260310T172531Z
UID:10002522-1807435800-1807441200@mycovenantpc.com
SUMMARY:Sunday Morning
DESCRIPTION:Sunday Morning: \n9:30 a.m.-Worship \n10:45 a.m.- Refuel Coffee \n11:00 a.m.-Sunday Studies for All Ages
URL:https://mycovenantpc.com/event/sunday-morning-evening/2027-04-11/
ATTACH;FMTTYPE=image/webp:https://mycovenantpc.com/wp-content/uploads/2025/08/Sunday-Mornings.webp
END:VEVENT
BEGIN:VEVENT
DTSTART;TZID=America/New_York:20270412T190000
DTEND;TZID=America/New_York:20270412T200000
DTSTAMP:20260425T113814
CREATED:20260114T184717Z
LAST-MODIFIED:20260114T184717Z
UID:10003298-1807556400-1807560000@mycovenantpc.com
SUMMARY:Men’s Bible Study
DESCRIPTION:
URL:https://mycovenantpc.com/event/mens-bible-study-2/2027-04-12/
ATTACH;FMTTYPE=image/png:https://mycovenantpc.com/wp-content/uploads/2025/09/Men-IHOP.png
END:VEVENT
BEGIN:VEVENT
DTSTART;TZID=America/New_York:20270414T073000
DTEND;TZID=America/New_York:20270414T083000
DTSTAMP:20260425T113814
CREATED:20260310T174455Z
LAST-MODIFIED:20260415T162156Z
UID:10003524-1807687800-1807691400@mycovenantpc.com
SUMMARY:R.O.M.E.O- Breakfast at IHOP
DESCRIPTION:Reformed Old Men Eating Out invites you together with them at IHOP in Easley. \nYou don’t have to be “old”\, you can be young at heart\, young in age\, or just a hungry man. See you there for a cup of Joe and good conversation. \nAddress: IHOP 6525 Calhoun Memorial Hwy #6525A\, Easley\, SC 29640
URL:https://mycovenantpc.com/event/r-o-m-e-o-breakfast-at-ihop/2027-04-14/
END:VEVENT
BEGIN:VEVENT
DTSTART;TZID=America/New_York:20270415T183000
DTEND;TZID=America/New_York:20270415T210000
DTSTAMP:20260425T113814
CREATED:20260415T171738Z
LAST-MODIFIED:20260415T171738Z
UID:10003781-1807813800-1807822800@mycovenantpc.com
SUMMARY:Men’s Open Gym
DESCRIPTION:Adult Men\, you are invited to come hang out\, play a game of pick-up basketball\, or whatever sport you’d like.
URL:https://mycovenantpc.com/event/mens-open-gym/2027-04-15/
END:VEVENT
END:VCALENDAR