BEGIN:VCALENDAR
VERSION:2.0
PRODID:-//Covenant Presbyterian Church - ECPv6.15.17//NONSGML v1.0//EN
CALSCALE:GREGORIAN
METHOD:PUBLISH
X-WR-CALNAME:Covenant Presbyterian Church
X-ORIGINAL-URL:https://mycovenantpc.com
X-WR-CALDESC:Events for Covenant Presbyterian Church
REFRESH-INTERVAL;VALUE=DURATION:PT1H
X-Robots-Tag:noindex
X-PUBLISHED-TTL:PT1H
BEGIN:VTIMEZONE
TZID:America/New_York
BEGIN:DAYLIGHT
TZOFFSETFROM:-0500
TZOFFSETTO:-0400
TZNAME:EDT
DTSTART:20240310T070000
END:DAYLIGHT
BEGIN:STANDARD
TZOFFSETFROM:-0400
TZOFFSETTO:-0500
TZNAME:EST
DTSTART:20241103T060000
END:STANDARD
BEGIN:DAYLIGHT
TZOFFSETFROM:-0500
TZOFFSETTO:-0400
TZNAME:EDT
DTSTART:20250309T070000
END:DAYLIGHT
BEGIN:STANDARD
TZOFFSETFROM:-0400
TZOFFSETTO:-0500
TZNAME:EST
DTSTART:20251102T060000
END:STANDARD
BEGIN:DAYLIGHT
TZOFFSETFROM:-0500
TZOFFSETTO:-0400
TZNAME:EDT
DTSTART:20260308T070000
END:DAYLIGHT
BEGIN:STANDARD
TZOFFSETFROM:-0400
TZOFFSETTO:-0500
TZNAME:EST
DTSTART:20261101T060000
END:STANDARD
END:VTIMEZONE
BEGIN:VEVENT
DTSTART;TZID=America/New_York:20251020T190000
DTEND;TZID=America/New_York:20251020T200000
DTSTAMP:20260424T070858
CREATED:20250907T224458Z
LAST-MODIFIED:20251120T210347Z
UID:10002768-1760986800-1760990400@mycovenantpc.com
SUMMARY:Men’s Bible Study
DESCRIPTION:
URL:https://mycovenantpc.com/event/mens-bible-study/2025-10-20/
ATTACH;FMTTYPE=image/png:https://mycovenantpc.com/wp-content/uploads/2025/09/Men-IHOP.png
END:VEVENT
BEGIN:VEVENT
DTSTART;TZID=America/New_York:20251019T173000
DTEND;TZID=America/New_York:20251019T183000
DTSTAMP:20260424T070858
CREATED:20250626T160346Z
LAST-MODIFIED:20250819T025359Z
UID:10001591-1760895000-1760898600@mycovenantpc.com
SUMMARY:153 Untorn Youth Nights
DESCRIPTION:Middle School and High School Students: \nGather in the Youth Room\, Main building\, for a time of worship\, and we will then break out into small groups to discuss God’s word. Games and Snacks to wrap up the evening. Pick up from the Life Center building. \n 
URL:https://mycovenantpc.com/event/153-untorn-youth-nights/2025-10-19/
ATTACH;FMTTYPE=image/png:https://mycovenantpc.com/wp-content/uploads/2023/12/153-Untorn-New-Blue.png
END:VEVENT
BEGIN:VEVENT
DTSTART;TZID=America/New_York:20251019T093000
DTEND;TZID=America/New_York:20251019T110000
DTSTAMP:20260424T070858
CREATED:20250819T031730Z
LAST-MODIFIED:20260310T172531Z
UID:10002445-1760866200-1760871600@mycovenantpc.com
SUMMARY:Sunday Morning
DESCRIPTION:Sunday Morning: \n9:30 a.m.-Worship \n10:45 a.m.- Refuel Coffee \n11:00 a.m.-Sunday Studies for All Ages
URL:https://mycovenantpc.com/event/sunday-morning-evening/2025-10-19/
ATTACH;FMTTYPE=image/webp:https://mycovenantpc.com/wp-content/uploads/2025/08/Sunday-Mornings.webp
END:VEVENT
BEGIN:VEVENT
DTSTART;TZID=America/New_York:20251017T160000
DTEND;TZID=America/New_York:20251018T150000
DTSTAMP:20260424T070858
CREATED:20250907T225547Z
LAST-MODIFIED:20250907T225609Z
UID:10002841-1760716800-1760799600@mycovenantpc.com
SUMMARY:Ladies Fall Retreat
DESCRIPTION:Our ladies retreat is October 17 and 18 at Bonclarken in Flat Rock\, NC.  Redeeming Friendship is the topic\, and we will have a series of video lessons from Winfree Brisley.  She will use Proverbs 17:17 to prompt us to consider why our friendships need to be redeemed; she will encourage us to cultivate Christ-centered friendships\, and we will learn how to be a friend in times of rejoicing\, suffering\, disappointment\, and conflict. \nThis retreat is a joyful invitation to talk with one another and listen without distraction\, enjoy meals together that we don’t have to cook or clean up\, and cultivate friendships with others. Cost is $150.00. Register HERE
URL:https://mycovenantpc.com/event/ladies-fall-retreat/
END:VEVENT
BEGIN:VEVENT
DTSTART;TZID=America/New_York:20251014T093000
DTEND;TZID=America/New_York:20251014T110000
DTSTAMP:20260424T070858
CREATED:20250907T223815Z
LAST-MODIFIED:20251103T202553Z
UID:10002704-1760434200-1760439600@mycovenantpc.com
SUMMARY:Ladies Bible Study
DESCRIPTION:Experiencing the Promise of the Book of Acts \nIn Saved\, Nancy Guthrie provides an accessible\, theologically guide to the book of Acts. She invites us to peer into the lives of the apostles in the days following the resurrection and ascension of Jesus as they experienced new power from the indwelling Holy Spirit and a new understanding of the Old Testament scriptures. \nTwo Study Times to Choose from. On the next page\, choose 9:30 AM or 7:00 PM \nCOST: $15.00 includes personal study with video access \nOPTIONAL BOOK: $10.00 The Saved book by Nancy Guthrie \nTwo Study Times and Locations: \n9:30AM- CPC LIFE CENTER LED BY CHERYL BEACH AND RUTH RAE \n4500 Highway 86\, Easley SC 29642 \n7:00 PM- GWYN OATES HOME LED BY SUSAN JOHNSON AND CAROLE WALTERS \n198 Haverhill Circle\, Easley SC 29642
URL:https://mycovenantpc.com/event/ladies-bible-study/2025-10-14/
ATTACH;FMTTYPE=image/png:https://mycovenantpc.com/wp-content/uploads/2025/09/Ladies-SAVED-Study-2025-1.png
END:VEVENT
BEGIN:VEVENT
DTSTART;TZID=America/New_York:20251013T190000
DTEND;TZID=America/New_York:20251013T200000
DTSTAMP:20260424T070858
CREATED:20250907T224458Z
LAST-MODIFIED:20251120T210347Z
UID:10002767-1760382000-1760385600@mycovenantpc.com
SUMMARY:Men’s Bible Study
DESCRIPTION:
URL:https://mycovenantpc.com/event/mens-bible-study/2025-10-13/
ATTACH;FMTTYPE=image/png:https://mycovenantpc.com/wp-content/uploads/2025/09/Men-IHOP.png
END:VEVENT
BEGIN:VEVENT
DTSTART;TZID=America/New_York:20251012T173000
DTEND;TZID=America/New_York:20251012T183000
DTSTAMP:20260424T070858
CREATED:20250626T160346Z
LAST-MODIFIED:20250819T025359Z
UID:10001590-1760290200-1760293800@mycovenantpc.com
SUMMARY:153 Untorn Youth Nights
DESCRIPTION:Middle School and High School Students: \nGather in the Youth Room\, Main building\, for a time of worship\, and we will then break out into small groups to discuss God’s word. Games and Snacks to wrap up the evening. Pick up from the Life Center building. \n 
URL:https://mycovenantpc.com/event/153-untorn-youth-nights/2025-10-12/
ATTACH;FMTTYPE=image/png:https://mycovenantpc.com/wp-content/uploads/2023/12/153-Untorn-New-Blue.png
END:VEVENT
BEGIN:VEVENT
DTSTART;TZID=America/New_York:20251012T093000
DTEND;TZID=America/New_York:20251012T110000
DTSTAMP:20260424T070858
CREATED:20250819T031730Z
LAST-MODIFIED:20260310T172531Z
UID:10002444-1760261400-1760266800@mycovenantpc.com
SUMMARY:Sunday Morning
DESCRIPTION:Sunday Morning: \n9:30 a.m.-Worship \n10:45 a.m.- Refuel Coffee \n11:00 a.m.-Sunday Studies for All Ages
URL:https://mycovenantpc.com/event/sunday-morning-evening/2025-10-12/
ATTACH;FMTTYPE=image/webp:https://mycovenantpc.com/wp-content/uploads/2025/08/Sunday-Mornings.webp
END:VEVENT
BEGIN:VEVENT
DTSTART;TZID=America/New_York:20251007T093000
DTEND;TZID=America/New_York:20251007T110000
DTSTAMP:20260424T070858
CREATED:20250907T223815Z
LAST-MODIFIED:20251103T202553Z
UID:10002703-1759829400-1759834800@mycovenantpc.com
SUMMARY:Ladies Bible Study
DESCRIPTION:Experiencing the Promise of the Book of Acts \nIn Saved\, Nancy Guthrie provides an accessible\, theologically guide to the book of Acts. She invites us to peer into the lives of the apostles in the days following the resurrection and ascension of Jesus as they experienced new power from the indwelling Holy Spirit and a new understanding of the Old Testament scriptures. \nTwo Study Times to Choose from. On the next page\, choose 9:30 AM or 7:00 PM \nCOST: $15.00 includes personal study with video access \nOPTIONAL BOOK: $10.00 The Saved book by Nancy Guthrie \nTwo Study Times and Locations: \n9:30AM- CPC LIFE CENTER LED BY CHERYL BEACH AND RUTH RAE \n4500 Highway 86\, Easley SC 29642 \n7:00 PM- GWYN OATES HOME LED BY SUSAN JOHNSON AND CAROLE WALTERS \n198 Haverhill Circle\, Easley SC 29642
URL:https://mycovenantpc.com/event/ladies-bible-study/2025-10-07/
ATTACH;FMTTYPE=image/png:https://mycovenantpc.com/wp-content/uploads/2025/09/Ladies-SAVED-Study-2025-1.png
END:VEVENT
BEGIN:VEVENT
DTSTART;TZID=America/New_York:20251006T190000
DTEND;TZID=America/New_York:20251006T200000
DTSTAMP:20260424T070858
CREATED:20250907T224458Z
LAST-MODIFIED:20251120T210347Z
UID:10002766-1759777200-1759780800@mycovenantpc.com
SUMMARY:Men’s Bible Study
DESCRIPTION:
URL:https://mycovenantpc.com/event/mens-bible-study/2025-10-06/
ATTACH;FMTTYPE=image/png:https://mycovenantpc.com/wp-content/uploads/2025/09/Men-IHOP.png
END:VEVENT
BEGIN:VEVENT
DTSTART;TZID=America/New_York:20251005T173000
DTEND;TZID=America/New_York:20251005T183000
DTSTAMP:20260424T070858
CREATED:20250626T160346Z
LAST-MODIFIED:20250819T025359Z
UID:10001589-1759685400-1759689000@mycovenantpc.com
SUMMARY:153 Untorn Youth Nights
DESCRIPTION:Middle School and High School Students: \nGather in the Youth Room\, Main building\, for a time of worship\, and we will then break out into small groups to discuss God’s word. Games and Snacks to wrap up the evening. Pick up from the Life Center building. \n 
URL:https://mycovenantpc.com/event/153-untorn-youth-nights/2025-10-05/
ATTACH;FMTTYPE=image/png:https://mycovenantpc.com/wp-content/uploads/2023/12/153-Untorn-New-Blue.png
END:VEVENT
BEGIN:VEVENT
DTSTART;TZID=America/New_York:20251005T093000
DTEND;TZID=America/New_York:20251005T110000
DTSTAMP:20260424T070858
CREATED:20250819T031730Z
LAST-MODIFIED:20260310T172531Z
UID:10002443-1759656600-1759662000@mycovenantpc.com
SUMMARY:Sunday Morning
DESCRIPTION:Sunday Morning: \n9:30 a.m.-Worship \n10:45 a.m.- Refuel Coffee \n11:00 a.m.-Sunday Studies for All Ages
URL:https://mycovenantpc.com/event/sunday-morning-evening/2025-10-05/
ATTACH;FMTTYPE=image/webp:https://mycovenantpc.com/wp-content/uploads/2025/08/Sunday-Mornings.webp
END:VEVENT
BEGIN:VEVENT
DTSTART;TZID=America/New_York:20251003T160000
DTEND;TZID=America/New_York:20251004T170000
DTSTAMP:20260424T070858
CREATED:20250907T225849Z
LAST-MODIFIED:20250907T225913Z
UID:10002842-1759507200-1759597200@mycovenantpc.com
SUMMARY:High School Fall Retreat
DESCRIPTION:The weather this week has me very excited for our upcoming High School Fall Retreat! I hope the students are excited to be in the mountains in the fall! Here are the details for the retreat…\n\nDetails\n\n\nWhen: October 3rd-4th\, 2026\nWhere: Bonclarken Conference Center\, 500 Pine Dr\, Flat Rock\, NC 28731\nWho: the youth group of Redeemer Presbyterian and Eastside Presbyterian\nSpeaker: Joe Nichols\, Director of Student Ministries at Eastern Shore PCA in Alabama. He will be talking about righteous relationships with the high schoolers!\nCost: $100\, this includes housing\, transportation\, meals\, snacks\, and a retreat shirt!\nDeadline to register: September 18th \nFor fun this year\, we will be stopping by SkyTop Orchard on the way home!
URL:https://mycovenantpc.com/event/high-school-fall-retreat/
ATTACH;FMTTYPE=image/png:https://mycovenantpc.com/wp-content/uploads/2025/09/HS-Fall-Retreat.png
END:VEVENT
BEGIN:VEVENT
DTSTART;TZID=America/New_York:20250930T093000
DTEND;TZID=America/New_York:20250930T110000
DTSTAMP:20260424T070858
CREATED:20250907T223815Z
LAST-MODIFIED:20251103T202553Z
UID:10002702-1759224600-1759230000@mycovenantpc.com
SUMMARY:Ladies Bible Study
DESCRIPTION:Experiencing the Promise of the Book of Acts \nIn Saved\, Nancy Guthrie provides an accessible\, theologically guide to the book of Acts. She invites us to peer into the lives of the apostles in the days following the resurrection and ascension of Jesus as they experienced new power from the indwelling Holy Spirit and a new understanding of the Old Testament scriptures. \nTwo Study Times to Choose from. On the next page\, choose 9:30 AM or 7:00 PM \nCOST: $15.00 includes personal study with video access \nOPTIONAL BOOK: $10.00 The Saved book by Nancy Guthrie \nTwo Study Times and Locations: \n9:30AM- CPC LIFE CENTER LED BY CHERYL BEACH AND RUTH RAE \n4500 Highway 86\, Easley SC 29642 \n7:00 PM- GWYN OATES HOME LED BY SUSAN JOHNSON AND CAROLE WALTERS \n198 Haverhill Circle\, Easley SC 29642
URL:https://mycovenantpc.com/event/ladies-bible-study/2025-09-30/
ATTACH;FMTTYPE=image/png:https://mycovenantpc.com/wp-content/uploads/2025/09/Ladies-SAVED-Study-2025-1.png
END:VEVENT
BEGIN:VEVENT
DTSTART;TZID=America/New_York:20250929T190000
DTEND;TZID=America/New_York:20250929T200000
DTSTAMP:20260424T070858
CREATED:20250907T224458Z
LAST-MODIFIED:20251120T210347Z
UID:10002765-1759172400-1759176000@mycovenantpc.com
SUMMARY:Men’s Bible Study
DESCRIPTION:
URL:https://mycovenantpc.com/event/mens-bible-study/2025-09-29/
ATTACH;FMTTYPE=image/png:https://mycovenantpc.com/wp-content/uploads/2025/09/Men-IHOP.png
END:VEVENT
BEGIN:VEVENT
DTSTART;TZID=America/New_York:20250928T173000
DTEND;TZID=America/New_York:20250928T183000
DTSTAMP:20260424T070858
CREATED:20250626T160346Z
LAST-MODIFIED:20250819T025359Z
UID:10001588-1759080600-1759084200@mycovenantpc.com
SUMMARY:153 Untorn Youth Nights
DESCRIPTION:Middle School and High School Students: \nGather in the Youth Room\, Main building\, for a time of worship\, and we will then break out into small groups to discuss God’s word. Games and Snacks to wrap up the evening. Pick up from the Life Center building. \n 
URL:https://mycovenantpc.com/event/153-untorn-youth-nights/2025-09-28/
ATTACH;FMTTYPE=image/png:https://mycovenantpc.com/wp-content/uploads/2023/12/153-Untorn-New-Blue.png
END:VEVENT
BEGIN:VEVENT
DTSTART;TZID=America/New_York:20250928T120000
DTEND;TZID=America/New_York:20250928T133000
DTSTAMP:20260424T070858
CREATED:20250907T222158Z
LAST-MODIFIED:20250907T222158Z
UID:10002698-1759060800-1759066200@mycovenantpc.com
SUMMARY:Church-Wide Meal
DESCRIPTION:Plan to stay for lunch after Sunday studies\, we’d love to break bread with you. \nJoin us in the Family Life Center gym for a covered dish lunch. Please play to bring a main dish\, side dish\, or dessert. We always have plenty of food!
URL:https://mycovenantpc.com/event/church-wide-meal-2/
END:VEVENT
BEGIN:VEVENT
DTSTART;TZID=America/New_York:20250928T093000
DTEND;TZID=America/New_York:20250928T110000
DTSTAMP:20260424T070858
CREATED:20250819T031730Z
LAST-MODIFIED:20260310T172531Z
UID:10002442-1759051800-1759057200@mycovenantpc.com
SUMMARY:Sunday Morning
DESCRIPTION:Sunday Morning: \n9:30 a.m.-Worship \n10:45 a.m.- Refuel Coffee \n11:00 a.m.-Sunday Studies for All Ages
URL:https://mycovenantpc.com/event/sunday-morning-evening/2025-09-28/
ATTACH;FMTTYPE=image/webp:https://mycovenantpc.com/wp-content/uploads/2025/08/Sunday-Mornings.webp
END:VEVENT
BEGIN:VEVENT
DTSTART;TZID=America/New_York:20250923T093000
DTEND;TZID=America/New_York:20250923T110000
DTSTAMP:20260424T070858
CREATED:20250907T223815Z
LAST-MODIFIED:20251103T202553Z
UID:10002701-1758619800-1758625200@mycovenantpc.com
SUMMARY:Ladies Bible Study
DESCRIPTION:Experiencing the Promise of the Book of Acts \nIn Saved\, Nancy Guthrie provides an accessible\, theologically guide to the book of Acts. She invites us to peer into the lives of the apostles in the days following the resurrection and ascension of Jesus as they experienced new power from the indwelling Holy Spirit and a new understanding of the Old Testament scriptures. \nTwo Study Times to Choose from. On the next page\, choose 9:30 AM or 7:00 PM \nCOST: $15.00 includes personal study with video access \nOPTIONAL BOOK: $10.00 The Saved book by Nancy Guthrie \nTwo Study Times and Locations: \n9:30AM- CPC LIFE CENTER LED BY CHERYL BEACH AND RUTH RAE \n4500 Highway 86\, Easley SC 29642 \n7:00 PM- GWYN OATES HOME LED BY SUSAN JOHNSON AND CAROLE WALTERS \n198 Haverhill Circle\, Easley SC 29642
URL:https://mycovenantpc.com/event/ladies-bible-study/2025-09-23/
ATTACH;FMTTYPE=image/png:https://mycovenantpc.com/wp-content/uploads/2025/09/Ladies-SAVED-Study-2025-1.png
END:VEVENT
BEGIN:VEVENT
DTSTART;TZID=America/New_York:20250922T190000
DTEND;TZID=America/New_York:20250922T200000
DTSTAMP:20260424T070858
CREATED:20250907T224458Z
LAST-MODIFIED:20251120T210347Z
UID:10002764-1758567600-1758571200@mycovenantpc.com
SUMMARY:Men’s Bible Study
DESCRIPTION:
URL:https://mycovenantpc.com/event/mens-bible-study/2025-09-22/
ATTACH;FMTTYPE=image/png:https://mycovenantpc.com/wp-content/uploads/2025/09/Men-IHOP.png
END:VEVENT
BEGIN:VEVENT
DTSTART;TZID=America/New_York:20250921T173000
DTEND;TZID=America/New_York:20250921T183000
DTSTAMP:20260424T070858
CREATED:20250626T160346Z
LAST-MODIFIED:20250819T025359Z
UID:10001587-1758475800-1758479400@mycovenantpc.com
SUMMARY:153 Untorn Youth Nights
DESCRIPTION:Middle School and High School Students: \nGather in the Youth Room\, Main building\, for a time of worship\, and we will then break out into small groups to discuss God’s word. Games and Snacks to wrap up the evening. Pick up from the Life Center building. \n 
URL:https://mycovenantpc.com/event/153-untorn-youth-nights/2025-09-21/
ATTACH;FMTTYPE=image/png:https://mycovenantpc.com/wp-content/uploads/2023/12/153-Untorn-New-Blue.png
END:VEVENT
BEGIN:VEVENT
DTSTART;TZID=America/New_York:20250921T093000
DTEND;TZID=America/New_York:20250921T110000
DTSTAMP:20260424T070858
CREATED:20250819T031730Z
LAST-MODIFIED:20260310T172531Z
UID:10002441-1758447000-1758452400@mycovenantpc.com
SUMMARY:Sunday Morning
DESCRIPTION:Sunday Morning: \n9:30 a.m.-Worship \n10:45 a.m.- Refuel Coffee \n11:00 a.m.-Sunday Studies for All Ages
URL:https://mycovenantpc.com/event/sunday-morning-evening/2025-09-21/
ATTACH;FMTTYPE=image/webp:https://mycovenantpc.com/wp-content/uploads/2025/08/Sunday-Mornings.webp
END:VEVENT
BEGIN:VEVENT
DTSTART;TZID=America/New_York:20250916T093000
DTEND;TZID=America/New_York:20250916T110000
DTSTAMP:20260424T070858
CREATED:20250907T223815Z
LAST-MODIFIED:20251103T202553Z
UID:10002700-1758015000-1758020400@mycovenantpc.com
SUMMARY:Ladies Bible Study
DESCRIPTION:Experiencing the Promise of the Book of Acts \nIn Saved\, Nancy Guthrie provides an accessible\, theologically guide to the book of Acts. She invites us to peer into the lives of the apostles in the days following the resurrection and ascension of Jesus as they experienced new power from the indwelling Holy Spirit and a new understanding of the Old Testament scriptures. \nTwo Study Times to Choose from. On the next page\, choose 9:30 AM or 7:00 PM \nCOST: $15.00 includes personal study with video access \nOPTIONAL BOOK: $10.00 The Saved book by Nancy Guthrie \nTwo Study Times and Locations: \n9:30AM- CPC LIFE CENTER LED BY CHERYL BEACH AND RUTH RAE \n4500 Highway 86\, Easley SC 29642 \n7:00 PM- GWYN OATES HOME LED BY SUSAN JOHNSON AND CAROLE WALTERS \n198 Haverhill Circle\, Easley SC 29642
URL:https://mycovenantpc.com/event/ladies-bible-study/2025-09-16/
ATTACH;FMTTYPE=image/png:https://mycovenantpc.com/wp-content/uploads/2025/09/Ladies-SAVED-Study-2025-1.png
END:VEVENT
BEGIN:VEVENT
DTSTART;TZID=America/New_York:20250915T190000
DTEND;TZID=America/New_York:20250915T200000
DTSTAMP:20260424T070858
CREATED:20250907T224458Z
LAST-MODIFIED:20251120T210347Z
UID:10002763-1757962800-1757966400@mycovenantpc.com
SUMMARY:Men’s Bible Study
DESCRIPTION:
URL:https://mycovenantpc.com/event/mens-bible-study/2025-09-15/
ATTACH;FMTTYPE=image/png:https://mycovenantpc.com/wp-content/uploads/2025/09/Men-IHOP.png
END:VEVENT
BEGIN:VEVENT
DTSTART;TZID=America/New_York:20250914T173000
DTEND;TZID=America/New_York:20250914T183000
DTSTAMP:20260424T070858
CREATED:20250626T160346Z
LAST-MODIFIED:20250819T025359Z
UID:10001586-1757871000-1757874600@mycovenantpc.com
SUMMARY:153 Untorn Youth Nights
DESCRIPTION:Middle School and High School Students: \nGather in the Youth Room\, Main building\, for a time of worship\, and we will then break out into small groups to discuss God’s word. Games and Snacks to wrap up the evening. Pick up from the Life Center building. \n 
URL:https://mycovenantpc.com/event/153-untorn-youth-nights/2025-09-14/
ATTACH;FMTTYPE=image/png:https://mycovenantpc.com/wp-content/uploads/2023/12/153-Untorn-New-Blue.png
END:VEVENT
BEGIN:VEVENT
DTSTART;TZID=America/New_York:20250914T093000
DTEND;TZID=America/New_York:20250914T110000
DTSTAMP:20260424T070858
CREATED:20250819T031730Z
LAST-MODIFIED:20260310T172531Z
UID:10002440-1757842200-1757847600@mycovenantpc.com
SUMMARY:Sunday Morning
DESCRIPTION:Sunday Morning: \n9:30 a.m.-Worship \n10:45 a.m.- Refuel Coffee \n11:00 a.m.-Sunday Studies for All Ages
URL:https://mycovenantpc.com/event/sunday-morning-evening/2025-09-14/
ATTACH;FMTTYPE=image/webp:https://mycovenantpc.com/wp-content/uploads/2025/08/Sunday-Mornings.webp
END:VEVENT
BEGIN:VEVENT
DTSTART;TZID=America/New_York:20250909T093000
DTEND;TZID=America/New_York:20250909T110000
DTSTAMP:20260424T070858
CREATED:20250907T223815Z
LAST-MODIFIED:20251103T202553Z
UID:10002699-1757410200-1757415600@mycovenantpc.com
SUMMARY:Ladies Bible Study
DESCRIPTION:Experiencing the Promise of the Book of Acts \nIn Saved\, Nancy Guthrie provides an accessible\, theologically guide to the book of Acts. She invites us to peer into the lives of the apostles in the days following the resurrection and ascension of Jesus as they experienced new power from the indwelling Holy Spirit and a new understanding of the Old Testament scriptures. \nTwo Study Times to Choose from. On the next page\, choose 9:30 AM or 7:00 PM \nCOST: $15.00 includes personal study with video access \nOPTIONAL BOOK: $10.00 The Saved book by Nancy Guthrie \nTwo Study Times and Locations: \n9:30AM- CPC LIFE CENTER LED BY CHERYL BEACH AND RUTH RAE \n4500 Highway 86\, Easley SC 29642 \n7:00 PM- GWYN OATES HOME LED BY SUSAN JOHNSON AND CAROLE WALTERS \n198 Haverhill Circle\, Easley SC 29642
URL:https://mycovenantpc.com/event/ladies-bible-study/2025-09-09/
ATTACH;FMTTYPE=image/png:https://mycovenantpc.com/wp-content/uploads/2025/09/Ladies-SAVED-Study-2025-1.png
END:VEVENT
BEGIN:VEVENT
DTSTART;TZID=America/New_York:20250908T190000
DTEND;TZID=America/New_York:20250908T200000
DTSTAMP:20260424T070858
CREATED:20250907T224458Z
LAST-MODIFIED:20251120T210347Z
UID:10002762-1757358000-1757361600@mycovenantpc.com
SUMMARY:Men’s Bible Study
DESCRIPTION:
URL:https://mycovenantpc.com/event/mens-bible-study/2025-09-08/
ATTACH;FMTTYPE=image/png:https://mycovenantpc.com/wp-content/uploads/2025/09/Men-IHOP.png
END:VEVENT
BEGIN:VEVENT
DTSTART;TZID=America/New_York:20250907T173000
DTEND;TZID=America/New_York:20250907T183000
DTSTAMP:20260424T070858
CREATED:20250626T160346Z
LAST-MODIFIED:20250819T025359Z
UID:10001585-1757266200-1757269800@mycovenantpc.com
SUMMARY:153 Untorn Youth Nights
DESCRIPTION:Middle School and High School Students: \nGather in the Youth Room\, Main building\, for a time of worship\, and we will then break out into small groups to discuss God’s word. Games and Snacks to wrap up the evening. Pick up from the Life Center building. \n 
URL:https://mycovenantpc.com/event/153-untorn-youth-nights/2025-09-07/
ATTACH;FMTTYPE=image/png:https://mycovenantpc.com/wp-content/uploads/2023/12/153-Untorn-New-Blue.png
END:VEVENT
BEGIN:VEVENT
DTSTART;TZID=America/New_York:20250907T093000
DTEND;TZID=America/New_York:20250907T110000
DTSTAMP:20260424T070858
CREATED:20250819T031730Z
LAST-MODIFIED:20260310T172531Z
UID:10002439-1757237400-1757242800@mycovenantpc.com
SUMMARY:Sunday Morning
DESCRIPTION:Sunday Morning: \n9:30 a.m.-Worship \n10:45 a.m.- Refuel Coffee \n11:00 a.m.-Sunday Studies for All Ages
URL:https://mycovenantpc.com/event/sunday-morning-evening/2025-09-07/
ATTACH;FMTTYPE=image/webp:https://mycovenantpc.com/wp-content/uploads/2025/08/Sunday-Mornings.webp
END:VEVENT
END:VCALENDAR