BEGIN:VCALENDAR
VERSION:2.0
PRODID:-//Covenant Presbyterian Church - ECPv6.15.17//NONSGML v1.0//EN
CALSCALE:GREGORIAN
METHOD:PUBLISH
X-WR-CALNAME:Covenant Presbyterian Church
X-ORIGINAL-URL:https://mycovenantpc.com
X-WR-CALDESC:Events for Covenant Presbyterian Church
REFRESH-INTERVAL;VALUE=DURATION:PT1H
X-Robots-Tag:noindex
X-PUBLISHED-TTL:PT1H
BEGIN:VTIMEZONE
TZID:America/New_York
BEGIN:DAYLIGHT
TZOFFSETFROM:-0500
TZOFFSETTO:-0400
TZNAME:EDT
DTSTART:20250309T070000
END:DAYLIGHT
BEGIN:STANDARD
TZOFFSETFROM:-0400
TZOFFSETTO:-0500
TZNAME:EST
DTSTART:20251102T060000
END:STANDARD
BEGIN:DAYLIGHT
TZOFFSETFROM:-0500
TZOFFSETTO:-0400
TZNAME:EDT
DTSTART:20260308T070000
END:DAYLIGHT
BEGIN:STANDARD
TZOFFSETFROM:-0400
TZOFFSETTO:-0500
TZNAME:EST
DTSTART:20261101T060000
END:STANDARD
BEGIN:DAYLIGHT
TZOFFSETFROM:-0500
TZOFFSETTO:-0400
TZNAME:EDT
DTSTART:20270314T070000
END:DAYLIGHT
BEGIN:STANDARD
TZOFFSETFROM:-0400
TZOFFSETTO:-0500
TZNAME:EST
DTSTART:20271107T060000
END:STANDARD
END:VTIMEZONE
BEGIN:VEVENT
DTSTART;TZID=America/New_York:20260701T073000
DTEND;TZID=America/New_York:20260701T083000
DTSTAMP:20260423T191031
CREATED:20260310T174455Z
LAST-MODIFIED:20260415T162156Z
UID:10003483-1782891000-1782894600@mycovenantpc.com
SUMMARY:R.O.M.E.O- Breakfast at IHOP
DESCRIPTION:Reformed Old Men Eating Out invites you together with them at IHOP in Easley. \nYou don’t have to be “old”\, you can be young at heart\, young in age\, or just a hungry man. See you there for a cup of Joe and good conversation. \nAddress: IHOP 6525 Calhoun Memorial Hwy #6525A\, Easley\, SC 29640
URL:https://mycovenantpc.com/event/r-o-m-e-o-breakfast-at-ihop/2026-07-01/
END:VEVENT
BEGIN:VEVENT
DTSTART;TZID=America/New_York:20260701T093000
DTEND;TZID=America/New_York:20260701T123000
DTSTAMP:20260423T191031
CREATED:20250907T225318Z
LAST-MODIFIED:20260114T182904Z
UID:10002874-1782898200-1782909000@mycovenantpc.com
SUMMARY:Ladies Creative Club
DESCRIPTION:Come as you have time\, bring whatever project you are working on\, and enjoy a group creative space. \nGod made us with so many gifts and talents. \nCovenant Life Center\, Agape Room. \nLed by Kelly Freeman
URL:https://mycovenantpc.com/event/ladies-creative-club-2/2026-07-01/
ATTACH;FMTTYPE=image/png:https://mycovenantpc.com/wp-content/uploads/2025/09/Creative-Club-2025.png
END:VEVENT
BEGIN:VEVENT
DTSTART;TZID=America/New_York:20260702T183000
DTEND;TZID=America/New_York:20260702T210000
DTSTAMP:20260423T191031
CREATED:20260415T171738Z
LAST-MODIFIED:20260415T171738Z
UID:10003740-1783017000-1783026000@mycovenantpc.com
SUMMARY:Men’s Open Gym
DESCRIPTION:Adult Men\, you are invited to come hang out\, play a game of pick-up basketball\, or whatever sport you’d like.
URL:https://mycovenantpc.com/event/mens-open-gym/2026-07-02/
END:VEVENT
BEGIN:VEVENT
DTSTART;TZID=America/New_York:20260705T093000
DTEND;TZID=America/New_York:20260705T110000
DTSTAMP:20260423T191031
CREATED:20250819T031730Z
LAST-MODIFIED:20260310T172531Z
UID:10002482-1783243800-1783249200@mycovenantpc.com
SUMMARY:Sunday Morning
DESCRIPTION:Sunday Morning: \n9:30 a.m.-Worship \n10:45 a.m.- Refuel Coffee \n11:00 a.m.-Sunday Studies for All Ages
URL:https://mycovenantpc.com/event/sunday-morning-evening/2026-07-05/
ATTACH;FMTTYPE=image/webp:https://mycovenantpc.com/wp-content/uploads/2025/08/Sunday-Mornings.webp
END:VEVENT
BEGIN:VEVENT
DTSTART;TZID=America/New_York:20260706T190000
DTEND;TZID=America/New_York:20260706T200000
DTSTAMP:20260423T191031
CREATED:20260114T184717Z
LAST-MODIFIED:20260114T184717Z
UID:10003258-1783364400-1783368000@mycovenantpc.com
SUMMARY:Men’s Bible Study
DESCRIPTION:
URL:https://mycovenantpc.com/event/mens-bible-study-2/2026-07-06/
ATTACH;FMTTYPE=image/png:https://mycovenantpc.com/wp-content/uploads/2025/09/Men-IHOP.png
END:VEVENT
BEGIN:VEVENT
DTSTART;TZID=America/New_York:20260708T073000
DTEND;TZID=America/New_York:20260708T083000
DTSTAMP:20260423T191031
CREATED:20260310T174455Z
LAST-MODIFIED:20260415T162156Z
UID:10003484-1783495800-1783499400@mycovenantpc.com
SUMMARY:R.O.M.E.O- Breakfast at IHOP
DESCRIPTION:Reformed Old Men Eating Out invites you together with them at IHOP in Easley. \nYou don’t have to be “old”\, you can be young at heart\, young in age\, or just a hungry man. See you there for a cup of Joe and good conversation. \nAddress: IHOP 6525 Calhoun Memorial Hwy #6525A\, Easley\, SC 29640
URL:https://mycovenantpc.com/event/r-o-m-e-o-breakfast-at-ihop/2026-07-08/
END:VEVENT
BEGIN:VEVENT
DTSTART;TZID=America/New_York:20260709T183000
DTEND;TZID=America/New_York:20260709T210000
DTSTAMP:20260423T191031
CREATED:20260415T171738Z
LAST-MODIFIED:20260415T171738Z
UID:10003741-1783621800-1783630800@mycovenantpc.com
SUMMARY:Men’s Open Gym
DESCRIPTION:Adult Men\, you are invited to come hang out\, play a game of pick-up basketball\, or whatever sport you’d like.
URL:https://mycovenantpc.com/event/mens-open-gym/2026-07-09/
END:VEVENT
BEGIN:VEVENT
DTSTART;TZID=America/New_York:20260711T170000
DTEND;TZID=America/New_York:20260711T190000
DTSTAMP:20260423T191031
CREATED:20260310T172257Z
LAST-MODIFIED:20260310T172259Z
UID:10003401-1783789200-1783796400@mycovenantpc.com
SUMMARY:Young Professionals  Monthly Dinner
DESCRIPTION:
URL:https://mycovenantpc.com/event/college-career-monthly-dinner-2/2026-07-11/
END:VEVENT
BEGIN:VEVENT
DTSTART;TZID=America/New_York:20260712T093000
DTEND;TZID=America/New_York:20260712T110000
DTSTAMP:20260423T191031
CREATED:20250819T031730Z
LAST-MODIFIED:20260310T172531Z
UID:10002483-1783848600-1783854000@mycovenantpc.com
SUMMARY:Sunday Morning
DESCRIPTION:Sunday Morning: \n9:30 a.m.-Worship \n10:45 a.m.- Refuel Coffee \n11:00 a.m.-Sunday Studies for All Ages
URL:https://mycovenantpc.com/event/sunday-morning-evening/2026-07-12/
ATTACH;FMTTYPE=image/webp:https://mycovenantpc.com/wp-content/uploads/2025/08/Sunday-Mornings.webp
END:VEVENT
BEGIN:VEVENT
DTSTART;TZID=America/New_York:20260713T190000
DTEND;TZID=America/New_York:20260713T200000
DTSTAMP:20260423T191031
CREATED:20260114T184717Z
LAST-MODIFIED:20260114T184717Z
UID:10003259-1783969200-1783972800@mycovenantpc.com
SUMMARY:Men’s Bible Study
DESCRIPTION:
URL:https://mycovenantpc.com/event/mens-bible-study-2/2026-07-13/
ATTACH;FMTTYPE=image/png:https://mycovenantpc.com/wp-content/uploads/2025/09/Men-IHOP.png
END:VEVENT
BEGIN:VEVENT
DTSTART;TZID=America/New_York:20260715T073000
DTEND;TZID=America/New_York:20260715T083000
DTSTAMP:20260423T191031
CREATED:20260310T174455Z
LAST-MODIFIED:20260415T162156Z
UID:10003485-1784100600-1784104200@mycovenantpc.com
SUMMARY:R.O.M.E.O- Breakfast at IHOP
DESCRIPTION:Reformed Old Men Eating Out invites you together with them at IHOP in Easley. \nYou don’t have to be “old”\, you can be young at heart\, young in age\, or just a hungry man. See you there for a cup of Joe and good conversation. \nAddress: IHOP 6525 Calhoun Memorial Hwy #6525A\, Easley\, SC 29640
URL:https://mycovenantpc.com/event/r-o-m-e-o-breakfast-at-ihop/2026-07-15/
END:VEVENT
BEGIN:VEVENT
DTSTART;TZID=America/New_York:20260716T183000
DTEND;TZID=America/New_York:20260716T210000
DTSTAMP:20260423T191031
CREATED:20260415T171738Z
LAST-MODIFIED:20260415T171738Z
UID:10003742-1784226600-1784235600@mycovenantpc.com
SUMMARY:Men’s Open Gym
DESCRIPTION:Adult Men\, you are invited to come hang out\, play a game of pick-up basketball\, or whatever sport you’d like.
URL:https://mycovenantpc.com/event/mens-open-gym/2026-07-16/
END:VEVENT
BEGIN:VEVENT
DTSTART;TZID=America/New_York:20260719T093000
DTEND;TZID=America/New_York:20260719T110000
DTSTAMP:20260423T191031
CREATED:20250819T031730Z
LAST-MODIFIED:20260310T172531Z
UID:10002484-1784453400-1784458800@mycovenantpc.com
SUMMARY:Sunday Morning
DESCRIPTION:Sunday Morning: \n9:30 a.m.-Worship \n10:45 a.m.- Refuel Coffee \n11:00 a.m.-Sunday Studies for All Ages
URL:https://mycovenantpc.com/event/sunday-morning-evening/2026-07-19/
ATTACH;FMTTYPE=image/webp:https://mycovenantpc.com/wp-content/uploads/2025/08/Sunday-Mornings.webp
END:VEVENT
BEGIN:VEVENT
DTSTART;TZID=America/New_York:20260720T190000
DTEND;TZID=America/New_York:20260720T200000
DTSTAMP:20260423T191031
CREATED:20260114T184717Z
LAST-MODIFIED:20260114T184717Z
UID:10003260-1784574000-1784577600@mycovenantpc.com
SUMMARY:Men’s Bible Study
DESCRIPTION:
URL:https://mycovenantpc.com/event/mens-bible-study-2/2026-07-20/
ATTACH;FMTTYPE=image/png:https://mycovenantpc.com/wp-content/uploads/2025/09/Men-IHOP.png
END:VEVENT
BEGIN:VEVENT
DTSTART;TZID=America/New_York:20260722T073000
DTEND;TZID=America/New_York:20260722T083000
DTSTAMP:20260423T191031
CREATED:20260310T174455Z
LAST-MODIFIED:20260415T162156Z
UID:10003486-1784705400-1784709000@mycovenantpc.com
SUMMARY:R.O.M.E.O- Breakfast at IHOP
DESCRIPTION:Reformed Old Men Eating Out invites you together with them at IHOP in Easley. \nYou don’t have to be “old”\, you can be young at heart\, young in age\, or just a hungry man. See you there for a cup of Joe and good conversation. \nAddress: IHOP 6525 Calhoun Memorial Hwy #6525A\, Easley\, SC 29640
URL:https://mycovenantpc.com/event/r-o-m-e-o-breakfast-at-ihop/2026-07-22/
END:VEVENT
BEGIN:VEVENT
DTSTART;TZID=America/New_York:20260723T183000
DTEND;TZID=America/New_York:20260723T210000
DTSTAMP:20260423T191031
CREATED:20260415T171738Z
LAST-MODIFIED:20260415T171738Z
UID:10003743-1784831400-1784840400@mycovenantpc.com
SUMMARY:Men’s Open Gym
DESCRIPTION:Adult Men\, you are invited to come hang out\, play a game of pick-up basketball\, or whatever sport you’d like.
URL:https://mycovenantpc.com/event/mens-open-gym/2026-07-23/
END:VEVENT
BEGIN:VEVENT
DTSTART;TZID=America/New_York:20260726T093000
DTEND;TZID=America/New_York:20260726T110000
DTSTAMP:20260423T191031
CREATED:20250819T031730Z
LAST-MODIFIED:20260310T172531Z
UID:10002485-1785058200-1785063600@mycovenantpc.com
SUMMARY:Sunday Morning
DESCRIPTION:Sunday Morning: \n9:30 a.m.-Worship \n10:45 a.m.- Refuel Coffee \n11:00 a.m.-Sunday Studies for All Ages
URL:https://mycovenantpc.com/event/sunday-morning-evening/2026-07-26/
ATTACH;FMTTYPE=image/webp:https://mycovenantpc.com/wp-content/uploads/2025/08/Sunday-Mornings.webp
END:VEVENT
BEGIN:VEVENT
DTSTART;TZID=America/New_York:20260727T190000
DTEND;TZID=America/New_York:20260727T200000
DTSTAMP:20260423T191031
CREATED:20260114T184717Z
LAST-MODIFIED:20260114T184717Z
UID:10003261-1785178800-1785182400@mycovenantpc.com
SUMMARY:Men’s Bible Study
DESCRIPTION:
URL:https://mycovenantpc.com/event/mens-bible-study-2/2026-07-27/
ATTACH;FMTTYPE=image/png:https://mycovenantpc.com/wp-content/uploads/2025/09/Men-IHOP.png
END:VEVENT
BEGIN:VEVENT
DTSTART;TZID=America/New_York:20260729T073000
DTEND;TZID=America/New_York:20260729T083000
DTSTAMP:20260423T191031
CREATED:20260310T174455Z
LAST-MODIFIED:20260415T162156Z
UID:10003487-1785310200-1785313800@mycovenantpc.com
SUMMARY:R.O.M.E.O- Breakfast at IHOP
DESCRIPTION:Reformed Old Men Eating Out invites you together with them at IHOP in Easley. \nYou don’t have to be “old”\, you can be young at heart\, young in age\, or just a hungry man. See you there for a cup of Joe and good conversation. \nAddress: IHOP 6525 Calhoun Memorial Hwy #6525A\, Easley\, SC 29640
URL:https://mycovenantpc.com/event/r-o-m-e-o-breakfast-at-ihop/2026-07-29/
END:VEVENT
BEGIN:VEVENT
DTSTART;TZID=America/New_York:20260730T183000
DTEND;TZID=America/New_York:20260730T210000
DTSTAMP:20260423T191031
CREATED:20260415T171738Z
LAST-MODIFIED:20260415T171738Z
UID:10003744-1785436200-1785445200@mycovenantpc.com
SUMMARY:Men’s Open Gym
DESCRIPTION:Adult Men\, you are invited to come hang out\, play a game of pick-up basketball\, or whatever sport you’d like.
URL:https://mycovenantpc.com/event/mens-open-gym/2026-07-30/
END:VEVENT
END:VCALENDAR