BEGIN:VCALENDAR
VERSION:2.0
PRODID:-//Covenant Presbyterian Church - ECPv6.15.17//NONSGML v1.0//EN
CALSCALE:GREGORIAN
METHOD:PUBLISH
X-WR-CALNAME:Covenant Presbyterian Church
X-ORIGINAL-URL:https://mycovenantpc.com
X-WR-CALDESC:Events for Covenant Presbyterian Church
REFRESH-INTERVAL;VALUE=DURATION:PT1H
X-Robots-Tag:noindex
X-PUBLISHED-TTL:PT1H
BEGIN:VTIMEZONE
TZID:America/New_York
BEGIN:DAYLIGHT
TZOFFSETFROM:-0500
TZOFFSETTO:-0400
TZNAME:EDT
DTSTART:20250309T070000
END:DAYLIGHT
BEGIN:STANDARD
TZOFFSETFROM:-0400
TZOFFSETTO:-0500
TZNAME:EST
DTSTART:20251102T060000
END:STANDARD
BEGIN:DAYLIGHT
TZOFFSETFROM:-0500
TZOFFSETTO:-0400
TZNAME:EDT
DTSTART:20260308T070000
END:DAYLIGHT
BEGIN:STANDARD
TZOFFSETFROM:-0400
TZOFFSETTO:-0500
TZNAME:EST
DTSTART:20261101T060000
END:STANDARD
BEGIN:DAYLIGHT
TZOFFSETFROM:-0500
TZOFFSETTO:-0400
TZNAME:EDT
DTSTART:20270314T070000
END:DAYLIGHT
BEGIN:STANDARD
TZOFFSETFROM:-0400
TZOFFSETTO:-0500
TZNAME:EST
DTSTART:20271107T060000
END:STANDARD
BEGIN:DAYLIGHT
TZOFFSETFROM:-0500
TZOFFSETTO:-0400
TZNAME:EDT
DTSTART:20280312T070000
END:DAYLIGHT
BEGIN:STANDARD
TZOFFSETFROM:-0400
TZOFFSETTO:-0500
TZNAME:EST
DTSTART:20281105T060000
END:STANDARD
BEGIN:DAYLIGHT
TZOFFSETFROM:-0500
TZOFFSETTO:-0400
TZNAME:EDT
DTSTART:20290311T070000
END:DAYLIGHT
BEGIN:STANDARD
TZOFFSETFROM:-0400
TZOFFSETTO:-0500
TZNAME:EST
DTSTART:20291104T060000
END:STANDARD
END:VTIMEZONE
BEGIN:VEVENT
DTSTART;TZID=America/New_York:20260506T093000
DTEND;TZID=America/New_York:20260506T123000
DTSTAMP:20260423T173116
CREATED:20250907T225318Z
LAST-MODIFIED:20260114T182904Z
UID:10002872-1778059800-1778070600@mycovenantpc.com
SUMMARY:Ladies Creative Club
DESCRIPTION:Come as you have time\, bring whatever project you are working on\, and enjoy a group creative space. \nGod made us with so many gifts and talents. \nCovenant Life Center\, Agape Room. \nLed by Kelly Freeman
URL:https://mycovenantpc.com/event/ladies-creative-club-2/2026-05-06/
ATTACH;FMTTYPE=image/png:https://mycovenantpc.com/wp-content/uploads/2025/09/Creative-Club-2025.png
END:VEVENT
BEGIN:VEVENT
DTSTART;TZID=America/New_York:20260603T093000
DTEND;TZID=America/New_York:20260603T123000
DTSTAMP:20260423T173116
CREATED:20250907T225318Z
LAST-MODIFIED:20260114T182904Z
UID:10002873-1780479000-1780489800@mycovenantpc.com
SUMMARY:Ladies Creative Club
DESCRIPTION:Come as you have time\, bring whatever project you are working on\, and enjoy a group creative space. \nGod made us with so many gifts and talents. \nCovenant Life Center\, Agape Room. \nLed by Kelly Freeman
URL:https://mycovenantpc.com/event/ladies-creative-club-2/2026-06-03/
ATTACH;FMTTYPE=image/png:https://mycovenantpc.com/wp-content/uploads/2025/09/Creative-Club-2025.png
END:VEVENT
BEGIN:VEVENT
DTSTART;TZID=America/New_York:20260701T093000
DTEND;TZID=America/New_York:20260701T123000
DTSTAMP:20260423T173116
CREATED:20250907T225318Z
LAST-MODIFIED:20260114T182904Z
UID:10002874-1782898200-1782909000@mycovenantpc.com
SUMMARY:Ladies Creative Club
DESCRIPTION:Come as you have time\, bring whatever project you are working on\, and enjoy a group creative space. \nGod made us with so many gifts and talents. \nCovenant Life Center\, Agape Room. \nLed by Kelly Freeman
URL:https://mycovenantpc.com/event/ladies-creative-club-2/2026-07-01/
ATTACH;FMTTYPE=image/png:https://mycovenantpc.com/wp-content/uploads/2025/09/Creative-Club-2025.png
END:VEVENT
BEGIN:VEVENT
DTSTART;TZID=America/New_York:20260805T093000
DTEND;TZID=America/New_York:20260805T123000
DTSTAMP:20260423T173116
CREATED:20250907T225318Z
LAST-MODIFIED:20260114T182904Z
UID:10002875-1785922200-1785933000@mycovenantpc.com
SUMMARY:Ladies Creative Club
DESCRIPTION:Come as you have time\, bring whatever project you are working on\, and enjoy a group creative space. \nGod made us with so many gifts and talents. \nCovenant Life Center\, Agape Room. \nLed by Kelly Freeman
URL:https://mycovenantpc.com/event/ladies-creative-club-2/2026-08-05/
ATTACH;FMTTYPE=image/png:https://mycovenantpc.com/wp-content/uploads/2025/09/Creative-Club-2025.png
END:VEVENT
BEGIN:VEVENT
DTSTART;TZID=America/New_York:20260902T093000
DTEND;TZID=America/New_York:20260902T123000
DTSTAMP:20260423T173116
CREATED:20250907T225318Z
LAST-MODIFIED:20260114T182904Z
UID:10002876-1788341400-1788352200@mycovenantpc.com
SUMMARY:Ladies Creative Club
DESCRIPTION:Come as you have time\, bring whatever project you are working on\, and enjoy a group creative space. \nGod made us with so many gifts and talents. \nCovenant Life Center\, Agape Room. \nLed by Kelly Freeman
URL:https://mycovenantpc.com/event/ladies-creative-club-2/2026-09-02/
ATTACH;FMTTYPE=image/png:https://mycovenantpc.com/wp-content/uploads/2025/09/Creative-Club-2025.png
END:VEVENT
BEGIN:VEVENT
DTSTART;TZID=America/New_York:20261007T093000
DTEND;TZID=America/New_York:20261007T123000
DTSTAMP:20260423T173116
CREATED:20250907T225318Z
LAST-MODIFIED:20260114T182904Z
UID:10002877-1791365400-1791376200@mycovenantpc.com
SUMMARY:Ladies Creative Club
DESCRIPTION:Come as you have time\, bring whatever project you are working on\, and enjoy a group creative space. \nGod made us with so many gifts and talents. \nCovenant Life Center\, Agape Room. \nLed by Kelly Freeman
URL:https://mycovenantpc.com/event/ladies-creative-club-2/2026-10-07/
ATTACH;FMTTYPE=image/png:https://mycovenantpc.com/wp-content/uploads/2025/09/Creative-Club-2025.png
END:VEVENT
BEGIN:VEVENT
DTSTART;TZID=America/New_York:20261104T093000
DTEND;TZID=America/New_York:20261104T123000
DTSTAMP:20260423T173116
CREATED:20250907T225318Z
LAST-MODIFIED:20260114T182904Z
UID:10002878-1793784600-1793795400@mycovenantpc.com
SUMMARY:Ladies Creative Club
DESCRIPTION:Come as you have time\, bring whatever project you are working on\, and enjoy a group creative space. \nGod made us with so many gifts and talents. \nCovenant Life Center\, Agape Room. \nLed by Kelly Freeman
URL:https://mycovenantpc.com/event/ladies-creative-club-2/2026-11-04/
ATTACH;FMTTYPE=image/png:https://mycovenantpc.com/wp-content/uploads/2025/09/Creative-Club-2025.png
END:VEVENT
BEGIN:VEVENT
DTSTART;TZID=America/New_York:20261202T093000
DTEND;TZID=America/New_York:20261202T123000
DTSTAMP:20260423T173116
CREATED:20250907T225318Z
LAST-MODIFIED:20260114T182904Z
UID:10002879-1796203800-1796214600@mycovenantpc.com
SUMMARY:Ladies Creative Club
DESCRIPTION:Come as you have time\, bring whatever project you are working on\, and enjoy a group creative space. \nGod made us with so many gifts and talents. \nCovenant Life Center\, Agape Room. \nLed by Kelly Freeman
URL:https://mycovenantpc.com/event/ladies-creative-club-2/2026-12-02/
ATTACH;FMTTYPE=image/png:https://mycovenantpc.com/wp-content/uploads/2025/09/Creative-Club-2025.png
END:VEVENT
BEGIN:VEVENT
DTSTART;TZID=America/New_York:20270106T093000
DTEND;TZID=America/New_York:20270106T123000
DTSTAMP:20260423T173116
CREATED:20250907T225318Z
LAST-MODIFIED:20260114T182904Z
UID:10002880-1799227800-1799238600@mycovenantpc.com
SUMMARY:Ladies Creative Club
DESCRIPTION:Come as you have time\, bring whatever project you are working on\, and enjoy a group creative space. \nGod made us with so many gifts and talents. \nCovenant Life Center\, Agape Room. \nLed by Kelly Freeman
URL:https://mycovenantpc.com/event/ladies-creative-club-2/2027-01-06/
ATTACH;FMTTYPE=image/png:https://mycovenantpc.com/wp-content/uploads/2025/09/Creative-Club-2025.png
END:VEVENT
BEGIN:VEVENT
DTSTART;TZID=America/New_York:20270203T093000
DTEND;TZID=America/New_York:20270203T123000
DTSTAMP:20260423T173116
CREATED:20250907T225318Z
LAST-MODIFIED:20260114T182904Z
UID:10002881-1801647000-1801657800@mycovenantpc.com
SUMMARY:Ladies Creative Club
DESCRIPTION:Come as you have time\, bring whatever project you are working on\, and enjoy a group creative space. \nGod made us with so many gifts and talents. \nCovenant Life Center\, Agape Room. \nLed by Kelly Freeman
URL:https://mycovenantpc.com/event/ladies-creative-club-2/2027-02-03/
ATTACH;FMTTYPE=image/png:https://mycovenantpc.com/wp-content/uploads/2025/09/Creative-Club-2025.png
END:VEVENT
BEGIN:VEVENT
DTSTART;TZID=America/New_York:20270303T093000
DTEND;TZID=America/New_York:20270303T123000
DTSTAMP:20260423T173116
CREATED:20250907T225318Z
LAST-MODIFIED:20260114T182904Z
UID:10002882-1804066200-1804077000@mycovenantpc.com
SUMMARY:Ladies Creative Club
DESCRIPTION:Come as you have time\, bring whatever project you are working on\, and enjoy a group creative space. \nGod made us with so many gifts and talents. \nCovenant Life Center\, Agape Room. \nLed by Kelly Freeman
URL:https://mycovenantpc.com/event/ladies-creative-club-2/2027-03-03/
ATTACH;FMTTYPE=image/png:https://mycovenantpc.com/wp-content/uploads/2025/09/Creative-Club-2025.png
END:VEVENT
BEGIN:VEVENT
DTSTART;TZID=America/New_York:20270407T093000
DTEND;TZID=America/New_York:20270407T123000
DTSTAMP:20260423T173116
CREATED:20250907T225318Z
LAST-MODIFIED:20260114T182904Z
UID:10002883-1807090200-1807101000@mycovenantpc.com
SUMMARY:Ladies Creative Club
DESCRIPTION:Come as you have time\, bring whatever project you are working on\, and enjoy a group creative space. \nGod made us with so many gifts and talents. \nCovenant Life Center\, Agape Room. \nLed by Kelly Freeman
URL:https://mycovenantpc.com/event/ladies-creative-club-2/2027-04-07/
ATTACH;FMTTYPE=image/png:https://mycovenantpc.com/wp-content/uploads/2025/09/Creative-Club-2025.png
END:VEVENT
BEGIN:VEVENT
DTSTART;TZID=America/New_York:20270505T093000
DTEND;TZID=America/New_York:20270505T123000
DTSTAMP:20260423T173116
CREATED:20250907T225318Z
LAST-MODIFIED:20260114T182904Z
UID:10002884-1809509400-1809520200@mycovenantpc.com
SUMMARY:Ladies Creative Club
DESCRIPTION:Come as you have time\, bring whatever project you are working on\, and enjoy a group creative space. \nGod made us with so many gifts and talents. \nCovenant Life Center\, Agape Room. \nLed by Kelly Freeman
URL:https://mycovenantpc.com/event/ladies-creative-club-2/2027-05-05/
ATTACH;FMTTYPE=image/png:https://mycovenantpc.com/wp-content/uploads/2025/09/Creative-Club-2025.png
END:VEVENT
BEGIN:VEVENT
DTSTART;TZID=America/New_York:20270602T093000
DTEND;TZID=America/New_York:20270602T123000
DTSTAMP:20260423T173116
CREATED:20250907T225318Z
LAST-MODIFIED:20260114T182904Z
UID:10002885-1811928600-1811939400@mycovenantpc.com
SUMMARY:Ladies Creative Club
DESCRIPTION:Come as you have time\, bring whatever project you are working on\, and enjoy a group creative space. \nGod made us with so many gifts and talents. \nCovenant Life Center\, Agape Room. \nLed by Kelly Freeman
URL:https://mycovenantpc.com/event/ladies-creative-club-2/2027-06-02/
ATTACH;FMTTYPE=image/png:https://mycovenantpc.com/wp-content/uploads/2025/09/Creative-Club-2025.png
END:VEVENT
BEGIN:VEVENT
DTSTART;TZID=America/New_York:20270707T093000
DTEND;TZID=America/New_York:20270707T123000
DTSTAMP:20260423T173116
CREATED:20250907T225318Z
LAST-MODIFIED:20260114T182904Z
UID:10002886-1814952600-1814963400@mycovenantpc.com
SUMMARY:Ladies Creative Club
DESCRIPTION:Come as you have time\, bring whatever project you are working on\, and enjoy a group creative space. \nGod made us with so many gifts and talents. \nCovenant Life Center\, Agape Room. \nLed by Kelly Freeman
URL:https://mycovenantpc.com/event/ladies-creative-club-2/2027-07-07/
ATTACH;FMTTYPE=image/png:https://mycovenantpc.com/wp-content/uploads/2025/09/Creative-Club-2025.png
END:VEVENT
BEGIN:VEVENT
DTSTART;TZID=America/New_York:20270804T093000
DTEND;TZID=America/New_York:20270804T123000
DTSTAMP:20260423T173116
CREATED:20250907T225318Z
LAST-MODIFIED:20260114T182904Z
UID:10002887-1817371800-1817382600@mycovenantpc.com
SUMMARY:Ladies Creative Club
DESCRIPTION:Come as you have time\, bring whatever project you are working on\, and enjoy a group creative space. \nGod made us with so many gifts and talents. \nCovenant Life Center\, Agape Room. \nLed by Kelly Freeman
URL:https://mycovenantpc.com/event/ladies-creative-club-2/2027-08-04/
ATTACH;FMTTYPE=image/png:https://mycovenantpc.com/wp-content/uploads/2025/09/Creative-Club-2025.png
END:VEVENT
BEGIN:VEVENT
DTSTART;TZID=America/New_York:20270901T093000
DTEND;TZID=America/New_York:20270901T123000
DTSTAMP:20260423T173116
CREATED:20250907T225318Z
LAST-MODIFIED:20260114T182904Z
UID:10002888-1819791000-1819801800@mycovenantpc.com
SUMMARY:Ladies Creative Club
DESCRIPTION:Come as you have time\, bring whatever project you are working on\, and enjoy a group creative space. \nGod made us with so many gifts and talents. \nCovenant Life Center\, Agape Room. \nLed by Kelly Freeman
URL:https://mycovenantpc.com/event/ladies-creative-club-2/2027-09-01/
ATTACH;FMTTYPE=image/png:https://mycovenantpc.com/wp-content/uploads/2025/09/Creative-Club-2025.png
END:VEVENT
BEGIN:VEVENT
DTSTART;TZID=America/New_York:20271006T093000
DTEND;TZID=America/New_York:20271006T123000
DTSTAMP:20260423T173116
CREATED:20250907T225318Z
LAST-MODIFIED:20260114T182904Z
UID:10002889-1822815000-1822825800@mycovenantpc.com
SUMMARY:Ladies Creative Club
DESCRIPTION:Come as you have time\, bring whatever project you are working on\, and enjoy a group creative space. \nGod made us with so many gifts and talents. \nCovenant Life Center\, Agape Room. \nLed by Kelly Freeman
URL:https://mycovenantpc.com/event/ladies-creative-club-2/2027-10-06/
ATTACH;FMTTYPE=image/png:https://mycovenantpc.com/wp-content/uploads/2025/09/Creative-Club-2025.png
END:VEVENT
BEGIN:VEVENT
DTSTART;TZID=America/New_York:20271103T093000
DTEND;TZID=America/New_York:20271103T123000
DTSTAMP:20260423T173116
CREATED:20250907T225318Z
LAST-MODIFIED:20260114T182904Z
UID:10002890-1825234200-1825245000@mycovenantpc.com
SUMMARY:Ladies Creative Club
DESCRIPTION:Come as you have time\, bring whatever project you are working on\, and enjoy a group creative space. \nGod made us with so many gifts and talents. \nCovenant Life Center\, Agape Room. \nLed by Kelly Freeman
URL:https://mycovenantpc.com/event/ladies-creative-club-2/2027-11-03/
ATTACH;FMTTYPE=image/png:https://mycovenantpc.com/wp-content/uploads/2025/09/Creative-Club-2025.png
END:VEVENT
BEGIN:VEVENT
DTSTART;TZID=America/New_York:20271201T093000
DTEND;TZID=America/New_York:20271201T123000
DTSTAMP:20260423T173116
CREATED:20250907T225318Z
LAST-MODIFIED:20260114T182904Z
UID:10002891-1827653400-1827664200@mycovenantpc.com
SUMMARY:Ladies Creative Club
DESCRIPTION:Come as you have time\, bring whatever project you are working on\, and enjoy a group creative space. \nGod made us with so many gifts and talents. \nCovenant Life Center\, Agape Room. \nLed by Kelly Freeman
URL:https://mycovenantpc.com/event/ladies-creative-club-2/2027-12-01/
ATTACH;FMTTYPE=image/png:https://mycovenantpc.com/wp-content/uploads/2025/09/Creative-Club-2025.png
END:VEVENT
BEGIN:VEVENT
DTSTART;TZID=America/New_York:20280105T093000
DTEND;TZID=America/New_York:20280105T123000
DTSTAMP:20260423T173116
CREATED:20250907T225318Z
LAST-MODIFIED:20260114T182904Z
UID:10002892-1830677400-1830688200@mycovenantpc.com
SUMMARY:Ladies Creative Club
DESCRIPTION:Come as you have time\, bring whatever project you are working on\, and enjoy a group creative space. \nGod made us with so many gifts and talents. \nCovenant Life Center\, Agape Room. \nLed by Kelly Freeman
URL:https://mycovenantpc.com/event/ladies-creative-club-2/2028-01-05/
ATTACH;FMTTYPE=image/png:https://mycovenantpc.com/wp-content/uploads/2025/09/Creative-Club-2025.png
END:VEVENT
BEGIN:VEVENT
DTSTART;TZID=America/New_York:20280202T093000
DTEND;TZID=America/New_York:20280202T123000
DTSTAMP:20260423T173116
CREATED:20250907T225318Z
LAST-MODIFIED:20260114T182904Z
UID:10002893-1833096600-1833107400@mycovenantpc.com
SUMMARY:Ladies Creative Club
DESCRIPTION:Come as you have time\, bring whatever project you are working on\, and enjoy a group creative space. \nGod made us with so many gifts and talents. \nCovenant Life Center\, Agape Room. \nLed by Kelly Freeman
URL:https://mycovenantpc.com/event/ladies-creative-club-2/2028-02-02/
ATTACH;FMTTYPE=image/png:https://mycovenantpc.com/wp-content/uploads/2025/09/Creative-Club-2025.png
END:VEVENT
BEGIN:VEVENT
DTSTART;TZID=America/New_York:20280301T093000
DTEND;TZID=America/New_York:20280301T123000
DTSTAMP:20260423T173116
CREATED:20250907T225318Z
LAST-MODIFIED:20260114T182904Z
UID:10002894-1835515800-1835526600@mycovenantpc.com
SUMMARY:Ladies Creative Club
DESCRIPTION:Come as you have time\, bring whatever project you are working on\, and enjoy a group creative space. \nGod made us with so many gifts and talents. \nCovenant Life Center\, Agape Room. \nLed by Kelly Freeman
URL:https://mycovenantpc.com/event/ladies-creative-club-2/2028-03-01/
ATTACH;FMTTYPE=image/png:https://mycovenantpc.com/wp-content/uploads/2025/09/Creative-Club-2025.png
END:VEVENT
BEGIN:VEVENT
DTSTART;TZID=America/New_York:20280405T093000
DTEND;TZID=America/New_York:20280405T123000
DTSTAMP:20260423T173116
CREATED:20250907T225318Z
LAST-MODIFIED:20260114T182904Z
UID:10002895-1838539800-1838550600@mycovenantpc.com
SUMMARY:Ladies Creative Club
DESCRIPTION:Come as you have time\, bring whatever project you are working on\, and enjoy a group creative space. \nGod made us with so many gifts and talents. \nCovenant Life Center\, Agape Room. \nLed by Kelly Freeman
URL:https://mycovenantpc.com/event/ladies-creative-club-2/2028-04-05/
ATTACH;FMTTYPE=image/png:https://mycovenantpc.com/wp-content/uploads/2025/09/Creative-Club-2025.png
END:VEVENT
BEGIN:VEVENT
DTSTART;TZID=America/New_York:20280503T093000
DTEND;TZID=America/New_York:20280503T123000
DTSTAMP:20260423T173116
CREATED:20250907T225318Z
LAST-MODIFIED:20260114T182904Z
UID:10002896-1840959000-1840969800@mycovenantpc.com
SUMMARY:Ladies Creative Club
DESCRIPTION:Come as you have time\, bring whatever project you are working on\, and enjoy a group creative space. \nGod made us with so many gifts and talents. \nCovenant Life Center\, Agape Room. \nLed by Kelly Freeman
URL:https://mycovenantpc.com/event/ladies-creative-club-2/2028-05-03/
ATTACH;FMTTYPE=image/png:https://mycovenantpc.com/wp-content/uploads/2025/09/Creative-Club-2025.png
END:VEVENT
BEGIN:VEVENT
DTSTART;TZID=America/New_York:20280607T093000
DTEND;TZID=America/New_York:20280607T123000
DTSTAMP:20260423T173116
CREATED:20250907T225318Z
LAST-MODIFIED:20260114T182904Z
UID:10002897-1843983000-1843993800@mycovenantpc.com
SUMMARY:Ladies Creative Club
DESCRIPTION:Come as you have time\, bring whatever project you are working on\, and enjoy a group creative space. \nGod made us with so many gifts and talents. \nCovenant Life Center\, Agape Room. \nLed by Kelly Freeman
URL:https://mycovenantpc.com/event/ladies-creative-club-2/2028-06-07/
ATTACH;FMTTYPE=image/png:https://mycovenantpc.com/wp-content/uploads/2025/09/Creative-Club-2025.png
END:VEVENT
BEGIN:VEVENT
DTSTART;TZID=America/New_York:20280705T093000
DTEND;TZID=America/New_York:20280705T123000
DTSTAMP:20260423T173116
CREATED:20250907T225318Z
LAST-MODIFIED:20260114T182904Z
UID:10002898-1846402200-1846413000@mycovenantpc.com
SUMMARY:Ladies Creative Club
DESCRIPTION:Come as you have time\, bring whatever project you are working on\, and enjoy a group creative space. \nGod made us with so many gifts and talents. \nCovenant Life Center\, Agape Room. \nLed by Kelly Freeman
URL:https://mycovenantpc.com/event/ladies-creative-club-2/2028-07-05/
ATTACH;FMTTYPE=image/png:https://mycovenantpc.com/wp-content/uploads/2025/09/Creative-Club-2025.png
END:VEVENT
BEGIN:VEVENT
DTSTART;TZID=America/New_York:20280802T093000
DTEND;TZID=America/New_York:20280802T123000
DTSTAMP:20260423T173116
CREATED:20250907T225318Z
LAST-MODIFIED:20260114T182904Z
UID:10002899-1848821400-1848832200@mycovenantpc.com
SUMMARY:Ladies Creative Club
DESCRIPTION:Come as you have time\, bring whatever project you are working on\, and enjoy a group creative space. \nGod made us with so many gifts and talents. \nCovenant Life Center\, Agape Room. \nLed by Kelly Freeman
URL:https://mycovenantpc.com/event/ladies-creative-club-2/2028-08-02/
ATTACH;FMTTYPE=image/png:https://mycovenantpc.com/wp-content/uploads/2025/09/Creative-Club-2025.png
END:VEVENT
BEGIN:VEVENT
DTSTART;TZID=America/New_York:20280906T093000
DTEND;TZID=America/New_York:20280906T123000
DTSTAMP:20260423T173116
CREATED:20250907T225318Z
LAST-MODIFIED:20260114T182904Z
UID:10002900-1851845400-1851856200@mycovenantpc.com
SUMMARY:Ladies Creative Club
DESCRIPTION:Come as you have time\, bring whatever project you are working on\, and enjoy a group creative space. \nGod made us with so many gifts and talents. \nCovenant Life Center\, Agape Room. \nLed by Kelly Freeman
URL:https://mycovenantpc.com/event/ladies-creative-club-2/2028-09-06/
ATTACH;FMTTYPE=image/png:https://mycovenantpc.com/wp-content/uploads/2025/09/Creative-Club-2025.png
END:VEVENT
BEGIN:VEVENT
DTSTART;TZID=America/New_York:20281004T093000
DTEND;TZID=America/New_York:20281004T123000
DTSTAMP:20260423T173116
CREATED:20250907T225318Z
LAST-MODIFIED:20260114T182904Z
UID:10002901-1854264600-1854275400@mycovenantpc.com
SUMMARY:Ladies Creative Club
DESCRIPTION:Come as you have time\, bring whatever project you are working on\, and enjoy a group creative space. \nGod made us with so many gifts and talents. \nCovenant Life Center\, Agape Room. \nLed by Kelly Freeman
URL:https://mycovenantpc.com/event/ladies-creative-club-2/2028-10-04/
ATTACH;FMTTYPE=image/png:https://mycovenantpc.com/wp-content/uploads/2025/09/Creative-Club-2025.png
END:VEVENT
END:VCALENDAR